BEGIN:VCALENDAR
VERSION:2.0
PRODID:-//Ayuntamiento de Mieres - ECPv5.16.1.1//NONSGML v1.0//EN
CALSCALE:GREGORIAN
METHOD:PUBLISH
X-WR-CALNAME:Ayuntamiento de Mieres
X-ORIGINAL-URL:https://www.mieres.es
X-WR-CALDESC:Eventos para Ayuntamiento de Mieres
BEGIN:VTIMEZONE
TZID:Europe/Madrid
BEGIN:DAYLIGHT
TZOFFSETFROM:+0100
TZOFFSETTO:+0200
TZNAME:CEST
DTSTART:20230326T010000
END:DAYLIGHT
BEGIN:STANDARD
TZOFFSETFROM:+0200
TZOFFSETTO:+0100
TZNAME:CET
DTSTART:20231029T010000
END:STANDARD
END:VTIMEZONE
BEGIN:VEVENT
DTSTART;TZID=Europe/Madrid:20231202T200000
DTEND;TZID=Europe/Madrid:20231202T200000
DTSTAMP:20260422T175726
CREATED:20231127T090406Z
LAST-MODIFIED:20231127T090406Z
UID:65810-1701547200-1701547200@www.mieres.es
SUMMARY:Danza: "Geometría del alma"\, de Teatro Plus
DESCRIPTION:Danza \n“Geometría del alma”\nde Teatro Plus\n\nSábado\, 2 de diciembre\, 20:00h. \nAuditoriu Teodoro Cuesta \nEntrada libre hasta completar aforo \n  \nProyecto incluido en el catalogo 2023 / Circuito de Artes Escénicas en el Principado de Asturias. ASTURIAS EN REDE. Consejería de Cultura del Principado de Asturias \n  \n\n 
URL:https://www.mieres.es/evento/danza-geometria-del-alma-de-teatro-plus/
LOCATION:Casa de Cultura Teodoro Cuesta\, Calle Manuel Llaneza\, 8\, Mieres\, Asturias\, 33600\, España
CATEGORIES:Danza
ATTACH;FMTTYPE=image/jpeg:https://www.mieres.es/wp-content/uploads/2023/11/GEOMETRIA-DEL-ALMA-mieres-scaled.jpeg
GEO:43.2502294;-5.7729571
X-APPLE-STRUCTURED-LOCATION;VALUE=URI;X-ADDRESS=Casa de Cultura Teodoro Cuesta Calle Manuel Llaneza 8 Mieres Asturias 33600 España;X-APPLE-RADIUS=500;X-TITLE=Calle Manuel Llaneza\, 8:geo:-5.7729571,43.2502294
END:VEVENT
END:VCALENDAR