BEGIN:VCALENDAR
VERSION:2.0
PRODID:-//Ayuntamiento de Mieres - ECPv5.16.1.1//NONSGML v1.0//EN
CALSCALE:GREGORIAN
METHOD:PUBLISH
X-WR-CALNAME:Ayuntamiento de Mieres
X-ORIGINAL-URL:https://www.mieres.es
X-WR-CALDESC:Eventos para Ayuntamiento de Mieres
BEGIN:VTIMEZONE
TZID:Europe/Madrid
BEGIN:DAYLIGHT
TZOFFSETFROM:+0100
TZOFFSETTO:+0200
TZNAME:CEST
DTSTART:20220327T010000
END:DAYLIGHT
BEGIN:STANDARD
TZOFFSETFROM:+0200
TZOFFSETTO:+0100
TZNAME:CET
DTSTART:20221030T010000
END:STANDARD
END:VTIMEZONE
BEGIN:VEVENT
DTSTART;TZID=Europe/Madrid:20220219T100000
DTEND;TZID=Europe/Madrid:20220219T100000
DTSTAMP:20260424T020843
CREATED:20220208T124140Z
LAST-MODIFIED:20220209T112633Z
UID:52136-1645264800-1645264800@www.mieres.es
SUMMARY:XXXIV Xornaes de Montaña de Mieres: Taller de montaña “Nudos básicos y técnicas de fortuna con cuerda”\, impartido por los guías de montaña Ángel Castro y Álvaro González
DESCRIPTION:  \nXXXIV Xornaes de Montaña de Mieres \nTaller de montaña “Nudos básicos y técnicas de fortuna con cuerda”\nimpartido por los guías de montaña Ángel Castro y Álvaro González\nAtenéu de Turón \nInscripción gratuita online a través del formulario disponible en esta misma página. \nEl plazo de inscripción comienza el miércoles 9 de febrero\, a las 10 horas. Plazas limitadas\, adjudicadas por riguroso orden de inscripción. \n\n  \nEl presente taller tiene como objetivo que los asistentes adquieran los conocimientos indispensables sobre nudos básicos en montaña y la utilización de una cuerda auxiliar para una progresión segura por terreno donde pueda darse cierta dificultad técnica en la progresión.\nDurante la primera parte del taller\, cada uno de los asistentes aprenderá a efectuar de forma correcta una serie de nudos considerados indispensables para el desarrollo de una actividad de montaña segura. Seguidamente\, el conocimiento en la ejecución de dichos nudos se pondrá en práctica desarrollando\, junto con una cuerda auxiliar\, una serie de maniobras que permitan a cualquier montañero salir airoso de situaciones con peligro que puedan producirse durante el desarrollo de la actividad deportiva en la montaña. \n  \n\nLa montaña y el deporte vuelve un año más a su tradicional cita en Mieres con las XXXIV Jornadas de Montaña que en esta edición se celebrarán del 19 al 26 de febrero con un programa completo que incluye charlas y coloquios\, así como un homenaje a Ángel Ortega\, un referente en el ámbito de los deportes de montaña en el concejo y en Asturias. Además\, también se oferta un Taller de Montaña en Turón sobre nudos y técnicas con cuerda para el que será necesario inscripción gratuita. Será precisamente este Taller\, que tendrá lugar en el Atenéu de Turón el sábado 19 de febrero a las 10 horas\, el que supondrá el punto de partida a estas Jornadas de Montaña de Mieres que volverán a convertirse un año más en espacio de divulgación\, conocimiento y encuentro para montañeros y montañeras profesionales\, personas aficionadas y amantes de la naturaleza y el deporte. \n\n\nCargando…
URL:https://www.mieres.es/evento/xxxiv-xornaes-de-montana-de-mieres-taller-de-montana-nudos-basicos-y-tecnicas-de-fortuna-con-cuerda-impartido-por-los-guias-de-montana-angel-castro-y-alvaro-gonzalez/
LOCATION:Atenéu de Turón\, Calle Centro\, 9\, 33610 Mieres\, Asturias\, Turón\, Asturias\, 33610 \, España
CATEGORIES:Deportes
ATTACH;FMTTYPE=image/jpeg:https://www.mieres.es/wp-content/uploads/2022/02/Cartel-Jornadas-de-Montana-Mieres-2022.jpg
GEO:43.2091303;-5.7416142
X-APPLE-STRUCTURED-LOCATION;VALUE=URI;X-ADDRESS=Atenéu de Turón Calle Centro 9 33610 Mieres Asturias Turón Asturias 33610  España;X-APPLE-RADIUS=500;X-TITLE=Calle Centro\, 9\, 33610 Mieres\, Asturias:geo:-5.7416142,43.2091303
END:VEVENT
END:VCALENDAR