BEGIN:VCALENDAR
VERSION:2.0
PRODID:-//Ayuntamiento de Mieres - ECPv5.16.1.1//NONSGML v1.0//EN
CALSCALE:GREGORIAN
METHOD:PUBLISH
X-WR-CALNAME:Ayuntamiento de Mieres
X-ORIGINAL-URL:https://www.mieres.es
X-WR-CALDESC:Eventos para Ayuntamiento de Mieres
BEGIN:VTIMEZONE
TZID:Europe/Madrid
BEGIN:DAYLIGHT
TZOFFSETFROM:+0100
TZOFFSETTO:+0200
TZNAME:CEST
DTSTART:20220327T010000
END:DAYLIGHT
BEGIN:STANDARD
TZOFFSETFROM:+0200
TZOFFSETTO:+0100
TZNAME:CET
DTSTART:20221030T010000
END:STANDARD
END:VTIMEZONE
BEGIN:VEVENT
DTSTART;TZID=Europe/Madrid:20220221T200000
DTEND;TZID=Europe/Madrid:20220221T200000
DTSTAMP:20260424T020804
CREATED:20220208T121226Z
LAST-MODIFIED:20220214T110414Z
UID:52126-1645473600-1645473600@www.mieres.es
SUMMARY:XXXIV Xornaes de Montaña de Mieres: Presentación de las Jornadas y Homenaje a Ángel Ortega
DESCRIPTION:  \nXXXIV Xornaes de Montaña de Mieres \nPresentación de las Jornadas y Homenaje a Ángel Fdez. Ortega\nEntrada libre hasta completar aforo. \n\n  \nÁngel Fernández Ortega nació en 1942 en Turón (Asturias). Fue minero desde 1966 a 1996\, año en que se jubiló. El montañismo es su deporte y pasión. En el año 1974 formó parte de la comisión que creó el Grupo de Montaña San Bernardo en Turón\, del que fue directivo y durante 25 años guía en todas sus salidas montañeras. En el año 1994 fue requerido por la Federación Asturiana de Montañismo para promocionar el senderismo\, sin señalizar en aquella época en Asturias. Desde entonces\, y como coordinador de senderismo de la FEMPA\, se balizaron 3.500 km de senderos en la región\, en más de 300 recorridos homologados\, que son la herramienta básica para recorrer la montaña asturiana. Además\, fue el coautor material del Decreto 59/98 de octubre\, de Ordenación del senderismo en el Principado de Asturias\, por el que se normalizó el senderismo en el Principado. \nActualmente es miembro de la junta del Parque Natural de Redes en representación del colectivo montañero\, y vocal de medioambiente de la Federación Asturiana de Montañismo. Ángel divulga este deporte en muchos foros\, revistas\, libros\, proyecciones\, prensa\, radio y televisión\, con especial dedicación a la promoción montañera también en el Proyecto Hombre. \n  \n\nLa montaña y el deporte vuelve un año más a su tradicional cita en Mieres con las XXXIV Jornadas de Montaña que en esta edición se celebrarán del 19 al 26 de febrero con un programa completo que incluye charlas y coloquios\, así como un homenaje a Ángel Ortega\, un referente en el ámbito de los deportes de montaña en el concejo y en Asturias. Además\, también se oferta un Taller de Montaña en Turón sobre nudos y técnicas con cuerda para el que será necesario inscripción gratuita. Será precisamente este Taller\, que tendrá lugar en el Atenéu de Turón el sábado 19 de febrero a las 10 horas\, el que supondrá el punto de partida a estas Jornadas de Montaña de Mieres que volverán a convertirse un año más en espacio de divulgación\, conocimiento y encuentro para montañeros y montañeras profesionales\, personas aficionadas y amantes de la naturaleza y el deporte. \n\n 
URL:https://www.mieres.es/evento/xxxiv-xornaes-de-montana-de-mieres-presentacion-de-las-jornadas-y-homenaje-a-angel-ortega/
LOCATION:Casa de Cultura Teodoro Cuesta\, Calle Manuel Llaneza\, 8\, Mieres\, Asturias\, 33600\, España
CATEGORIES:Deportes
ATTACH;FMTTYPE=image/jpeg:https://www.mieres.es/wp-content/uploads/2022/02/Cartel-Jornadas-de-Montana-Mieres-2022.jpg
GEO:43.2502294;-5.7729571
X-APPLE-STRUCTURED-LOCATION;VALUE=URI;X-ADDRESS=Casa de Cultura Teodoro Cuesta Calle Manuel Llaneza 8 Mieres Asturias 33600 España;X-APPLE-RADIUS=500;X-TITLE=Calle Manuel Llaneza\, 8:geo:-5.7729571,43.2502294
END:VEVENT
END:VCALENDAR