BEGIN:VCALENDAR
VERSION:2.0
PRODID:-//Ayuntamiento de Mieres - ECPv5.16.1.1//NONSGML v1.0//EN
CALSCALE:GREGORIAN
METHOD:PUBLISH
X-WR-CALNAME:Ayuntamiento de Mieres
X-ORIGINAL-URL:https://www.mieres.es
X-WR-CALDESC:Eventos para Ayuntamiento de Mieres
BEGIN:VTIMEZONE
TZID:Europe/Madrid
BEGIN:DAYLIGHT
TZOFFSETFROM:+0100
TZOFFSETTO:+0200
TZNAME:CEST
DTSTART:20220327T010000
END:DAYLIGHT
BEGIN:STANDARD
TZOFFSETFROM:+0200
TZOFFSETTO:+0100
TZNAME:CET
DTSTART:20221030T010000
END:STANDARD
END:VTIMEZONE
BEGIN:VEVENT
DTSTART;TZID=Europe/Madrid:20220222T200000
DTEND;TZID=Europe/Madrid:20220222T200000
DTSTAMP:20260424T020842
CREATED:20220208T114534Z
LAST-MODIFIED:20220208T115730Z
UID:52025-1645560000-1645560000@www.mieres.es
SUMMARY:XXXIV Xornaes de Montaña de Mieres: "La historia que se esconde detrás de nuestras montañas y paisajes"\, por Luna Adrados
DESCRIPTION:  \nXXXIV Xornaes de Montaña de Mieres \nLa historia que se esconde detrás de nuestras montañas y paisajes\npor Luna Adrados\n\nAuditorio Teodoro Cuesta \nEntrada libre hasta completar aforo. \n\n  \n“Haremos un viaje al pasado para ver cómo se formaron y se elevaron nuestras montañas. Veremos también cómo el agua\, el hielo\, la nieve y la gravedad han terminado de esculpir los espectaculares paisajes que disfrutamos durante nuestra actividad en la montaña. Todo ello ilustrado con gráficos e imágenes que nos enseñarán a ver el paisaje con otra mirada…” \n  \n\nLa montaña y el deporte vuelve un año más a su tradicional cita en Mieres con las XXXIV Jornadas de Montaña que en esta edición se celebrarán del 19 al 26 de febrero con un programa completo que incluye charlas y coloquios\, así como un homenaje a Ángel Ortega\, un referente en el ámbito de los deportes de montaña en el concejo y en Asturias. Además\, también se oferta un Taller de Montaña en Turón sobre nudos y técnicas con cuerda para el que será necesario inscripción gratuita. Será precisamente este Taller\, que tendrá lugar en el Atenéu de Turón el sábado 19 de febrero a las 10 horas\, el que supondrá el punto de partida a estas Jornadas de Montaña de Mieres que volverán a convertirse un año más en espacio de divulgación\, conocimiento y encuentro para montañeros y montañeras profesionales\, personas aficionadas y amantes de la naturaleza y el deporte. \n\n 
URL:https://www.mieres.es/evento/xxxiv-xornaes-de-montana-de-mieres-la-historia-que-se-esconde-detras-de-nuestras-montanas-y-paisajes-por-luna-adrados/
LOCATION:Casa de Cultura Teodoro Cuesta\, Calle Manuel Llaneza\, 8\, Mieres\, Asturias\, 33600\, España
CATEGORIES:Deportes
ATTACH;FMTTYPE=image/jpeg:https://www.mieres.es/wp-content/uploads/2022/02/Cartel-Jornadas-de-Montana-Mieres-2022.jpg
GEO:43.2502294;-5.7729571
X-APPLE-STRUCTURED-LOCATION;VALUE=URI;X-ADDRESS=Casa de Cultura Teodoro Cuesta Calle Manuel Llaneza 8 Mieres Asturias 33600 España;X-APPLE-RADIUS=500;X-TITLE=Calle Manuel Llaneza\, 8:geo:-5.7729571,43.2502294
END:VEVENT
END:VCALENDAR