BEGIN:VCALENDAR
VERSION:2.0
PRODID:-//Ayuntamiento de Mieres - ECPv5.16.1.1//NONSGML v1.0//EN
CALSCALE:GREGORIAN
METHOD:PUBLISH
X-WR-CALNAME:Ayuntamiento de Mieres
X-ORIGINAL-URL:https://www.mieres.es
X-WR-CALDESC:Eventos para Ayuntamiento de Mieres
BEGIN:VTIMEZONE
TZID:Europe/Madrid
BEGIN:DAYLIGHT
TZOFFSETFROM:+0100
TZOFFSETTO:+0200
TZNAME:CEST
DTSTART:20220327T010000
END:DAYLIGHT
BEGIN:STANDARD
TZOFFSETFROM:+0200
TZOFFSETTO:+0100
TZNAME:CET
DTSTART:20221030T010000
END:STANDARD
END:VTIMEZONE
BEGIN:VEVENT
DTSTART;TZID=Europe/Madrid:20220223T200000
DTEND;TZID=Europe/Madrid:20220223T200000
DTSTAMP:20260424T020843
CREATED:20220208T115236Z
LAST-MODIFIED:20220208T121556Z
UID:52105-1645646400-1645646400@www.mieres.es
SUMMARY:XXXIV Xornaes de Montaña de Mieres: "Guiando una Alta Ruta\, la visión de un guía y dos de sus clientes”\, por Martín Moriyón\, Víctor García y Guzmán Concejo
DESCRIPTION:  \nXXXIV Xornaes de Montaña de Mieres \nGuiando una Alta Ruta\, la visión de un guía y dos de sus clientes\npor Martín Moriyón\, Víctor García y Guzmán Concejo\n\nAuditorio Teodoro Cuesta \nEntrada libre hasta completar aforo. \n\n  \n¿Quien no conoce al Guia de Alta Montaña UIAGM Martín Moriyón Romero? De tradición montañera pronto fue llamado para ser el único Asturiano en formar parte del equipo nacional de jóvenes alpinistas y a partir de ahí su dedicación profesional al mundo de la montaña en todas sus facetas (escalada en roca\, escalada en hielo\, alpinismo\, esquí de montaña…) le han convertido en un referente dentro de su profesión. Martín hace fácil lo difícil. \nPara esta aventura cuenta con la visión de dos de sus clientes y amigos; Guzmán Concejo Martínez\, un apasionado de la montaña desde muy temprana edad y vinculado a ella de forma profesional desde hace más de 20 años y Víctor García Barcala con una trayectoria profesional también vinculada a la montaña en diferentes facetas siempre con ilusión y nuevos objetivos. \n  \n\nLa montaña y el deporte vuelve un año más a su tradicional cita en Mieres con las XXXIV Jornadas de Montaña que en esta edición se celebrarán del 19 al 26 de febrero con un programa completo que incluye charlas y coloquios\, así como un homenaje a Ángel Ortega\, un referente en el ámbito de los deportes de montaña en el concejo y en Asturias. Además\, también se oferta un Taller de Montaña en Turón sobre nudos y técnicas con cuerda para el que será necesario inscripción gratuita. Será precisamente este Taller\, que tendrá lugar en el Atenéu de Turón el sábado 19 de febrero a las 10 horas\, el que supondrá el punto de partida a estas Jornadas de Montaña de Mieres que volverán a convertirse un año más en espacio de divulgación\, conocimiento y encuentro para montañeros y montañeras profesionales\, personas aficionadas y amantes de la naturaleza y el deporte. \n\n 
URL:https://www.mieres.es/evento/xxxiv-xornaes-de-montana-de-mieres-guiando-una-alta-ruta-la-vision-de-un-guia-y-dos-de-sus-clientes-por-martin-moriyon-victor-garcia-y-guzman-concejo/
LOCATION:Casa de Cultura Teodoro Cuesta\, Calle Manuel Llaneza\, 8\, Mieres\, Asturias\, 33600\, España
CATEGORIES:Deportes
ATTACH;FMTTYPE=image/jpeg:https://www.mieres.es/wp-content/uploads/2022/02/Cartel-Jornadas-de-Montana-Mieres-2022.jpg
GEO:43.2502294;-5.7729571
X-APPLE-STRUCTURED-LOCATION;VALUE=URI;X-ADDRESS=Casa de Cultura Teodoro Cuesta Calle Manuel Llaneza 8 Mieres Asturias 33600 España;X-APPLE-RADIUS=500;X-TITLE=Calle Manuel Llaneza\, 8:geo:-5.7729571,43.2502294
END:VEVENT
END:VCALENDAR