BEGIN:VCALENDAR
VERSION:2.0
PRODID:-//Ayuntamiento de Mieres - ECPv5.16.1.1//NONSGML v1.0//EN
CALSCALE:GREGORIAN
METHOD:PUBLISH
X-WR-CALNAME:Ayuntamiento de Mieres
X-ORIGINAL-URL:https://www.mieres.es
X-WR-CALDESC:Eventos para Ayuntamiento de Mieres
BEGIN:VTIMEZONE
TZID:Europe/Madrid
BEGIN:DAYLIGHT
TZOFFSETFROM:+0100
TZOFFSETTO:+0200
TZNAME:CEST
DTSTART:20220327T010000
END:DAYLIGHT
BEGIN:STANDARD
TZOFFSETFROM:+0200
TZOFFSETTO:+0100
TZNAME:CET
DTSTART:20221030T010000
END:STANDARD
END:VTIMEZONE
BEGIN:VEVENT
DTSTART;TZID=Europe/Madrid:20220522T090000
DTEND;TZID=Europe/Madrid:20220522T090000
DTSTAMP:20260423T213659
CREATED:20220519T081601Z
LAST-MODIFIED:20220519T081601Z
UID:53734-1653210000-1653210000@www.mieres.es
SUMMARY:Trail Picu Llosorio 2022
DESCRIPTION:Carrera de montaña: \n\nTrail Picu Llosorio\n\n  \n\nPrimera edición de la carrera por montaña Trail Picu Llosorio. Dicha carrera dispondrá de dos distancias\, un Trail de 31 km en el que se ascenderá a la emblemática cumbre del Picu Llosorio situada a 1.004 me de altitud y un Speed Trail de 14 km. \nInformación e inscripciones en www.trailpicullosorio.com \n\n\n\n 
URL:https://www.mieres.es/evento/trail-picu-llosorio-2022/
LOCATION:Varios espacios\, Mieres\, Asturias\, 33600 
CATEGORIES:Deportes
ATTACH;FMTTYPE=image/jpeg:https://www.mieres.es/wp-content/uploads/2022/05/trail-llosorio-2022.jpg
GEO:43.2491037;-5.7747551
END:VEVENT
BEGIN:VEVENT
DTSTART;TZID=Europe/Madrid:20220522T160000
DTEND;TZID=Europe/Madrid:20220522T200000
DTSTAMP:20260423T213659
CREATED:20220519T141735Z
LAST-MODIFIED:20220519T142745Z
UID:53755-1653235200-1653249600@www.mieres.es
SUMMARY:Baloncesto: Final Four 2ª división masculina (3er y 4ºpuesto/final)
DESCRIPTION:Baloncesto: \nFinal Four 2ª división masculina\n  \nLos días 21 y 22 de Mayo se pone en juego el título de la 2ª división masculina autonómica de baloncesto y con ello el ansiado premio del ascenso a 1ª. \nLa F4 se disputará íntegramente en el Polideportivo Universitario de Mieres con los siguientes horarios: \n  \nSABADO 21 DE MAYO 2022 \n16:45  C.B. LA ARGAÑOSA “B” – C.D.B. AVILÉS SUR \n18:45  CONTRUCCIONES MARINO FDEZ-BVM2012-UNIV.DE OVIEDO – A.A. INMACULADA.INDIAN CAFÉ \nLos ganadores de ambas semifinales ascenderán a 1ª Autonómica Masculina. \n  \nDOMINGO 22 DE MAYO 2022 \n16:00  3º Y 4º PUESTO \n18:00  FINAL \n  \n\n 
URL:https://www.mieres.es/evento/baloncesto-final-four-2a-division-masculina-3er-y-4opuesto-final/
LOCATION:Campus Universitario de Mieres\, Calle Gonzalo Gutiérrez Quirós\, Mieres\, Asturias\, 33600
CATEGORIES:Deportes
ATTACH;FMTTYPE=image/jpeg:https://www.mieres.es/wp-content/uploads/2022/05/final-four-baloncesto-mieres-2022.jpeg
GEO:43.2415825;-5.7771595
X-APPLE-STRUCTURED-LOCATION;VALUE=URI;X-ADDRESS=Campus Universitario de Mieres Calle Gonzalo Gutiérrez Quirós Mieres Asturias 33600;X-APPLE-RADIUS=500;X-TITLE=Calle Gonzalo Gutiérrez Quirós:geo:-5.7771595,43.2415825
END:VEVENT
END:VCALENDAR