BEGIN:VCALENDAR
VERSION:2.0
PRODID:-//Ayuntamiento de Mieres - ECPv5.16.1.1//NONSGML v1.0//EN
CALSCALE:GREGORIAN
METHOD:PUBLISH
X-WR-CALNAME:Ayuntamiento de Mieres
X-ORIGINAL-URL:https://www.mieres.es
X-WR-CALDESC:Eventos para Ayuntamiento de Mieres
BEGIN:VTIMEZONE
TZID:Europe/Madrid
BEGIN:DAYLIGHT
TZOFFSETFROM:+0100
TZOFFSETTO:+0200
TZNAME:CEST
DTSTART:20220327T010000
END:DAYLIGHT
BEGIN:STANDARD
TZOFFSETFROM:+0200
TZOFFSETTO:+0100
TZNAME:CET
DTSTART:20221030T010000
END:STANDARD
END:VTIMEZONE
BEGIN:VEVENT
DTSTART;TZID=Europe/Madrid:20220612T090000
DTEND;TZID=Europe/Madrid:20220612T090000
DTSTAMP:20260423T201426
CREATED:20220525T125010Z
LAST-MODIFIED:20220525T125010Z
UID:53818-1655024400-1655024400@www.mieres.es
SUMMARY:1er Desafío del Carbón Mountain Bike Marathon
DESCRIPTION:BTT: \n\n1er Desafío del Carbón Mountain Bike Marathon\n\nCampeonato de Asturias \n\n  \nInformación e inscripciones en https://inscripciones.empa-t.com/inscripcion/i-desafio-del-carbon-btt/inscripcion_datos/?lang=es \n\n\n\n 
URL:https://www.mieres.es/evento/1er-desafio-del-carbon-mountain-bike-marathon/
LOCATION:Varios espacios\, Mieres\, Asturias\, 33600 
CATEGORIES:Deportes
ATTACH;FMTTYPE=image/jpeg:https://www.mieres.es/wp-content/uploads/2022/05/CartelFinaldeVerdad-scaled.jpg
GEO:43.2491037;-5.7747551
END:VEVENT
END:VCALENDAR