BEGIN:VCALENDAR
VERSION:2.0
PRODID:-//Ayuntamiento de Mieres - ECPv5.16.1.1//NONSGML v1.0//EN
CALSCALE:GREGORIAN
METHOD:PUBLISH
X-WR-CALNAME:Ayuntamiento de Mieres
X-ORIGINAL-URL:https://www.mieres.es
X-WR-CALDESC:Eventos para Ayuntamiento de Mieres
BEGIN:VTIMEZONE
TZID:Europe/Madrid
BEGIN:DAYLIGHT
TZOFFSETFROM:+0100
TZOFFSETTO:+0200
TZNAME:CEST
DTSTART:20220327T010000
END:DAYLIGHT
BEGIN:STANDARD
TZOFFSETFROM:+0200
TZOFFSETTO:+0100
TZNAME:CET
DTSTART:20221030T010000
END:STANDARD
END:VTIMEZONE
BEGIN:VEVENT
DTSTART;VALUE=DATE:20220924
DTEND;VALUE=DATE:20220925
DTSTAMP:20260423T154510
CREATED:20220922T114232Z
LAST-MODIFIED:20220922T114232Z
UID:59006-1663977600-1664063999@www.mieres.es
SUMMARY:Hockey: Torneo de los Mártires. Club Patín Mieres (23/25SET)
DESCRIPTION:HOCKEY SOBRE PATINES \nTORNEO DE LOS MÁRTIRES\nClub Patín Mieres\nPabellón Visiola Rollán\ndel 23 al 25 de septiembre \n\n  \nEquipos participantes\, por categorías: \nBENJAMÍN\nCorredoria\nCentro\nCP Mieres \nALEVÍN \nJolaseta\nRoller\nCP Mieres\nCorredoria \nFEM SUB 13 \nAlameda\nCentro\nCP Mieres \nINFANTIL \nOporto\nJolaseta\nAlameda\nCP Mieres \nJUVENIL\nOporto\nJolaseta\nAlameda\nCP Mieres \nSENIOR \nAreces\nRoller\nCP Mieres \nCALENDARIO DE COMPETICIÓN:\n \n\n\n 
URL:https://www.mieres.es/evento/hockey-torneo-de-los-martires-club-patin-mieres-23-25set-2/
LOCATION:Pabellón Visiola Rollán\, Calle Llanes s/n\, Mieres\, Asturias\, 33600\, España
CATEGORIES:Deportes
ATTACH;FMTTYPE=image/png:https://www.mieres.es/wp-content/uploads/2022/09/torneo-martires-2022-culb-patin-mieres.png
GEO:43.2576447;-5.7801748
X-APPLE-STRUCTURED-LOCATION;VALUE=URI;X-ADDRESS=Pabellón Visiola Rollán Calle Llanes s/n Mieres Asturias 33600 España;X-APPLE-RADIUS=500;X-TITLE=Calle Llanes s/n:geo:-5.7801748,43.2576447
END:VEVENT
END:VCALENDAR