BEGIN:VCALENDAR
VERSION:2.0
PRODID:-//Ayuntamiento de Mieres - ECPv5.16.1.1//NONSGML v1.0//EN
CALSCALE:GREGORIAN
METHOD:PUBLISH
X-WR-CALNAME:Ayuntamiento de Mieres
X-ORIGINAL-URL:https://www.mieres.es
X-WR-CALDESC:Eventos para Ayuntamiento de Mieres
BEGIN:VTIMEZONE
TZID:Europe/Madrid
BEGIN:DAYLIGHT
TZOFFSETFROM:+0100
TZOFFSETTO:+0200
TZNAME:CEST
DTSTART:20220327T010000
END:DAYLIGHT
BEGIN:STANDARD
TZOFFSETFROM:+0200
TZOFFSETTO:+0100
TZNAME:CET
DTSTART:20221030T010000
END:STANDARD
END:VTIMEZONE
BEGIN:VEVENT
DTSTART;TZID=Europe/Madrid:20221014T201500
DTEND;TZID=Europe/Madrid:20221014T201500
DTSTAMP:20260423T140220
CREATED:20221006T123558Z
LAST-MODIFIED:20221006T123558Z
UID:59257-1665778500-1665778500@www.mieres.es
SUMMARY:XVII Rallye Montaña Central. Salida protocolaria
DESCRIPTION:  \nXVII RALLYE MONTAÑA CENTRAL \nSalida protocolaria y presentación de participantes\nParque Xovellanos\nMieres\, 20:15 h \n  \n\nLa Escudería Turón Arrass organiza una nueva edición de este Rallye Montaña Central\, una de las principales citas automovilísticas asturianas\, puntuable para el Campeonato de Asturias y para los siguientes campeonatos\, copas y trofeos: \n• Campeonato de Asturias de Rallyes\n• Volant FAPA\n• LVN Cup\n• Copa Propulsión Aramo Rozas\n• Homologastur Turbo Cup \n  \n  \nEl Rallye se dividirá en cuatro secciones con 8 tramos y un recorrido total de 244\,93 km. de los que 76\,94 km. serán de tramos cronometrados. \nTramos diferentes: 4 Tramos \nTotales: 8 \nParques de asistencia: 3 \nReagrupamientos: 3 \nLos tramos se cerraran al tráfico al menos 1 hora antes del paso del primer participante. \nPueden consultar los horarios previstos para cada uno de los tramos cronometrados\, completar información y realizar un seguimiento en directo\, on line\, de los tiempos y clasificaciones del Rallye a través de la web de Turón Arras (www.rallyemc.com). \n 
URL:https://www.mieres.es/evento/xvii-rallye-montana-central-salida-protocolaria/
LOCATION:Parque Xovellanos\, Parque Xovellanos\, Mieres\, Asturias\, 33600 
CATEGORIES:Deportes
ATTACH;FMTTYPE=image/jpeg:https://www.mieres.es/wp-content/uploads/2022/09/rallye-montana-central-2022.jpg
ORGANIZER;CN="Escuder%C3%ADa%20Tur%C3%B3n%20Arrass":MAILTO:rallyemcentral@gmail.com
GEO:43.2517322;-5.7764018
X-APPLE-STRUCTURED-LOCATION;VALUE=URI;X-ADDRESS=Parque Xovellanos Parque Xovellanos Mieres Asturias 33600;X-APPLE-RADIUS=500;X-TITLE=Parque Xovellanos:geo:-5.7764018,43.2517322
END:VEVENT
END:VCALENDAR