BEGIN:VCALENDAR
VERSION:2.0
PRODID:-//Ayuntamiento de Mieres - ECPv5.16.1.1//NONSGML v1.0//EN
CALSCALE:GREGORIAN
METHOD:PUBLISH
X-WR-CALNAME:Ayuntamiento de Mieres
X-ORIGINAL-URL:https://www.mieres.es
X-WR-CALDESC:Eventos para Ayuntamiento de Mieres
BEGIN:VTIMEZONE
TZID:Europe/Madrid
BEGIN:DAYLIGHT
TZOFFSETFROM:+0100
TZOFFSETTO:+0200
TZNAME:CEST
DTSTART:20220327T010000
END:DAYLIGHT
BEGIN:STANDARD
TZOFFSETFROM:+0200
TZOFFSETTO:+0100
TZNAME:CET
DTSTART:20221030T010000
END:STANDARD
END:VTIMEZONE
BEGIN:VEVENT
DTSTART;TZID=Europe/Madrid:20221211T093000
DTEND;TZID=Europe/Madrid:20221211T093000
DTSTAMP:20260423T105042
CREATED:20221201T102031Z
LAST-MODIFIED:20221209T102648Z
UID:60118-1670751000-1670751000@www.mieres.es
SUMMARY:I Torneo "Territorio Minero" de Baloncesto Infantil/Cadete de selecciones autonómicas (masculino y femenino)
DESCRIPTION:Baloncesto: \nI TORNEO TERRITORIO MINERO\nBaloncesto Infantil/Cadete de selecciones autonómicas (masculino y femenino)\nJORNADA 2/3\n(11/diciembre/2022)\nJornada 2 (matinal) \n\nPOL VISIOLA ROLLAN 9:30 CM CANTABRIA-NAVARRA\nPOL. UNIVERSITARIO 9:30 CF CANTABRIA-NAVARRA\nPOL. OÑON 9:30 IM ASTURIAS-RIOJA\nRIOTURBIO 9:30 IF ASTURIAS-RIOJA\nPOL VISIOLA ROLLAN 11:30 CM ASTURIAS-RIOJA\nPOL. UNIVERSITARIO 11:30 CF ASTURIAS-RIOJA\nPOL. OÑON 11:30 IM CANTABRIA-NAVARRA\nRIOTURBIO 11:30 IF CANTABRIA-NAVARRA\n\nJornada 3 (tarde) \n\nPOL VISIOLA ROLLAN 16:00 IM RIOJA-NAVARRA\nPOL. UNIVERSITARIO 16:00 IF RIOJA-NAVARRA\nPOL. OÑON 16:00 CM RIOJA-NAVARRA\nRIOTURBIO 16:00 CF RIOJA-NAVARRA\nPOL VISIOLA ROLLAN 18:00 IM ASTURIAS-CANTABRIA\nPOL. UNIVERSITARIO 18:00 IF ASTURIAS-CANTABRIA\nPOL. OÑON 18:00 CM ASTURIAS-CANTABRIA\nRIOTURBIO 18:00 CF ASTURIAS-CANTABRIA\n\n  \n\n \n\n 
URL:https://www.mieres.es/evento/i-torneo-territorio-minero-de-baloncesto-infantil-cadete-de-selecciones-autonomicas-masculino-y-femenino-2/
LOCATION:Varios espacios\, Mieres\, Asturias\, 33600 
CATEGORIES:Deportes
ATTACH;FMTTYPE=image/jpeg:https://www.mieres.es/wp-content/uploads/2022/12/territorio-minero-torneo-baloncesto-mieres-1200.jpg
GEO:43.2491037;-5.7747551
END:VEVENT
BEGIN:VEVENT
DTSTART;TZID=Europe/Madrid:20221211T161500
DTEND;TZID=Europe/Madrid:20221211T161500
DTSTAMP:20260423T105042
CREATED:20221130T110137Z
LAST-MODIFIED:20221130T110137Z
UID:60092-1670775300-1670775300@www.mieres.es
SUMMARY:Ajedrez: XXVI Torneo de Navidad. IX Memorial Isidoro de la Fuente
DESCRIPTION:  \nAjedrez\nXXVI Torneo de Navidad\nIX Memorial Isidoro de la Fuente\n11 y 18 de diciembre. 16.15h.\nMieres Centru Cultural
URL:https://www.mieres.es/evento/ajedrez-xxvi-torneo-de-navidad-ix-memorial-isidoro-de-la-fuente/
LOCATION:Mieres Centru Cultural\, Calle Jerónimo Ibrán\, 10\, Mieres\, Asturias\, 33600
CATEGORIES:Deportes
ATTACH;FMTTYPE=image/jpeg:https://www.mieres.es/wp-content/uploads/2022/11/torneo-navidad-mieres-2022.jpeg
END:VEVENT
END:VCALENDAR