BEGIN:VCALENDAR
VERSION:2.0
PRODID:-//Ayuntamiento de Mieres - ECPv5.16.1.1//NONSGML v1.0//EN
CALSCALE:GREGORIAN
METHOD:PUBLISH
X-WR-CALNAME:Ayuntamiento de Mieres
X-ORIGINAL-URL:https://www.mieres.es
X-WR-CALDESC:Eventos para Ayuntamiento de Mieres
BEGIN:VTIMEZONE
TZID:Europe/Madrid
BEGIN:DAYLIGHT
TZOFFSETFROM:+0100
TZOFFSETTO:+0200
TZNAME:CEST
DTSTART:20220327T010000
END:DAYLIGHT
BEGIN:STANDARD
TZOFFSETFROM:+0200
TZOFFSETTO:+0100
TZNAME:CET
DTSTART:20221030T010000
END:STANDARD
END:VTIMEZONE
BEGIN:VEVENT
DTSTART;TZID=Europe/Madrid:20221218T161500
DTEND;TZID=Europe/Madrid:20221218T161500
DTSTAMP:20260423T104953
CREATED:20221130T110232Z
LAST-MODIFIED:20221130T110232Z
UID:60097-1671380100-1671380100@www.mieres.es
SUMMARY:Ajedrez: XXVI Torneo de Navidad. IX Memorial Isidoro de la Fuente
DESCRIPTION:  \nAjedrez\nXXVI Torneo de Navidad\nIX Memorial Isidoro de la Fuente\n11 y 18 de diciembre. 16.15h.\nMieres Centru Cultural
URL:https://www.mieres.es/evento/ajedrez-xxvi-torneo-de-navidad-ix-memorial-isidoro-de-la-fuente-2/
LOCATION:Mieres Centru Cultural\, Calle Jerónimo Ibrán\, 10\, Mieres\, Asturias\, 33600
CATEGORIES:Deportes
ATTACH;FMTTYPE=image/jpeg:https://www.mieres.es/wp-content/uploads/2022/11/torneo-navidad-mieres-2022.jpeg
END:VEVENT
END:VCALENDAR