BEGIN:VCALENDAR
VERSION:2.0
PRODID:-//Ayuntamiento de Mieres - ECPv5.16.1.1//NONSGML v1.0//EN
CALSCALE:GREGORIAN
METHOD:PUBLISH
X-WR-CALNAME:Ayuntamiento de Mieres
X-ORIGINAL-URL:https://www.mieres.es
X-WR-CALDESC:Eventos para Ayuntamiento de Mieres
BEGIN:VTIMEZONE
TZID:Europe/Madrid
BEGIN:DAYLIGHT
TZOFFSETFROM:+0100
TZOFFSETTO:+0200
TZNAME:CEST
DTSTART:20230326T010000
END:DAYLIGHT
BEGIN:STANDARD
TZOFFSETFROM:+0200
TZOFFSETTO:+0100
TZNAME:CET
DTSTART:20231029T010000
END:STANDARD
END:VTIMEZONE
BEGIN:VEVENT
DTSTART;TZID=Europe/Madrid:20230212T120000
DTEND;TZID=Europe/Madrid:20230212T120000
DTSTAMP:20260423T074217
CREATED:20230119T122222Z
LAST-MODIFIED:20230119T122222Z
UID:60944-1676203200-1676203200@www.mieres.es
SUMMARY:V Carrera Galbán  ¡Corre contra el cáncer infantil!
DESCRIPTION:La Asociación GALBÁN\, familias de Niños y Adolescentes con Cáncer del Principado de Asturias\, presenta la quinta edición de la Carrera Galbán. Como viene siendo habitual\, la carrera se celebrará el domingo más cercano al Día Internacional del niño con Cáncer (15 de febrero)\, por lo que este año 2023 será el Domingo 12\, celebrándose a un mismo tiempo en decenas de localidades asturianas que se han sumado a esta iniciativa\, entre ellas\, Mieres: \n  \nDATOS DE LA CARRERA \n• Inscripción: 5 Euros.\nCon cada inscripción se entregará:\n– Bolsa/mochila.\n– Camiseta.\n– Folleto informativo. \nInscripciones a través de la web www.asociaciongalban.org \nInscripciones presenciales en la Casa de Cultura Teodoro Cuesta\, del lunes 23 al jueves 26 en horario de 10:30 a 12:30. \n  \nRecogida de camisetas: El día antes\, de 11 a 14 horas y de 17 a 19 horas en la c/La Vega –a la altura del parque– o\, en caso de lluvia\, en los soportales del Consistorio. \n• Distancia: 2\,5 Kilómetros. \n• Hora: 12:00 \n• Salida y Meta: Plaza del Ayuntamiento \n• Recorrido: Salida de la Plaza de la Constitución\, Ramón y Cajal\, Fray Paulino\, Bazuelo\, giro derecha por calle posterior de la Universidad\, Rector Julio Rodríguez\, Gonzalo Gutiérrez\, Valeriano Miranda\, Leopoldo Alas Clarín\, Teodoro Cuesta y Meta nuevamente en Plaza de la Constitución. 2 vueltas al citado recorrido. \n100% BENÉFICA\nLos beneficios obtenidos se destinarán a la investigación en el campo de la oncología infantil y a necesidades del HUCA (Hospital Universitario Central de Asturias) para mejorar la atención sanitaria y la calidad de vida de nuestros niños y adolescentes. \n 
URL:https://www.mieres.es/evento/v-carrera-galban-corre-contra-el-cancer-infantil/
LOCATION:Plaza del Ayuntamiento\, Plaza de la Constitución s/n\, Mieres\, 33600
CATEGORIES:Deportes,Salud
ATTACH;FMTTYPE=image/jpeg:https://www.mieres.es/wp-content/uploads/2023/01/carrera-galvan-2023.jpg
GEO:43.2489616;-5.7726903
X-APPLE-STRUCTURED-LOCATION;VALUE=URI;X-ADDRESS=Plaza del Ayuntamiento Plaza de la Constitución s/n Mieres 33600;X-APPLE-RADIUS=500;X-TITLE=Plaza de la Constitución s/n:geo:-5.7726903,43.2489616
END:VEVENT
END:VCALENDAR