BEGIN:VCALENDAR
VERSION:2.0
PRODID:-//Ayuntamiento de Mieres - ECPv5.16.1.1//NONSGML v1.0//EN
CALSCALE:GREGORIAN
METHOD:PUBLISH
X-WR-CALNAME:Ayuntamiento de Mieres
X-ORIGINAL-URL:https://www.mieres.es
X-WR-CALDESC:Eventos para Ayuntamiento de Mieres
BEGIN:VTIMEZONE
TZID:Europe/Madrid
BEGIN:DAYLIGHT
TZOFFSETFROM:+0100
TZOFFSETTO:+0200
TZNAME:CEST
DTSTART:20230326T010000
END:DAYLIGHT
BEGIN:STANDARD
TZOFFSETFROM:+0200
TZOFFSETTO:+0100
TZNAME:CET
DTSTART:20231029T010000
END:STANDARD
END:VTIMEZONE
BEGIN:VEVENT
DTSTART;VALUE=DATE:20230304
DTEND;VALUE=DATE:20230305
DTSTAMP:20260423T061735
CREATED:20250306T082758Z
LAST-MODIFIED:20250306T102441Z
UID:73104-1677888000-1677974399@www.mieres.es
SUMMARY:Agenda deportiva fin de semana (8/9MAR2025)
DESCRIPTION:  \n  \n \n\n\n\n08/03/2025\n11:00\nPOLIDEPORTIVO DE FIGAREDO\nINFANTIL FEMENINO\nVOLEY CREIMI – CAUDAL\n\n\n08/03/2025\n17:00\nPOLIDEPORTIVO DE FIGAREDO\nCADETE FEMENINO\nVOLEY CREIMI  – CAUDAL\n\n\n08/03/2025\n18:30\nPOLIDEPORTIVO DE FIGAREDO\nSENIOR FEMENINO\nVOLEY CREIMI – CAUDAL\n\n\n09/03/2025\n11:00\nPOLIDEPORTIVO DE FIGAREDO\nCADEETE FEMENINO\nVOLEY CREIMI – CAUDAL\n\n\n\n \n\n\n\n08/03/2025\n11:00\nPOLIDEPORTIVO DE FIGAREDO\nINFANTIL FEMENINO\nVOLEY CREIMI – CAUDAL\n\n\n08/03/2025\n17:00\nPOLIDEPORTIVO DE FIGAREDO\nCADETE FEMENINO\nVOLEY CREIMI  – CAUDAL\n\n\n08/03/2025\n18:30\nPOLIDEPORTIVO DE FIGAREDO\nSENIOR FEMENINO\nVOLEY CREIMI – CAUDAL\n\n\n09/03/2025\n11:00\nPOLIDEPORTIVO DE FIGAREDO\nCADEETE FEMENINO\nVOLEY CREIMI – CAUDAL\n\n\n\n \n 
URL:https://www.mieres.es/evento/agenda-deportiva-fin-de-semana-8-9mar2025/
LOCATION:Varias ubicaciones
CATEGORIES:Deportes
ATTACH;FMTTYPE=image/jpeg:https://www.mieres.es/wp-content/uploads/2025/03/agenda-deportiva-web.jpg
END:VEVENT
BEGIN:VEVENT
DTSTART;TZID=Europe/Madrid:20230304T100000
DTEND;TZID=Europe/Madrid:20230304T100000
DTSTAMP:20260423T061735
CREATED:20230215T141843Z
LAST-MODIFIED:20230215T141843Z
UID:61370-1677924000-1677924000@www.mieres.es
SUMMARY:XXXV Xornaes de Montaña de Mieres: Curso de iniciación a la escalada
DESCRIPTION:  \nXXXV Xornaes de Montaña de Mieres \nCurso de iniciación a la escalada\n\nPolideportivo de Turón\n \nCurso gratuito. Plazas limitadas\, asignadas por riguroso orden de inscripción. \nCorreo para inscripciones: deportesmieres@ayto-mieres.es (es necesario aportar nombre\, apellidos y teléfono de contacto) \n\n  \nLa montaña y el deporte vuelve un año más a su tradicional cita en Mieres con las XXXV Jornadas de Montaña que en esta edición se celebrarán a lo largo de la primera semana de febrero con un programa completo que incluye proyecciones\, charlas y coloquios\,  junto con nuevas actividades como la raquetada en Valgrande-Pajares\, los cursos de iniciación a la escalada y de rappel\, o la salida de montaña por la zona alta del Valle de Turón\, de la amano del grupo san Bernardo. Las Jornadas de Montaña de Mieres volverán a convertirse un año más en espacio de divulgación\, conocimiento y encuentro para montañeros y montañeras profesionales\, personas aficionadas y amantes de la naturaleza y el deporte. \n 
URL:https://www.mieres.es/evento/xxxv-xornaes-de-montana-de-mieres-curso-de-iniciacion-a-la-escalada/
LOCATION:Polideportivo de Turón\, Plaza El Parque\, La Veguina\, Turón\, Asturias\, 33610
CATEGORIES:Deportes
ATTACH;FMTTYPE=image/jpeg:https://www.mieres.es/wp-content/uploads/2023/02/Cartel-jornadas-Montana-2023.jpg
END:VEVENT
BEGIN:VEVENT
DTSTART;TZID=Europe/Madrid:20230304T163000
DTEND;TZID=Europe/Madrid:20230304T163000
DTSTAMP:20260423T061735
CREATED:20230220T085228Z
LAST-MODIFIED:20230220T085228Z
UID:61394-1677947400-1677947400@www.mieres.es
SUMMARY:Campeonato de Asturias de Ajedrez por equipos
DESCRIPTION:Ajedrez \nCampeonato de Asturias de Ajedrez por equipos\n18\, 25 de febrero;\n4\, 11\, 18\, 25 de marzo;\n1\, 15\, 22 y 29 de abril.\nA partir de las 16.30h. \nMieres Centru Cultural \n\nCampeonato de Asturias por Equipos \nEl ritmo de juego será de 90 minutos de tiempo total más treinta segundos de incremento por jugada efectuada\, por jugador y durante toda la partida.\nLas partidas darán comienzo a las 16:30 horas y se perderá por incomparecencia 30 minutos después del comienzo de las partidas. \nLa competición se segmentará en 5 divisiones: \n\nDivisión de Honor: 8 equipos\nPrimera División: 8 equipos\nDivisión de Honor de Filiales: 8 equipos\nPrimera División de Filiales: 8 equipos\nSegunda División: todos los equipos que libremente deseen inscribirse\, independientemente del número de equipos de cada club en esta división.\n\nEl Reglamento del Campeonato de Asturias por Equipos se encuentra dentro del Reglamento General de Competiciones y puede consultarse en la página web: https://www.ajedrezastur.es/reglamentos/ \n Más información\nToda la información del torneo se publicará en la página web:\nhttps://www.ajedrezastur.es/campeonato-de-asturias-por-equipos \n\n 
URL:https://www.mieres.es/evento/campeonato-de-asturias-de-ajedrez-por-equipos/2023-03-04/
LOCATION:Mieres Centru Cultural\, Calle Jerónimo Ibrán\, 10\, Mieres\, Asturias\, 33600
CATEGORIES:Deportes
ATTACH;FMTTYPE=image/jpeg:https://www.mieres.es/wp-content/uploads/2023/02/ajedrez-asturias-equipos-mieres.jpeg
END:VEVENT
END:VCALENDAR