BEGIN:VCALENDAR
VERSION:2.0
PRODID:-//Ayuntamiento de Mieres - ECPv5.16.1.1//NONSGML v1.0//EN
CALSCALE:GREGORIAN
METHOD:PUBLISH
X-WR-CALNAME:Ayuntamiento de Mieres
X-ORIGINAL-URL:https://www.mieres.es
X-WR-CALDESC:Eventos para Ayuntamiento de Mieres
BEGIN:VTIMEZONE
TZID:Europe/Madrid
BEGIN:DAYLIGHT
TZOFFSETFROM:+0100
TZOFFSETTO:+0200
TZNAME:CEST
DTSTART:20230326T010000
END:DAYLIGHT
BEGIN:STANDARD
TZOFFSETFROM:+0200
TZOFFSETTO:+0100
TZNAME:CET
DTSTART:20231029T010000
END:STANDARD
END:VTIMEZONE
BEGIN:VEVENT
DTSTART;TZID=Europe/Madrid:20230420T200000
DTEND;TZID=Europe/Madrid:20230420T200000
DTSTAMP:20260423T045558
CREATED:20230420T071727Z
LAST-MODIFIED:20230420T071727Z
UID:62365-1682020800-1682020800@www.mieres.es
SUMMARY:Mesa redonda: Educación vial para usuarios de la bicicleta
DESCRIPTION:Mesa redonda \nEducación vial para usuarios de la bicicleta\n \nCon la participación de: \n\nJosé Manuel Fanjul\nLorenzo Ablanedo\nCandela García\nJuan Alfredo Fernández\n\nPresenta: Mar Montero \nJueves\, 20 de abril de 2023. 20:00h. \nSalón de actos de la Casa de Cultura Teodoro Cuesta\nEntrada libre hasta completar aforo \n\n 
URL:https://www.mieres.es/evento/mesa-redonda-educacion-vial-para-usuarios-de-la-bicicleta/
LOCATION:Casa de Cultura Teodoro Cuesta\, Calle Manuel Llaneza\, 8\, Mieres\, Asturias\, 33600\, España
CATEGORIES:Charlas-coloquio,Deportes
ATTACH;FMTTYPE=image/jpeg:https://www.mieres.es/wp-content/uploads/2023/04/Charla-educacion-vial-bicicletas.jpeg
GEO:43.2502294;-5.7729571
X-APPLE-STRUCTURED-LOCATION;VALUE=URI;X-ADDRESS=Casa de Cultura Teodoro Cuesta Calle Manuel Llaneza 8 Mieres Asturias 33600 España;X-APPLE-RADIUS=500;X-TITLE=Calle Manuel Llaneza\, 8:geo:-5.7729571,43.2502294
END:VEVENT
END:VCALENDAR