BEGIN:VCALENDAR
VERSION:2.0
PRODID:-//Ayuntamiento de Mieres - ECPv5.16.1.1//NONSGML v1.0//EN
CALSCALE:GREGORIAN
METHOD:PUBLISH
X-WR-CALNAME:Ayuntamiento de Mieres
X-ORIGINAL-URL:https://www.mieres.es
X-WR-CALDESC:Eventos para Ayuntamiento de Mieres
BEGIN:VTIMEZONE
TZID:Europe/Madrid
BEGIN:DAYLIGHT
TZOFFSETFROM:+0100
TZOFFSETTO:+0200
TZNAME:CEST
DTSTART:20230326T010000
END:DAYLIGHT
BEGIN:STANDARD
TZOFFSETFROM:+0200
TZOFFSETTO:+0100
TZNAME:CET
DTSTART:20231029T010000
END:STANDARD
END:VTIMEZONE
BEGIN:VEVENT
DTSTART;TZID=Europe/Madrid:20230521T090000
DTEND;TZID=Europe/Madrid:20230521T090000
DTSTAMP:20260423T034049
CREATED:20230503T113520Z
LAST-MODIFIED:20230516T080352Z
UID:62742-1684659600-1684659600@www.mieres.es
SUMMARY:Trail Picu Llosorio 2023
DESCRIPTION:Carrera de montaña: \n\nTrail Picu Llosorio\n\n  \n\nEl próximo 21 de Mayo de 2023 se celebrará en Mieres del Camín\, la segunda edición de la carrera por montaña Trail Picu Llosorio. Dicha carrera dispondrá de dos distancias\, un Trail de 31 km en el que se ascenderá a la emblemática cumbre del Picu Llosorio situada a 1.004 me de altitud y un Speed Trail de 14 km. \nTendrá salida y meta en el Parque Xovellanos\, pasando también por las calles Aller y Manuel Llaneza hasta el Puente de La Perra cogiendo luego dirección Norte y dirección Siana. Todo el recorrido estará debidamente señalizado. \nPedimos se tengan en cuenta la señalización y las directrices que se marquen desde la policía y organización de los eventos. \n  \nInformación e inscripciones en www.trailpicullosorio.com \n\n\n\n 
URL:https://www.mieres.es/evento/trail-picu-llosorio-2023/
LOCATION:Varios espacios\, Mieres\, Asturias\, 33600 
CATEGORIES:Deportes
ATTACH;FMTTYPE=image/jpeg:https://www.mieres.es/wp-content/uploads/2023/05/TRAIL-PICU-LLOSORIO-2023.jpg
GEO:43.2491037;-5.7747551
END:VEVENT
END:VCALENDAR