BEGIN:VCALENDAR
VERSION:2.0
PRODID:-//Ayuntamiento de Mieres - ECPv5.16.1.1//NONSGML v1.0//EN
CALSCALE:GREGORIAN
METHOD:PUBLISH
X-WR-CALNAME:Ayuntamiento de Mieres
X-ORIGINAL-URL:https://www.mieres.es
X-WR-CALDESC:Eventos para Ayuntamiento de Mieres
BEGIN:VTIMEZONE
TZID:Europe/Madrid
BEGIN:DAYLIGHT
TZOFFSETFROM:+0100
TZOFFSETTO:+0200
TZNAME:CEST
DTSTART:20230326T010000
END:DAYLIGHT
BEGIN:STANDARD
TZOFFSETFROM:+0200
TZOFFSETTO:+0100
TZNAME:CET
DTSTART:20231029T010000
END:STANDARD
END:VTIMEZONE
BEGIN:VEVENT
DTSTART;VALUE=DATE:20230529
DTEND;VALUE=DATE:20230530
DTSTAMP:20260423T021733
CREATED:20230525T092032Z
LAST-MODIFIED:20230525T092032Z
UID:63163-1685318400-1685404799@www.mieres.es
SUMMARY:V Torneo Benjamín de Fútbol 8 Caudal Deportivo
DESCRIPTION:Fútbol  \nV Torneo Benjamín de Fútbol 8\nCaudal Deportivo\nCampo de Fútbol Eliseo Gutiérrez\ndel 29 de mayo al 3 de junio \n\n 
URL:https://www.mieres.es/evento/v-torneo-benjamin-de-futbol-8-caudal-deportivo/2023-05-29/
LOCATION:Campo Eliseo Gutiérrez (Antiguo Mundial’82)\, C/ Villaviciosa\, Mieres\, Asturias\, 33600\, España
CATEGORIES:Deportes
ATTACH;FMTTYPE=image/jpeg:https://www.mieres.es/wp-content/uploads/2023/05/2023-V-Torneo-Benjamin-CD-scaled.jpg
ORGANIZER;CN="Caudal%20Deportivo":MAILTO:caudal@caudaldeportivo.es
END:VEVENT
END:VCALENDAR