BEGIN:VCALENDAR
VERSION:2.0
PRODID:-//Ayuntamiento de Mieres - ECPv5.16.1.1//NONSGML v1.0//EN
CALSCALE:GREGORIAN
METHOD:PUBLISH
X-WR-CALNAME:Ayuntamiento de Mieres
X-ORIGINAL-URL:https://www.mieres.es
X-WR-CALDESC:Eventos para Ayuntamiento de Mieres
BEGIN:VTIMEZONE
TZID:Europe/Madrid
BEGIN:DAYLIGHT
TZOFFSETFROM:+0100
TZOFFSETTO:+0200
TZNAME:CEST
DTSTART:20230326T010000
END:DAYLIGHT
BEGIN:STANDARD
TZOFFSETFROM:+0200
TZOFFSETTO:+0100
TZNAME:CET
DTSTART:20231029T010000
END:STANDARD
END:VTIMEZONE
BEGIN:VEVENT
DTSTART;VALUE=DATE:20230603
DTEND;VALUE=DATE:20230604
DTSTAMP:20260423T021806
CREATED:20230523T095824Z
LAST-MODIFIED:20230523T095824Z
UID:63081-1685750400-1685836799@www.mieres.es
SUMMARY:Campeonato de Asturias de Tenis de Mesa Veteranos
DESCRIPTION:Tenis de Mesa \nCampeonato de Asturias\nVeteranos\nPolideportivo de Santa Cruz de Mieres \n3 de junio de 2023 \nHorario matinal\, a partir de las 9:20h: Campeonato por equipos masculino y femenino\nPo la tarde\, a partir de las 15:20h: Campeonato individual masculino y femenino\, y campeonatos de dobles masculino\, femenino y mixto. \n\n 
URL:https://www.mieres.es/evento/campeonato-de-asturias-de-tenis-de-mesa-veteranos/
LOCATION:Polideportivo de Santa Cruz\, Caserio la Barraca\, 7\, 33612 Santa Cruz\, Asturias\, Asturias\, 33612
CATEGORIES:Deportes
ATTACH;FMTTYPE=image/jpeg:https://www.mieres.es/wp-content/uploads/2023/05/CARTEL-TENIS-DE-MESA-scaled.jpg
GEO:43.19465;-5.7756299
X-APPLE-STRUCTURED-LOCATION;VALUE=URI;X-ADDRESS=Polideportivo de Santa Cruz Caserio la Barraca 7 33612 Santa Cruz Asturias Asturias 33612;X-APPLE-RADIUS=500;X-TITLE=Caserio la Barraca\, 7\, 33612 Santa Cruz\, Asturias:geo:-5.7756299,43.19465
END:VEVENT
BEGIN:VEVENT
DTSTART;VALUE=DATE:20230603
DTEND;VALUE=DATE:20230604
DTSTAMP:20260423T021806
CREATED:20230525T092032Z
LAST-MODIFIED:20230525T092032Z
UID:63171-1685750400-1685836799@www.mieres.es
SUMMARY:V Torneo Benjamín de Fútbol 8 Caudal Deportivo
DESCRIPTION:Fútbol  \nV Torneo Benjamín de Fútbol 8\nCaudal Deportivo\nCampo de Fútbol Eliseo Gutiérrez\ndel 29 de mayo al 3 de junio \n\n 
URL:https://www.mieres.es/evento/v-torneo-benjamin-de-futbol-8-caudal-deportivo/2023-06-03/
LOCATION:Campo Eliseo Gutiérrez (Antiguo Mundial’82)\, C/ Villaviciosa\, Mieres\, Asturias\, 33600\, España
CATEGORIES:Deportes
ATTACH;FMTTYPE=image/jpeg:https://www.mieres.es/wp-content/uploads/2023/05/2023-V-Torneo-Benjamin-CD-scaled.jpg
ORGANIZER;CN="Caudal%20Deportivo":MAILTO:caudal@caudaldeportivo.es
END:VEVENT
END:VCALENDAR