BEGIN:VCALENDAR
VERSION:2.0
PRODID:-//Ayuntamiento de Mieres - ECPv5.16.1.1//NONSGML v1.0//EN
CALSCALE:GREGORIAN
METHOD:PUBLISH
X-WR-CALNAME:Ayuntamiento de Mieres
X-ORIGINAL-URL:https://www.mieres.es
X-WR-CALDESC:Eventos para Ayuntamiento de Mieres
BEGIN:VTIMEZONE
TZID:Europe/Madrid
BEGIN:DAYLIGHT
TZOFFSETFROM:+0100
TZOFFSETTO:+0200
TZNAME:CEST
DTSTART:20230326T010000
END:DAYLIGHT
BEGIN:STANDARD
TZOFFSETFROM:+0200
TZOFFSETTO:+0100
TZNAME:CET
DTSTART:20231029T010000
END:STANDARD
END:VTIMEZONE
BEGIN:VEVENT
DTSTART;VALUE=DATE:20230611
DTEND;VALUE=DATE:20230612
DTSTAMP:20260423T021740
CREATED:20230608T100628Z
LAST-MODIFIED:20230608T100628Z
UID:63414-1686441600-1686527999@www.mieres.es
SUMMARY:XLVI Campeonato de Asturias de Patinaje Artístico
DESCRIPTION:  \n\nPatinaje Artístico \nXLVI CAMPEONATO DE ASTURIAS DE PATINAJE ARTÍSTICO\nModalidad libre\nTodas las categorías\nPolideportivo de Figaredo \n\nLos días 9\, 10 y 11 de junio se celebrará en el polideportivo municipal de Figaredo\, Mieres\, una de las competiciones más importantes del año para el patinaje artístico en nuestra región. El XLVI CAMPEONATO DE ASTURIAS de patinaje artístico\, en la modalidad de libre\, donde participarán 40 patinadoras y patinadores de Benjamín a Sénior pertenecientes a siete clubes procedentes de las localidades de Oviedo\, Gijón\, Avilés\, Langreo\, Llanera y Mieres: \nOvetus P.C. y Centro Asturiano de Oviedo\, C.P. Atenea Gijón\, C.P.\nVirgen de la Luz de Avilés\, C.D.A. Langreo\, C.P. Llanelux de Llanera y C.P. Artístico Mieres\, como organizador del evento. \n  \nEl Campeonato se desarrollará durante todo el día (mañana y tarde) del sábado 10 de junio y la mañana del domingo 11. \nLa jornada de la mañana del sábado comenzará con la Presentación e Inauguración del Campeonato a las 10:30 horas dando inicio con la categoría infantil\, continuando con la cadete y finalizando a las 13:30 horas con las juveniles. En la jornada de tarde el turno será para las júnior\, sénior\, alevín y benjamín que comenzarán a las 16:15 horas y se prolongará hasta las 19:30 horas. \nEl domingo se iniciará a las 09:30 horas\, con los “Programas Largos”\, que son los que deciden las puntuaciones finales de infantil a sénior. \nEl acto deportivo culminará sobre las 13:30 horas\, con la entrega de trofeos que determinarán los Campeones de Asturias en cada una de las diferentes categorías y los que representarán a la Federación Asturiana en los próximos Campeonatos de España. \nHorarios XLVI Campeonato de Asturias de Patinaje Artístico (Descarga)
URL:https://www.mieres.es/evento/xlvi-campeonato-de-asturias-de-patinaje-artistico/2023-06-11/
LOCATION:Polideportivo de Figaredo\, Avarero\, Figaredo\, Asturias\, 33683
CATEGORIES:Deportes
ATTACH;FMTTYPE=image/jpeg:https://www.mieres.es/wp-content/uploads/2023/06/Cartel-oficial-Camp-autonoimico-2023-patinaje-artistico.jpg
GEO:43.3613953;-5.8593267
X-APPLE-STRUCTURED-LOCATION;VALUE=URI;X-ADDRESS=Polideportivo de Figaredo Avarero Figaredo Asturias 33683;X-APPLE-RADIUS=500;X-TITLE=Avarero:geo:-5.8593267,43.3613953
END:VEVENT
BEGIN:VEVENT
DTSTART;TZID=Europe/Madrid:20230611T090000
DTEND;TZID=Europe/Madrid:20230611T110000
DTSTAMP:20260423T021740
CREATED:20230608T095452Z
LAST-MODIFIED:20230608T095452Z
UID:63408-1686474000-1686481200@www.mieres.es
SUMMARY:Campeonato de Asturias de Maratón en BTT. II Desafío del Carbón Bike Marathon
DESCRIPTION:  \n \n\nCiclismo Montaña \nCampeonato de Asturias de Maratón en BTT\nII Desafío del Carbón Bike Marathon\n  \n\nEl próximo domingo día 11 Mieres acogerá el Campeonato de Asturias de Maratón BTT con más de 200 participantes. \nEl contar con el apoyo del Ayuntamiento de Mieres\, de la Universidad de Oviedo y de diferentes empresas y entidades del concejo permite volver a tener una prueba puntuable para la nueva Copa de Asturias de Maraton BTT\, y ser\, por segundo año consecutivo\, la sede del Campeonato de Asturias de Maratón. \nCon la realización de esta prueba buscamos poner en valor el territorio\, ya que consideramos que es un escenario perfecto para el ciclismo de montaña. Un recorrido que permitirá a los corredores disfrutar del Patrimonio Industrial del Valle de Turón y de zonas de antiguas explotaciones mineras\, como el Monte Polio. Avituallamientos dentro de pozos mineros\, como el Pozu la Rebaldana\, y ascender por la Senda Verde del Valle de Turón hasta la parte alta del Valle\, teniendo gran importancia\, con dos avituallamientos\, el pueblo de Urbiés. \nEl desafío tiene dos distancias\, 55 y 38 km\, siendo la larga la puntuable para la Copa y Campeonato de Asturias. La salida será a las 9:00 y la llegada prevista rondará las 11:00.
URL:https://www.mieres.es/evento/campeonato-de-asturias-de-maraton-en-btt-ii-desafio-del-carbon-bike-marathon/
LOCATION:Carreteras del concejo
CATEGORIES:Deportes
ATTACH;FMTTYPE=image/jpeg:https://www.mieres.es/wp-content/uploads/2023/06/cartel-desafio-M-Bike-2023.jpg
END:VEVENT
END:VCALENDAR