BEGIN:VCALENDAR
VERSION:2.0
PRODID:-//Ayuntamiento de Mieres - ECPv5.16.1.1//NONSGML v1.0//EN
CALSCALE:GREGORIAN
METHOD:PUBLISH
X-WR-CALNAME:Ayuntamiento de Mieres
X-ORIGINAL-URL:https://www.mieres.es
X-WR-CALDESC:Eventos para Ayuntamiento de Mieres
BEGIN:VTIMEZONE
TZID:Europe/Madrid
BEGIN:DAYLIGHT
TZOFFSETFROM:+0100
TZOFFSETTO:+0200
TZNAME:CEST
DTSTART:20230326T010000
END:DAYLIGHT
BEGIN:STANDARD
TZOFFSETFROM:+0200
TZOFFSETTO:+0100
TZNAME:CET
DTSTART:20231029T010000
END:STANDARD
END:VTIMEZONE
BEGIN:VEVENT
DTSTART;TZID=Europe/Madrid:20230617T161500
DTEND;TZID=Europe/Madrid:20230617T161500
DTSTAMP:20260423T021724
CREATED:20190607T075948Z
LAST-MODIFIED:20230523T115339Z
UID:33985-1687018500-1687018500@www.mieres.es
SUMMARY:XXXVII Open de Ajedrez San Xuan
DESCRIPTION:Ajedrez \nXXXVII Open de Ajedrez San Xuan\nMieres Centru Cultural \n17 de junio de 2023\, a partir de las 16.15h. \n\n  \nBASES DEL TORNEO\n– SISTEMA SUIZO A 7 RONDAS\n– 10+3 MINUTOS POR JUGADOR A FINISH\n– SIETE RONDAS\n– SE REGIRÁ TODO EL TORNEO POR LAS REGLAS DEL AJEDREZ F.I.D.E \nPREMIOS\n1º. TROFEO Y 150€\n2º. TROFEO Y 100€\n3º. TROFEO Y 50€\nTROFEOS ESPECIALES\nCATEGORÍAS SUB 12 – 1º TROFEO Y LIBRO\,  2º TROFEO\nVETERANOS – 1º TROFEO Y LIBRO\,  2º TROFEO\nMIEMBROS GRUPO DE AJEDREZ “MIERES DEL CAMINO”\n1º TROFEO Y LIBRO\,  2º TROFEO \nENTREGA DE PREMIOS\nDÍA 17\, AL FINAL DEL TORNEO\n(Habrá bollo+botella/refresco para todos/as los/las participantes)\nLUGAR DE JUEGO:\nCASA DE CULTURA “TEODORO CUESTA”\n(C/MANUEL LLANEZA\, MIERES)\nÁRBITRO:\nEUSEBIO OLEA (ÁRBITRO NACIONAL) \n  \nINSCRIPCIÓN 15€ (HASTA EL JUEVES 15 DE JUNIO) \nMás información e inscripciones:\ngrupoajedrezmieres@outlook.es \n\n 
URL:https://www.mieres.es/evento/xxxv-open-de-ajedrez-san-xuan-2/
LOCATION:Mieres Centru Cultural\, Calle Jerónimo Ibrán\, 10\, Mieres\, Asturias\, 33600
CATEGORIES:Deportes,Festejos
ATTACH;FMTTYPE=image/jpeg:https://www.mieres.es/wp-content/uploads/2019/06/tORNEO-sAN-jUAN-aJEDREZ-2023.jpg
END:VEVENT
END:VCALENDAR