BEGIN:VCALENDAR
VERSION:2.0
PRODID:-//Ayuntamiento de Mieres - ECPv5.16.1.1//NONSGML v1.0//EN
CALSCALE:GREGORIAN
METHOD:PUBLISH
X-WR-CALNAME:Ayuntamiento de Mieres
X-ORIGINAL-URL:https://www.mieres.es
X-WR-CALDESC:Eventos para Ayuntamiento de Mieres
BEGIN:VTIMEZONE
TZID:Europe/Madrid
BEGIN:DAYLIGHT
TZOFFSETFROM:+0100
TZOFFSETTO:+0200
TZNAME:CEST
DTSTART:20230326T010000
END:DAYLIGHT
BEGIN:STANDARD
TZOFFSETFROM:+0200
TZOFFSETTO:+0100
TZNAME:CET
DTSTART:20231029T010000
END:STANDARD
END:VTIMEZONE
BEGIN:VEVENT
DTSTART;TZID=Europe/Madrid:20230925T163000
DTEND;TZID=Europe/Madrid:20230925T193000
DTSTAMP:20260422T200225
CREATED:20230926T113310Z
LAST-MODIFIED:20230926T114949Z
UID:64712-1695659400-1695670200@www.mieres.es
SUMMARY:Semana Europea del Deporte. Práctica del Fútbol Sala
DESCRIPTION:Semana Europea del Deporte 2023 \nLunes\, 25 de septiembre \n  \n16:30 a 19:30h. Patio de los colegios Liceo Mierense-Aniceto Sela \n\nPráctica del Fútbol Sala\nAprendizaje del deporte\, circuitos\, yincana\, juegos\, partidos… \n  \n\n\nParticipación libre y gratuita \n\n\n\n\n  \nDe la mano de nuestra Concejalía de Deportes y con la colaboración de numerosos clubes deportivos del concejo\, Mieres se suma por primera vez a la Semana Europea del Deporte (SED)\, una iniciativa de la Comisión Europea para combatir el sedentarismo\, que se volverá a celebrar de forma simultánea en todos los países miembros de la UE y otros del resto del continente que se han ido sumando desde 2015\, llegando a adherirse hasta 40 países en la edición de 2022. \nEl objetivo es implicar a todos los estamentos sociales para que realicen distintas acciones que fomenten la actividad física y buenos hábitos alimentarios entre la población. \nEn esta edición de 2023\, año europeo de la formación continua\, queremos que la SED de España vuelva a batir los registros de participación en las actividades promovidas por las entidades relacionadas con el deporte en la lucha contra la lacra de la obesidad derivada del sedentarismo creciente y los malos hábitos de consumo\, a favor de una vida saludable basada en el ejercicio físico y la alimentación adecuada. De hecho\, el CSD ha firmado un compromiso con la Iniciativa HealthyLifeStyle4All por el que redoblará esfuerzos en la difusión de la Semana Europea del Deporte.
URL:https://www.mieres.es/evento/semana-europea-del-deporte-practica-del-futbol-sala/
LOCATION:Patio colegio Liceo/Aniceto Sela\, Colegio Público Liceo Mierense\, Mieres\, Asturias\, 33600 
CATEGORIES:Deportes
ATTACH;FMTTYPE=image/jpeg:https://www.mieres.es/wp-content/uploads/2023/09/Semana-europea-del-deporte-2023-mieres.jpeg
GEO:43.249719;-5.7785282
X-APPLE-STRUCTURED-LOCATION;VALUE=URI;X-ADDRESS=Patio colegio Liceo/Aniceto Sela Colegio Público Liceo Mierense Mieres Asturias 33600;X-APPLE-RADIUS=500;X-TITLE=Colegio Público Liceo Mierense:geo:-5.7785282,43.249719
END:VEVENT
END:VCALENDAR