BEGIN:VCALENDAR
VERSION:2.0
PRODID:-//Ayuntamiento de Mieres - ECPv5.16.1.1//NONSGML v1.0//EN
CALSCALE:GREGORIAN
METHOD:PUBLISH
X-WR-CALNAME:Ayuntamiento de Mieres
X-ORIGINAL-URL:https://www.mieres.es
X-WR-CALDESC:Eventos para Ayuntamiento de Mieres
BEGIN:VTIMEZONE
TZID:Europe/Madrid
BEGIN:DAYLIGHT
TZOFFSETFROM:+0100
TZOFFSETTO:+0200
TZNAME:CEST
DTSTART:20230326T010000
END:DAYLIGHT
BEGIN:STANDARD
TZOFFSETFROM:+0200
TZOFFSETTO:+0100
TZNAME:CET
DTSTART:20231029T010000
END:STANDARD
END:VTIMEZONE
BEGIN:VEVENT
DTSTART;TZID=Europe/Madrid:20230929T163000
DTEND;TZID=Europe/Madrid:20230929T163000
DTSTAMP:20260422T200159
CREATED:20230926T115957Z
LAST-MODIFIED:20230926T115957Z
UID:64740-1696005000-1696005000@www.mieres.es
SUMMARY:Semana Europea del Deporte. Fútbol Sala\, Baloncesto\, Ajedrez\, Gimnasia Rítmica y Campeonato Internacional de Pesca
DESCRIPTION:Semana Europea del Deporte 2023 \nViernes\, 29 de septiembre \n  \n\n16:30 a 19:30h. Patio de los Colegios Liceo Mierense-Aniceto Sela\nPráctica del Fútbol Sala y Baloncesto\nAprendizaje del deporte\, circuitos\, yincana\, juegos\, partidos…\n(Fútbol sala por edades: de 16:30 a 17:30h de 4 a 7 años; de 17:30 a 18:30h de 7 a 10 años y de 18:30 a 19:30h de 10 a 13 años \n  \n17:00h. Parque Xovellanos (en caso de mal tiempo pasaría al Polideportivo de Oñón) \n\nPartidas simultáneas de Ajedrez y Exhibición de Gimnasia Rítmica\n  \nRío Caudal (zona coto de pesca deportiva\, sin muerte) \nCampeonato Internacional de Pesca\n  \n\nParticipación libre y gratuita \n\n\n\n\n  \nDe la mano de nuestra Concejalía de Deportes y con la colaboración de numerosos clubes deportivos del concejo\, Mieres se suma por primera vez a la Semana Europea del Deporte (SED)\, una iniciativa de la Comisión Europea para combatir el sedentarismo\, que se volverá a celebrar de forma simultánea en todos los países miembros de la UE y otros del resto del continente que se han ido sumando desde 2015\, llegando a adherirse hasta 40 países en la edición de 2022. \nEl objetivo es implicar a todos los estamentos sociales para que realicen distintas acciones que fomenten la actividad física y buenos hábitos alimentarios entre la población. \nEn esta edición de 2023\, año europeo de la formación continua\, queremos que la SED de España vuelva a batir los registros de participación en las actividades promovidas por las entidades relacionadas con el deporte en la lucha contra la lacra de la obesidad derivada del sedentarismo creciente y los malos hábitos de consumo\, a favor de una vida saludable basada en el ejercicio físico y la alimentación adecuada. De hecho\, el CSD ha firmado un compromiso con la Iniciativa HealthyLifeStyle4All por el que redoblará esfuerzos en la difusión de la Semana Europea del Deporte.
URL:https://www.mieres.es/evento/semana-europea-del-deporte-futbol-sala-baloncesto-ajedrez-gimnasia-ritmica-y-campeonato-internacional-de-pesca/
LOCATION:Varias ubicaciones
CATEGORIES:Deportes
ATTACH;FMTTYPE=image/jpeg:https://www.mieres.es/wp-content/uploads/2023/09/Semana-europea-del-deporte-2023-mieres.jpeg
END:VEVENT
END:VCALENDAR