BEGIN:VCALENDAR
VERSION:2.0
PRODID:-//Ayuntamiento de Mieres - ECPv5.16.1.1//NONSGML v1.0//EN
CALSCALE:GREGORIAN
METHOD:PUBLISH
X-WR-CALNAME:Ayuntamiento de Mieres
X-ORIGINAL-URL:https://www.mieres.es
X-WR-CALDESC:Eventos para Ayuntamiento de Mieres
BEGIN:VTIMEZONE
TZID:Europe/Madrid
BEGIN:DAYLIGHT
TZOFFSETFROM:+0100
TZOFFSETTO:+0200
TZNAME:CEST
DTSTART:20230326T010000
END:DAYLIGHT
BEGIN:STANDARD
TZOFFSETFROM:+0200
TZOFFSETTO:+0100
TZNAME:CET
DTSTART:20231029T010000
END:STANDARD
END:VTIMEZONE
BEGIN:VEVENT
DTSTART;VALUE=DATE:20230930
DTEND;VALUE=DATE:20231001
DTSTAMP:20260422T200159
CREATED:20230926T120458Z
LAST-MODIFIED:20230926T120644Z
UID:64745-1696032000-1696118399@www.mieres.es
SUMMARY:Semana Europea del Deporte. Campeonato Internacional de Pesca\, II Rivers Cup
DESCRIPTION:Semana Europea del Deporte 2023 \nSábado\, 30 de septiembre \n\n  \nRío Caudal (zona coto de pesca deportiva\, sin muerte) \nCampeonato Internacional de Pesca\nII Rivers Cup\n  \n\nFinal\, con la participación de los 20 mejores dúos clasificados. \n\n\n  \nDe la mano de nuestra Concejalía de Deportes y con la colaboración de numerosos clubes deportivos del concejo\, Mieres se suma por primera vez a la Semana Europea del Deporte (SED)\, una iniciativa de la Comisión Europea para combatir el sedentarismo\, que se volverá a celebrar de forma simultánea en todos los países miembros de la UE y otros del resto del continente que se han ido sumando desde 2015\, llegando a adherirse hasta 40 países en la edición de 2022. \nEl objetivo es implicar a todos los estamentos sociales para que realicen distintas acciones que fomenten la actividad física y buenos hábitos alimentarios entre la población. \nEn esta edición de 2023\, año europeo de la formación continua\, queremos que la SED de España vuelva a batir los registros de participación en las actividades promovidas por las entidades relacionadas con el deporte en la lucha contra la lacra de la obesidad derivada del sedentarismo creciente y los malos hábitos de consumo\, a favor de una vida saludable basada en el ejercicio físico y la alimentación adecuada. De hecho\, el CSD ha firmado un compromiso con la Iniciativa HealthyLifeStyle4All por el que redoblará esfuerzos en la difusión de la Semana Europea del Deporte. \n  \n \n 
URL:https://www.mieres.es/evento/semana-europea-del-deporte-campeonato-internacional-de-pesca-ii-rivers-cup/
LOCATION:Varias ubicaciones
CATEGORIES:Deportes
ATTACH;FMTTYPE=image/jpeg:https://www.mieres.es/wp-content/uploads/2023/09/Rivers-Cup-Mieres.jpeg
END:VEVENT
END:VCALENDAR