BEGIN:VCALENDAR
VERSION:2.0
PRODID:-//Ayuntamiento de Mieres - ECPv5.16.1.1//NONSGML v1.0//EN
CALSCALE:GREGORIAN
METHOD:PUBLISH
X-WR-CALNAME:Ayuntamiento de Mieres
X-ORIGINAL-URL:https://www.mieres.es
X-WR-CALDESC:Eventos para Ayuntamiento de Mieres
BEGIN:VTIMEZONE
TZID:Europe/Madrid
BEGIN:DAYLIGHT
TZOFFSETFROM:+0100
TZOFFSETTO:+0200
TZNAME:CEST
DTSTART:20230326T010000
END:DAYLIGHT
BEGIN:STANDARD
TZOFFSETFROM:+0200
TZOFFSETTO:+0100
TZNAME:CET
DTSTART:20231029T010000
END:STANDARD
END:VTIMEZONE
BEGIN:VEVENT
DTSTART;VALUE=DATE:20231014
DTEND;VALUE=DATE:20231015
DTSTAMP:20260422T200057
CREATED:20231011T085558Z
LAST-MODIFIED:20231011T085558Z
UID:64880-1697241600-1697327999@www.mieres.es
SUMMARY:I Open Internacional de Pesca con Mosca\, Mieres 2023 (13/15OCT)
DESCRIPTION:Pesca \nI Open Internacional de Pesca con Mosca\nMieres 2023\n13\, 14 y 15 de octubre de 2023 \nRío Caudal (zona coto de pesca deportiva\, sin muerte) \nEl clinic infantil con miembros de la selección española de pesca se desarrollará en el estanque del Parque Xovellanos (Vi\, 13. 17:30h.) \n\n\n\n  \n 
URL:https://www.mieres.es/evento/i-open-internacional-de-pesca-con-mosca-mieres-2023-13-15oct-2/
LOCATION:Varias ubicaciones
CATEGORIES:Deportes
ATTACH;FMTTYPE=image/jpeg:https://www.mieres.es/wp-content/uploads/2023/10/open-internacional-pesca-mieres-2023.jpeg
END:VEVENT
BEGIN:VEVENT
DTSTART;TZID=Europe/Madrid:20231014T080000
DTEND;TZID=Europe/Madrid:20231014T210000
DTSTAMP:20260422T200057
CREATED:20230926T103047Z
LAST-MODIFIED:20230926T103047Z
UID:64695-1697270400-1697317200@www.mieres.es
SUMMARY:XVIII Rallye Montaña Central
DESCRIPTION:  \nLa Escudería Turón Arrass organiza una nueva edición de este Rallye Montaña Central\, una de las principales citas automovilísticas asturianas\, puntuable para el Campeonato de Asturias y otros campeonatos\, que este año contará con notables novedades en cuanto al recorrido. \n  \nUn total de 97\,46 kilómetros cronometrados compondrán el recorrido de esta edición\, con novedades en los tramos\, que en esta edición serán 9\, Muñón\, Urbiés\, Peñerudes y La Rebollada. \nLa competición arrancará con todavía sin aparecer los primeros rayos de sol con la disputa del primero de los tramos\, Muñón\, de 11\,92 kilómetros. Un trazado conocido habitualmente por disputarse en sentido inverso habitualmente en las ediciones previas del Rallye\, y que en esta edición tendrá su salida en la población lenenese y meta en la capital riosana de La Vega. Para completar el bucle matinal\, los equipos se dirigirán hasta el concejo de Langreo para la disputa de un tramo que vuelve al Rallye\, Urbiés\, de 9\,81 kilometros que arranca de La Nueva y finaliza en la localidad turonesa de Urbiés. \nLa jornada de tarde\, también tendrá guardadas novedades con el primero de los tramos\, el tramo de Peñerudes\, de 15 kilómetros que combina varias versiones de Morcin y que tendrá su salida desde Santolaya y meta en Labarejos y que discurre a los pies del Embalse de Los Afilorios y de La Mostayal. Para finalizar\, un trazado que se mantiene\, aunque en sentido inverso\, el tramo de La Rebollada de 8 kilómetros\, al que a diferencia del resto de tramos al que se disputarán dos pasadas\, este contará con tres. \n  \nPueden consultar los horarios previstos para cada uno de los tramos cronometrados\, completar información y realizar un seguimiento en directo\, on line\, de los tiempos y clasificaciones del Rallye a través de la web de Turón Arras (www.rallyemc.com) y en estos enlaces directos: \nTC 1 / TC 3     MUÑÓN     11\,92 Km\n  Mapa TC Muñón\n On Board TC Muñón\nTC 2 / TC 4    URBIÉS     9\,81 Km\n  Mapa TC Urbiés\n On Board TC Urbiés\nTC 5 / TC 7   PEÑERUDES   15\,00 Km\n  Mapa TC Peñerudes\n On Board TC Peñerudes\nTC 6 / TC 8 / TC9   LA REBOLLADA     8\,00 KM\n  Mapa TC La Rebollada\n On Board TC La Rebollada\n Mapa General\n Itinerario\n  Mapa General (Google maps)
URL:https://www.mieres.es/evento/xviii-rallye-montana-central/
LOCATION:Carreteras del concejo
CATEGORIES:Deportes
ATTACH;FMTTYPE=image/jpeg:https://www.mieres.es/wp-content/uploads/2023/09/CARTEL-2023-scaled-1.jpg
ORGANIZER;CN="Escuder%C3%ADa%20Tur%C3%B3n%20Arrass":MAILTO:rallyemcentral@gmail.com
END:VEVENT
END:VCALENDAR