BEGIN:VCALENDAR
VERSION:2.0
PRODID:-//Ayuntamiento de Mieres - ECPv5.16.1.1//NONSGML v1.0//EN
CALSCALE:GREGORIAN
METHOD:PUBLISH
X-WR-CALNAME:Ayuntamiento de Mieres
X-ORIGINAL-URL:https://www.mieres.es
X-WR-CALDESC:Eventos para Ayuntamiento de Mieres
BEGIN:VTIMEZONE
TZID:Europe/Madrid
BEGIN:DAYLIGHT
TZOFFSETFROM:+0100
TZOFFSETTO:+0200
TZNAME:CEST
DTSTART:20230326T010000
END:DAYLIGHT
BEGIN:STANDARD
TZOFFSETFROM:+0200
TZOFFSETTO:+0100
TZNAME:CET
DTSTART:20231029T010000
END:STANDARD
END:VTIMEZONE
BEGIN:VEVENT
DTSTART;TZID=Europe/Madrid:20231024T200000
DTEND;TZID=Europe/Madrid:20231024T200000
DTSTAMP:20260422T200154
CREATED:20231013T092242Z
LAST-MODIFIED:20231013T092242Z
UID:64946-1698177600-1698177600@www.mieres.es
SUMMARY:VIII Encuentro de Blogueros y RRSS de Montaña. Tania y Gumo: "Refugio El Meicín. La Guerra Civil en el Parque de las Ubiñas"
DESCRIPTION:VIII Encuentro de Blogueros y RRSS de Montaña \n“Refugio El Meicín. La Guerra Civil en el Parque de las Ubiñas”\npor Tania y Gumo\n  \nMartes 24 de octubre\, 20:00 h\nAuditorio Teodoro Cuesta\n \n  \nEntrada libre hasta completar aforo.
URL:https://www.mieres.es/evento/viii-encuentro-de-blogueros-y-rrss-de-montana-tania-y-gumo-refugio-el-meicin-la-guerra-civil-en-el-parque-de-las-ubinas/
LOCATION:Casa de Cultura Teodoro Cuesta\, Calle Manuel Llaneza\, 8\, Mieres\, Asturias\, 33600\, España
CATEGORIES:Deportes
ATTACH;FMTTYPE=image/jpeg:https://www.mieres.es/wp-content/uploads/2023/10/Encuentro-blogueros-rrss-montana-2023.jpeg
GEO:43.2502294;-5.7729571
X-APPLE-STRUCTURED-LOCATION;VALUE=URI;X-ADDRESS=Casa de Cultura Teodoro Cuesta Calle Manuel Llaneza 8 Mieres Asturias 33600 España;X-APPLE-RADIUS=500;X-TITLE=Calle Manuel Llaneza\, 8:geo:-5.7729571,43.2502294
END:VEVENT
END:VCALENDAR