BEGIN:VCALENDAR
VERSION:2.0
PRODID:-//Ayuntamiento de Mieres - ECPv5.16.1.1//NONSGML v1.0//EN
CALSCALE:GREGORIAN
METHOD:PUBLISH
X-WR-CALNAME:Ayuntamiento de Mieres
X-ORIGINAL-URL:https://www.mieres.es
X-WR-CALDESC:Eventos para Ayuntamiento de Mieres
BEGIN:VTIMEZONE
TZID:Europe/Madrid
BEGIN:DAYLIGHT
TZOFFSETFROM:+0100
TZOFFSETTO:+0200
TZNAME:CEST
DTSTART:20230326T010000
END:DAYLIGHT
BEGIN:STANDARD
TZOFFSETFROM:+0200
TZOFFSETTO:+0100
TZNAME:CET
DTSTART:20231029T010000
END:STANDARD
END:VTIMEZONE
BEGIN:VEVENT
DTSTART;VALUE=DATE:20231229
DTEND;VALUE=DATE:20231230
DTSTAMP:20260422T170633
CREATED:20231219T122107Z
LAST-MODIFIED:20231219T122107Z
UID:66287-1703808000-1703894399@www.mieres.es
SUMMARY:VII Torneo Alevín de Navidad Caudal Deportivo. Fútbol 8 (26/29DIC)
DESCRIPTION:Fútbol  \nVII Torneo Alevín de Navidad. Fútbol 8\nCaudal Deportivo\nCampo de Fútbol Eliseo Gutiérrez\nDel 26 al 29 de diciembre 2023 \n\n 
URL:https://www.mieres.es/evento/vii-torneo-alevin-de-navidad-caudal-deportivo-futbol-8-26-29dic/2023-12-29/
LOCATION:Campo Eliseo Gutiérrez (Antiguo Mundial’82)\, C/ Villaviciosa\, Mieres\, Asturias\, 33600\, España
CATEGORIES:Deportes
ATTACH;FMTTYPE=image/jpeg:https://www.mieres.es/wp-content/uploads/2023/12/Cartel-torneo-Navidad-Alevin-2023.jpg
ORGANIZER;CN="Caudal%20Deportivo":MAILTO:caudal@caudaldeportivo.es
END:VEVENT
END:VCALENDAR