BEGIN:VCALENDAR
VERSION:2.0
PRODID:-//Ayuntamiento de Mieres - ECPv5.16.1.1//NONSGML v1.0//EN
CALSCALE:GREGORIAN
METHOD:PUBLISH
X-WR-CALNAME:Ayuntamiento de Mieres
X-ORIGINAL-URL:https://www.mieres.es
X-WR-CALDESC:Eventos para Ayuntamiento de Mieres
BEGIN:VTIMEZONE
TZID:Europe/Madrid
BEGIN:DAYLIGHT
TZOFFSETFROM:+0100
TZOFFSETTO:+0200
TZNAME:CEST
DTSTART:20230326T010000
END:DAYLIGHT
BEGIN:STANDARD
TZOFFSETFROM:+0200
TZOFFSETTO:+0100
TZNAME:CET
DTSTART:20231029T010000
END:STANDARD
END:VTIMEZONE
BEGIN:VEVENT
DTSTART;VALUE=DATE:20231230
DTEND;VALUE=DATE:20231231
DTSTAMP:20260422T170632
CREATED:20231219T124014Z
LAST-MODIFIED:20231219T124014Z
UID:66289-1703894400-1703980799@www.mieres.es
SUMMARY:XIX Torneo Benjamín de Navidad Caudal Deportivo. Fútbol sala (30DIC/4ENE)
DESCRIPTION:Fútbol  \nXIX Torneo Benjamín de Navidad Fútbol sala\nCaudal Deportivo\nPolideportivo de Oñón\n30 de diciembre 2023\, 2\, 3 y 4 de enero 2024 \n\n 
URL:https://www.mieres.es/evento/xix-torneo-benjamin-de-navidad-caudal-deportivo-futbol-sala-30dic-4ene/2023-12-30/
LOCATION:Polideportivo Municipal de Oñón\, Calle Oñón\, s/n\, 33600 Mieres\, Asturias\, Mieres\, Asturias\, 33600
CATEGORIES:Deportes
ATTACH;FMTTYPE=image/jpeg:https://www.mieres.es/wp-content/uploads/2023/12/Cartel-torneo-Navidad-Benjamin-2023.jpg
ORGANIZER;CN="Caudal%20Deportivo":MAILTO:caudal@caudaldeportivo.es
GEO:43.2553515;-5.7746067
X-APPLE-STRUCTURED-LOCATION;VALUE=URI;X-ADDRESS=Polideportivo Municipal de Oñón Calle Oñón s/n 33600 Mieres Asturias Mieres Asturias 33600;X-APPLE-RADIUS=500;X-TITLE=Calle Oñón\, s/n\, 33600 Mieres\, Asturias:geo:-5.7746067,43.2553515
END:VEVENT
BEGIN:VEVENT
DTSTART;TZID=Europe/Madrid:20231230T100000
DTEND;TZID=Europe/Madrid:20231230T100000
DTSTAMP:20260422T170632
CREATED:20231211T112652Z
LAST-MODIFIED:20231220T080208Z
UID:66057-1703930400-1703930400@www.mieres.es
SUMMARY:III Ruta BTT San Silvestre. Mieres 2023
DESCRIPTION:III Ruta BTT\nSan Silvestre\nMieres 2023\nInscripciones online a través de la plataforma https://inscripciones.empa-t.com/inscripcion/ruta-btt-san-silvestre-mieres/ \nPrecio: 15€ (incluido seguro) de los que 3€ se donarán a la Asociación de enfermedades raras “CHYSPA: Asoc. Chiari y Siringomelia del Pdo. de Asturias” \nDistancia: 25km. • Desnivel: 900m.• Dificultad: Media\nPrueba no competitiva \n  \n30 de diciembre de 2023 • 10:00h.\nSalida Plaza del Ayuntamiento de Mieres \n  \nOrganizan: Desafío Carbón y Concejalía de Deportes \n\n  \n\n\n\n 
URL:https://www.mieres.es/evento/iii-ruta-btt-san-silvestre-mieres-2023/
LOCATION:Plaza del Ayuntamiento\, Plaza de la Constitución s/n\, Mieres\, 33600
CATEGORIES:Deportes
ATTACH;FMTTYPE=image/jpeg:https://www.mieres.es/wp-content/uploads/2023/12/ruta-btt-san-silvestre-mieres-2023.jpeg
GEO:43.2489616;-5.7726903
X-APPLE-STRUCTURED-LOCATION;VALUE=URI;X-ADDRESS=Plaza del Ayuntamiento Plaza de la Constitución s/n Mieres 33600;X-APPLE-RADIUS=500;X-TITLE=Plaza de la Constitución s/n:geo:-5.7726903,43.2489616
END:VEVENT
BEGIN:VEVENT
DTSTART;TZID=Europe/Madrid:20231230T170000
DTEND;TZID=Europe/Madrid:20231230T170000
DTSTAMP:20260422T170632
CREATED:20231127T131115Z
LAST-MODIFIED:20231127T132604Z
UID:65862-1703955600-1703955600@www.mieres.es
SUMMARY:XXIX San Silvestre Villa de Mieres 2023
DESCRIPTION:Inscripciones\nA través de la plataforma www.321go.es \nPrecio 5€ . Incluye seguro y chip \n  \nHorario y lugar de la prueba \nC/ Ramón y Cajal\, frente al Ayuntamiento de Mieres.\nInicio: 17:00 horas para las pruebas menores. A continuación prueba adultos. Cierre meta: 20:30 horas \n  \nRecogida de dorsal \n\n\n\n\nDía 29/12/2023 en FITNESS MIERES (C/Armando Palacio Valdés\, 2) de 17:00 a 20:00 horas.\nDía 30/12/2023 en LÍNEA DE SALIDA hasta 1 hora antes del comienzo de la prueba.\n  \nCategorías \n\n\nChupetines m/f 2019-20-21-22-23\nMini-benjamín m/f 2016-2017-2018\nBenjamines m/f 2014-2015\nAlevines m/f 2012-2013\nInfantiles m/f 2010-2011\nCadetes m/f 2008-2009\nJuveniles m/f 2006-2007\nSenior m/f de 18 hasta 34 años\nVeteranos/as A 35 a 40 años\nVeteranos/as B 41 a 45 años\nVeteranos/as C 46 a 50 años\nVeteranos/as D 51 a 55 años\nVeteranos/as E 56 a 60 años\nVeteranos/as F 61 a 65 años\nVeteranos/as G más de 66 años\n\n  \nRECORRIDO  2.500 METROS (2 vueltas\, total 5.000 mts) \nSALIDA EN C/RAMON Y CAJAL FRENTE AYUNTAMIENTO (Plaza de la Constitución\, dirección Bario Bazuelo) – BARRIO BAZUELO – GIRO A LA DERECHA POR BARRIO BAZUELO PARA CONTINUAR DETRÁS DEL EDIFICIO DE LA UNIVERSIDAD HASTA CALLE RECTOR JULIO RODRÍGUEZ – GIRO IZQUIERDA EN CALLE RECTOR JULIO RODRÍGUEZ – GIRO A LA DERECHA EN CALLE GONZALO GUTIERREZ QUIRÓS – EN ROTONDA DE FRENTE POR CALLE VALERIANO MIRANDA – GIRO A LA DERECHA PARA TOMAR CALLE LEOPOLDO ALAS CLARIN-GIRO A LA DERECHA EN C/RAMON Y CAJAL LINEA DE META FRENTE A LA PLAZA DE LA CONSTITUCIÓN \nServicios sanitarios \n-La prueba dispondrá de servicio médico y ambulancias\, para cubrir el desarrollo de la carrera y la llegada. \nControl de bebidas \n-En la línea de meta\, los atletas dispondrán de bebidas para una buena recuperación de las reservas energéticas perdidas durante la carrera. \nCarteles indicadores \n-Cada Kilómetro estará jalonado con un cartel que indicará a los participantes la distancia recorrida. \n\n  \n\n\nDescargar Reglamento de la Carrera (PDF)
URL:https://www.mieres.es/evento/xxix-san-silvestre-villa-de-mieres-2023/
LOCATION:Plaza del Ayuntamiento\, Plaza de la Constitución s/n\, Mieres\, 33600
CATEGORIES:Deportes
ATTACH;FMTTYPE=image/jpeg:https://www.mieres.es/wp-content/uploads/2023/11/san-silvestre-2023-mieres.jpg
ORGANIZER;CN="Club%20Atletismo%20Mieres":MAILTO:atletismomieres@hotmail.com
GEO:43.2489616;-5.7726903
X-APPLE-STRUCTURED-LOCATION;VALUE=URI;X-ADDRESS=Plaza del Ayuntamiento Plaza de la Constitución s/n Mieres 33600;X-APPLE-RADIUS=500;X-TITLE=Plaza de la Constitución s/n:geo:-5.7726903,43.2489616
END:VEVENT
END:VCALENDAR