BEGIN:VCALENDAR
VERSION:2.0
PRODID:-//Ayuntamiento de Mieres - ECPv5.16.1.1//NONSGML v1.0//EN
CALSCALE:GREGORIAN
METHOD:PUBLISH
X-WR-CALNAME:Ayuntamiento de Mieres
X-ORIGINAL-URL:https://www.mieres.es
X-WR-CALDESC:Eventos para Ayuntamiento de Mieres
BEGIN:VTIMEZONE
TZID:Europe/Madrid
BEGIN:DAYLIGHT
TZOFFSETFROM:+0100
TZOFFSETTO:+0200
TZNAME:CEST
DTSTART:20240331T010000
END:DAYLIGHT
BEGIN:STANDARD
TZOFFSETFROM:+0200
TZOFFSETTO:+0100
TZNAME:CET
DTSTART:20241027T010000
END:STANDARD
END:VTIMEZONE
BEGIN:VEVENT
DTSTART;TZID=Europe/Madrid:20240218T110000
DTEND;TZID=Europe/Madrid:20240218T110000
DTSTAMP:20260422T141035
CREATED:20240208T091704Z
LAST-MODIFIED:20240208T093427Z
UID:67478-1708254000-1708254000@www.mieres.es
SUMMARY:VI Carrera Galbán  ¡Corre contra el cáncer infantil!
DESCRIPTION:La Asociación GALBÁN\, familias de Niños y Adolescentes con Cáncer del Principado de Asturias\, organiza la sexta edición de la Carrera Galbán. Como viene siendo habitual\, la carrera se celebrará el domingo más cercano al Día Internacional del niño con Cáncer (15 de febrero)\, por lo que este año 2024 será el Domingo 18\, celebrándose a un mismo tiempo en 73 municipios asturianosque se han sumado a esta iniciativa\, entre ellas\, Mieres: \n  \nDATOS DE LA CARRERA \n• Inscripción: 6 Euros.\nCon cada inscripción se entregará una camiseta conmemorativa. \nInscripciones a través de la web https://www.rockthesport.com/es/evento/6-corre-con-galban \nInscripciones presenciales en: \no COMERCIAL TUÑÓN en horario comercial\no ACSU FORMACIÓN en horario comercial\no GUARDERÍA LA COMETA de lunes a viernes de 10h a 13h\no CLUB DE FÜTBOL DE MIERES SALA viernes 26 de enero en la antigua oficina de información juvenil (al lado de la librería La Pilarica) en horario de 11 a 13h y de 15:30 a 17h\no MERCADILLO Domingos 28 de enero y 4 de febrero en horario de 11 a 14h. \nRecogida de camisetas: Entrega de camisetas en el patio del colegio Liceo\, viernes 16 de 16h a 19h y el sábado 17 de 11h a 19h. \n• Distancia: 2\,41 Kilómetros. \n• Hora: 11:00 \n• Salida y Meta: Plaza del Ayuntamiento \n• Recorrido: Salida de la Plaza de la Constitución\, Ramón y Cajal\, Fray Paulino\, Bazuelo\, giro derecha por calle posterior de la Universidad\, Rector Julio Rodríguez\, Gonzalo Gutiérrez\, Valeriano Miranda\, Leopoldo Alas Clarín\, Teodoro Cuesta y Meta nuevamente en Plaza de la Constitución. 2 vueltas al citado recorrido. \n100% BENÉFICA\nLos beneficios obtenidos se destinarán a la investigación en el campo de la oncología infantil y a necesidades del HUCA (Hospital Universitario Central de Asturias) para mejorar la atención sanitaria y la calidad de vida de nuestros niños y adolescentes. \n 
URL:https://www.mieres.es/evento/vi-carrera-galban-corre-contra-el-cancer-infantil/
LOCATION:Plaza del Ayuntamiento\, Plaza de la Constitución s/n\, Mieres\, 33600
CATEGORIES:Deportes,Salud
ATTACH;FMTTYPE=image/png:https://www.mieres.es/wp-content/uploads/2024/02/Cartel-carrera-Galban-2024.png
GEO:43.2489616;-5.7726903
X-APPLE-STRUCTURED-LOCATION;VALUE=URI;X-ADDRESS=Plaza del Ayuntamiento Plaza de la Constitución s/n Mieres 33600;X-APPLE-RADIUS=500;X-TITLE=Plaza de la Constitución s/n:geo:-5.7726903,43.2489616
END:VEVENT
BEGIN:VEVENT
DTSTART;TZID=Europe/Madrid:20240218T163000
DTEND;TZID=Europe/Madrid:20240218T163000
DTSTAMP:20260422T141035
CREATED:20240109T115416Z
LAST-MODIFIED:20240109T120552Z
UID:66620-1708273800-1708273800@www.mieres.es
SUMMARY:Campeonato de Asturias de Ajedrez 2024 (rápido\, por edades\, desde sub 8 a sub18 y veteranos)
DESCRIPTION:Ajedrez \nCampeonato de Asturias de Ajedrez \n(por edades\, desde sub 8 a sub 18 y veteranos)\n20/01/2024 – 18/02/2024. a partir de las 16.30h.\nMieres Centru Cultural \n\nCampeonato de Asturias por Edades Sub 8 a Sub 18 y Veteranos \n1.- Fecha y Lugar\nEl torneo se disputará en el Centru Cultural Mieres (Calle Jerónimo Ibrán 8 de\nMieres)\, 20\, 21\, 27\, 28 de enero; 3\, 4 y 17 de febrero a partir de las 16:30. El 18 de febrero tendrá lugar el Campeonato de Asturias Rápido por Edades (Sub10-Sub18 y Veteranos). \n2.- Participación\nPodrán participar en el Campeonato todos los jugadores con licencia en vigor y que\ntengan las siguientes edades:\nCategoría Sub8: jugadores nacidos en 2016 o posteriores.\nCategoría Sub10: jugadores nacidos en 2014 o posteriores.\nCategoría Sub12: jugadores nacidos en 2012 o posteriores.\nCategoría Sub14: jugadores nacidos en 2010 o posteriores.\nCategoría Sub16: jugadores nacidos en 2008 o posteriores.\nCategoría Sub18: jugadores nacidos en 2006 o posteriores.\nCategoría Veteranos +50: Jugadores nacidos en 1974 y anteriores.\nCategoría Veteranos +65: Jugadores nacidos en 1959 y anteriores. \n3.- Sistema de Juego\nTodas las categorías se jugarán como torneos independientes y mediante el\nsistema Suizo. Los emparejamientos se efectuarán mediante el programa\ninformático Vega (motor JavaFo). Sólo en el caso de que el número de jugadores\ninscritos de una categoría fuera muy reducida\, se optaría por\, o bien agrupar\ncategorías\, o utilizar el sistema Round Robin. \n4.- Calendario de Juego\nRonda 1-  Sábado 20 de enero\nRonda 2-  Domingo 21 de enero\nRonda 3-  Sábado 27 de enero\nRonda 4-  Domingo 28 de enero\nRonda 5- Sábado 3 de febrero\nRonda 6-  Domingo 4 de febrero\nRonda extra*- Sábado 17 de febrero\n* Ronda extra: si fuera necesaria por participar veinte jugadores o más en la categoría. \n6.- Hora de comienzo\nLas partidas comenzarán a las 16:30 horas en las categorías veteranos\, sub18 y\nsub16 y a las 17:00 en sub8\, sub10\, sub12 y sub14. \n  \n Más información\nToda la información del torneo se publicará en la página web:\nhttp://www.ajedrezastur.es/campeonato-de-asturias-por-edades/ \n\n 
URL:https://www.mieres.es/evento/campeonato-de-asturias-de-ajedrez-2024-por-edades-desde-sub-8-a-sub18-y-veteranos-7/2024-02-18/
LOCATION:Mieres Centru Cultural\, Calle Jerónimo Ibrán\, 10\, Mieres\, Asturias\, 33600
CATEGORIES:Deportes
ATTACH;FMTTYPE=image/jpeg:https://www.mieres.es/wp-content/uploads/2024/01/cartel_ajedrez-edades-mieres-2024.jpg
END:VEVENT
END:VCALENDAR