BEGIN:VCALENDAR
VERSION:2.0
PRODID:-//Ayuntamiento de Mieres - ECPv5.16.1.1//NONSGML v1.0//EN
CALSCALE:GREGORIAN
METHOD:PUBLISH
X-WR-CALNAME:Ayuntamiento de Mieres
X-ORIGINAL-URL:https://www.mieres.es
X-WR-CALDESC:Eventos para Ayuntamiento de Mieres
BEGIN:VTIMEZONE
TZID:Europe/Madrid
BEGIN:DAYLIGHT
TZOFFSETFROM:+0100
TZOFFSETTO:+0200
TZNAME:CEST
DTSTART:20240331T010000
END:DAYLIGHT
BEGIN:STANDARD
TZOFFSETFROM:+0200
TZOFFSETTO:+0100
TZNAME:CET
DTSTART:20241027T010000
END:STANDARD
END:VTIMEZONE
BEGIN:VEVENT
DTSTART;TZID=Europe/Madrid:20240224T100000
DTEND;TZID=Europe/Madrid:20240224T100000
DTSTAMP:20260422T141522
CREATED:20240207T131930Z
LAST-MODIFIED:20240220T112941Z
UID:67469-1708768800-1708768800@www.mieres.es
SUMMARY:XXXVI Xornaes de Montaña de Mieres: Curso de iniciación a la escalada
DESCRIPTION:XXXVI Xornaes de Montaña de Mieres \n\nCurso de iniciación a la escalada\nImpartido por Ángel Castro\, guía de montaña y escalada\n  \nPolideportivo de Turón\, de 10:00 a 14.00h. \nCorreo para inscripciones: patronato@ayto-mieres.es \nATENCIÓN -actualización a 20/02/2023-: Las plazas disponibles para este curso han sido agotadas. Agradecemos la acogida. \n\n  \nLa montaña y el deporte vuelve un año más a su tradicional cita en Mieres con las XXXVI Jornadas de Montaña que en esta edición se celebrarán a lo largo de la última semana de febrero con un programa completo que incluye proyecciones\, charlas y coloquios\,  junto con nuevas actividades como los talleres formativos de montaña. Las Jornadas de Montaña de Mieres volverán a convertirse un año más en espacio de divulgación\, conocimiento y encuentro para montañeros y montañeras profesionales\, personas aficionadas y amantes de la naturaleza y el deporte. \n 
URL:https://www.mieres.es/evento/xxxvi-xornaes-de-montana-de-mieres-curso-iniciacion-a-la-escalada/
LOCATION:Casa de Cultura Teodoro Cuesta\, Calle Manuel Llaneza\, 8\, Mieres\, Asturias\, 33600\, España
CATEGORIES:Deportes
ATTACH;FMTTYPE=image/jpeg:https://www.mieres.es/wp-content/uploads/2024/02/Cartel-Jornadas-Montana-Mieres.jpg
GEO:43.2502294;-5.7729571
X-APPLE-STRUCTURED-LOCATION;VALUE=URI;X-ADDRESS=Casa de Cultura Teodoro Cuesta Calle Manuel Llaneza 8 Mieres Asturias 33600 España;X-APPLE-RADIUS=500;X-TITLE=Calle Manuel Llaneza\, 8:geo:-5.7729571,43.2502294
END:VEVENT
END:VCALENDAR