BEGIN:VCALENDAR
VERSION:2.0
PRODID:-//Ayuntamiento de Mieres - ECPv5.16.1.1//NONSGML v1.0//EN
CALSCALE:GREGORIAN
METHOD:PUBLISH
X-WR-CALNAME:Ayuntamiento de Mieres
X-ORIGINAL-URL:https://www.mieres.es
X-WR-CALDESC:Eventos para Ayuntamiento de Mieres
BEGIN:VTIMEZONE
TZID:Europe/Madrid
BEGIN:DAYLIGHT
TZOFFSETFROM:+0100
TZOFFSETTO:+0200
TZNAME:CEST
DTSTART:20240331T010000
END:DAYLIGHT
BEGIN:STANDARD
TZOFFSETFROM:+0200
TZOFFSETTO:+0100
TZNAME:CET
DTSTART:20241027T010000
END:STANDARD
END:VTIMEZONE
BEGIN:VEVENT
DTSTART;TZID=Europe/Madrid:20240301T200000
DTEND;TZID=Europe/Madrid:20240301T200000
DTSTAMP:20260422T124511
CREATED:20240202T114233Z
LAST-MODIFIED:20240209T090545Z
UID:67291-1709323200-1709323200@www.mieres.es
SUMMARY:XXXVI Xornaes de Montaña de Mieres: "SOS Himalaya"\, por Fundación Iñaki Ochoa
DESCRIPTION:XXXVI Xornaes de Montaña de Mieres \n\nPresentación del libro “Sálvese quien pueda”\nde Ángel Castro Vidal\n“SOS Himalaya”\npor Fundación Iñaki Ochoa\n  \nAuditorio Teodoro Cuesta \nEntrada libre hasta completar aforo \n\n  \n  \nÁngel Castro Vidal. Escalador asturiano que comenzó su pasión por la montaña a los 13 años\, gracias a una revista de montaña. Posteriormente\, comenzó a escalar de manera autodidacta\, aprendiendo los conceptos básicos de la escalada\, como hacer nudos y obteniendo la inspiración que le animaba a seguir subiendo.\nA día de hoy\, es un escalador y guía de montaña profesional\, reuniendo experiencia en sus subidas a la Cordillera Cantábrica\, los Picos de Europa\, los Alpes o los Pirineos entre otros. También se convirtió en aperturista de diversas vías\, desde el macizo de las Ubiñas\, los picos de Europa o Noruega.\nhttps://www.elcomercio.es/rutas-senderismo-por-asturias/salvese-quien-pueda-libro-relatos-escalada-angel-castro-vidal-asturias-20240123170037-nt.html \n  \nFundación Iñaki Ochoa. La fundación SOS Himalaya “Iñaki Ochoa” nace en el 2009 con el objetivo de conservar y difundir la memoria del escalador navarro Iñaki Ochoa\, tratando de finalizar los proyectos de cooperación inacabados por él. Dichos objetivos van desde construir orfanatos\, hospitales o escuelas en Nepal\, Pakistán y la India.\nPara ello\, la fundación trata de realizar todo tipo de actividades destinadas a recaudar fondos en el primer mundo. Dichas actividades\, tendrán que ver con la montaña\, como conferencias o actividades mercantiles cuyo dinero se destinará a los fines antes mencionados.\nhttps://www.soshimalaya.org/ \n  \nLa montaña y el deporte vuelve un año más a su tradicional cita en Mieres con las XXXVI Jornadas de Montaña que en esta edición se celebrarán a lo largo de la última semana de febrero con un programa completo que incluye proyecciones\, charlas y coloquios\,  junto con nuevas actividades como los talleres formativos de montaña. Las Jornadas de Montaña de Mieres volverán a convertirse un año más en espacio de divulgación\, conocimiento y encuentro para montañeros y montañeras profesionales\, personas aficionadas y amantes de la naturaleza y el deporte. \nCorreo para inscripciones en las actividades: patronato@ayto-mieres.es
URL:https://www.mieres.es/evento/xxxvi-xornaes-de-montana-de-mieres-5/
LOCATION:Casa de Cultura Teodoro Cuesta\, Calle Manuel Llaneza\, 8\, Mieres\, Asturias\, 33600\, España
CATEGORIES:Deportes
ATTACH;FMTTYPE=image/jpeg:https://www.mieres.es/wp-content/uploads/2024/02/Cartel-Jornadas-Montana-Mieres.jpg
GEO:43.2502294;-5.7729571
X-APPLE-STRUCTURED-LOCATION;VALUE=URI;X-ADDRESS=Casa de Cultura Teodoro Cuesta Calle Manuel Llaneza 8 Mieres Asturias 33600 España;X-APPLE-RADIUS=500;X-TITLE=Calle Manuel Llaneza\, 8:geo:-5.7729571,43.2502294
END:VEVENT
END:VCALENDAR