BEGIN:VCALENDAR
VERSION:2.0
PRODID:-//Ayuntamiento de Mieres - ECPv5.16.1.1//NONSGML v1.0//EN
CALSCALE:GREGORIAN
METHOD:PUBLISH
X-WR-CALNAME:Ayuntamiento de Mieres
X-ORIGINAL-URL:https://www.mieres.es
X-WR-CALDESC:Eventos para Ayuntamiento de Mieres
BEGIN:VTIMEZONE
TZID:Europe/Madrid
BEGIN:DAYLIGHT
TZOFFSETFROM:+0100
TZOFFSETTO:+0200
TZNAME:CEST
DTSTART:20240331T010000
END:DAYLIGHT
BEGIN:STANDARD
TZOFFSETFROM:+0200
TZOFFSETTO:+0100
TZNAME:CET
DTSTART:20241027T010000
END:STANDARD
END:VTIMEZONE
BEGIN:VEVENT
DTSTART;TZID=Europe/Madrid:20240302T133000
DTEND;TZID=Europe/Madrid:20240302T133000
DTSTAMP:20260422T124435
CREATED:20240301T124631Z
LAST-MODIFIED:20240301T124631Z
UID:67919-1709386200-1709386200@www.mieres.es
SUMMARY:II Copa Princesa de Asturias de Hockey sobre patines (2/3MAR)
DESCRIPTION:HOCKEY SOBRE PATINES \nII COPA PRINCESA DE ASTURIAS\nPabellón Visiola Rollán\n2 y 3 de marzo de 2024 \n\n  \nMieres ya está preparada para acoger la Copa de la Princesa Femenina este fin de semana. Esta será la II edición de la competición femenina\, después de la pasada que tuvo lugar en Alcobendas y acabó levantando el Lidergrip CH Mataró. \nGaratge Plana Girona CH\, HC Raxoi\, CP Alcalá y Ene Oposiciones CPM – Lena serán los conjuntos que participen en la segunda edición de la Copa de la Princesa Femenina. En los cruces de semifinales\, el Garatge Plana Girona CH jugará ante el Raxoi y en la segunda semifinal\, el Alcalá se enfrentará al Ene Oposiciones Lena. \nTodos los partidos se podrán seguir en directo por FEPTV y FDPPA TV\, el canal oficial de la Federación de Patinaje del Principado de Asturias. \n  \nHorarios Oficiales Copa de SAR la Princesa Femenina\n \nSemifinales (sábado 2 de marzo)\nGaratge Plana Girona CH – Hockey Club Raxoi (17:30h)\nCP Alcalá – ENE Oposiciones CPM – Lena (19:30h) \nFinal (domingo 3 de marzo)\nGanador semifinal 1 – Ganador semifinal 2 (13:30h) \n\n 
URL:https://www.mieres.es/evento/ii-copa-princesa-de-asturias-de-hockey-sobre-patines-2-3mar-2/
LOCATION:Pabellón Visiola Rollán\, Calle Llanes s/n\, Mieres\, Asturias\, 33600\, España
CATEGORIES:Deportes
ATTACH;FMTTYPE=image/jpeg:https://www.mieres.es/wp-content/uploads/2024/03/cartel-copa-reina-mieres-2024.jpg
GEO:43.2576447;-5.7801748
X-APPLE-STRUCTURED-LOCATION;VALUE=URI;X-ADDRESS=Pabellón Visiola Rollán Calle Llanes s/n Mieres Asturias 33600 España;X-APPLE-RADIUS=500;X-TITLE=Calle Llanes s/n:geo:-5.7801748,43.2576447
END:VEVENT
BEGIN:VEVENT
DTSTART;TZID=Europe/Madrid:20240302T173000
DTEND;TZID=Europe/Madrid:20240302T173000
DTSTAMP:20260422T124435
CREATED:20240301T123532Z
LAST-MODIFIED:20240301T123957Z
UID:67910-1709400600-1709400600@www.mieres.es
SUMMARY:II Copa Princesa de Asturias de Hockey sobre patines (2/3MAR)
DESCRIPTION:HOCKEY SOBRE PATINES \nII COPA PRINCESA DE ASTURIAS\nPabellón Visiola Rollán\n2 y 3 de marzo de 2024 \n\n  \nMieres ya está preparada para acoger la Copa de la Princesa Femenina este fin de semana. Esta será la II edición de la competición femenina\, después de la pasada que tuvo lugar en Alcobendas y acabó levantando el Lidergrip CH Mataró. \nGaratge Plana Girona CH\, HC Raxoi\, CP Alcalá y Ene Oposiciones CPM – Lena serán los conjuntos que participen en la segunda edición de la Copa de la Princesa Femenina. En los cruces de semifinales\, el Garatge Plana Girona CH jugará ante el Raxoi y en la segunda semifinal\, el Alcalá se enfrentará al Ene Oposiciones Lena. \nTodos los partidos se podrán seguir en directo por FEPTV y FDPPA TV\, el canal oficial de la Federación de Patinaje del Principado de Asturias. \n  \nHorarios Oficiales Copa de SAR la Princesa Femenina\n \nSemifinales (sábado 2 de marzo)\nGaratge Plana Girona CH – Hockey Club Raxoi (17:30h)\nCP Alcalá – ENE Oposiciones CPM – Lena (19:30h) \nFinal (domingo 3 de marzo)\nGanador semifinal 1 – Ganador semifinal 2 (13:30h) \n\n 
URL:https://www.mieres.es/evento/ii-copa-princesa-de-asturias-de-hockey-sobre-patines-2-3mar/
LOCATION:Pabellón Visiola Rollán\, Calle Llanes s/n\, Mieres\, Asturias\, 33600\, España
CATEGORIES:Deportes
ATTACH;FMTTYPE=image/jpeg:https://www.mieres.es/wp-content/uploads/2024/03/cartel-copa-reina-mieres-2024.jpg
GEO:43.2576447;-5.7801748
X-APPLE-STRUCTURED-LOCATION;VALUE=URI;X-ADDRESS=Pabellón Visiola Rollán Calle Llanes s/n Mieres Asturias 33600 España;X-APPLE-RADIUS=500;X-TITLE=Calle Llanes s/n:geo:-5.7801748,43.2576447
END:VEVENT
END:VCALENDAR