BEGIN:VCALENDAR
VERSION:2.0
PRODID:-//Ayuntamiento de Mieres - ECPv5.16.1.1//NONSGML v1.0//EN
CALSCALE:GREGORIAN
METHOD:PUBLISH
X-WR-CALNAME:Ayuntamiento de Mieres
X-ORIGINAL-URL:https://www.mieres.es
X-WR-CALDESC:Eventos para Ayuntamiento de Mieres
BEGIN:VTIMEZONE
TZID:Europe/Madrid
BEGIN:DAYLIGHT
TZOFFSETFROM:+0100
TZOFFSETTO:+0200
TZNAME:CEST
DTSTART:20240331T010000
END:DAYLIGHT
BEGIN:STANDARD
TZOFFSETFROM:+0200
TZOFFSETTO:+0100
TZNAME:CET
DTSTART:20241027T010000
END:STANDARD
END:VTIMEZONE
BEGIN:VEVENT
DTSTART;TZID=Europe/Madrid:20240417T180000
DTEND;TZID=Europe/Madrid:20240417T180000
DTSTAMP:20260422T105521
CREATED:20240416T120529Z
LAST-MODIFIED:20240416T120529Z
UID:68548-1713376800-1713376800@www.mieres.es
SUMMARY:Encuentros con olímpicos: Javier García Cuesta y Ramón Gallego (Balonmano)
DESCRIPTION:Deportes: \nEncuentros con olímpicos:\nJavier García Cuesta y Ramón Gallego\n(Balonmano)\nMiércoles 17 de abril de 2024 \nSala de Grados del Campus de Mieres \nEntrada libre y gratuita \n\n 
URL:https://www.mieres.es/evento/encuentros-con-olimpicos-javier-garcia-cuesta-y-ramon-gallego-balonmano/
LOCATION:Campus Universitario de Mieres\, Calle Gonzalo Gutiérrez Quirós\, Mieres\, Asturias\, 33600
CATEGORIES:Deportes
ATTACH;FMTTYPE=image/jpeg:https://www.mieres.es/wp-content/uploads/2024/04/2024-04-17-Cultura-Cercana-Olimpicos-garcia-cuesta-gallego--scaled.jpg
GEO:43.2415825;-5.7771595
X-APPLE-STRUCTURED-LOCATION;VALUE=URI;X-ADDRESS=Campus Universitario de Mieres Calle Gonzalo Gutiérrez Quirós Mieres Asturias 33600;X-APPLE-RADIUS=500;X-TITLE=Calle Gonzalo Gutiérrez Quirós:geo:-5.7771595,43.2415825
END:VEVENT
END:VCALENDAR