BEGIN:VCALENDAR
VERSION:2.0
PRODID:-//Ayuntamiento de Mieres - ECPv5.16.1.1//NONSGML v1.0//EN
CALSCALE:GREGORIAN
METHOD:PUBLISH
X-WR-CALNAME:Ayuntamiento de Mieres
X-ORIGINAL-URL:https://www.mieres.es
X-WR-CALDESC:Eventos para Ayuntamiento de Mieres
BEGIN:VTIMEZONE
TZID:Europe/Madrid
BEGIN:DAYLIGHT
TZOFFSETFROM:+0100
TZOFFSETTO:+0200
TZNAME:CEST
DTSTART:20240331T010000
END:DAYLIGHT
BEGIN:STANDARD
TZOFFSETFROM:+0200
TZOFFSETTO:+0100
TZNAME:CET
DTSTART:20241027T010000
END:STANDARD
END:VTIMEZONE
BEGIN:VEVENT
DTSTART;VALUE=DATE:20240517
DTEND;VALUE=DATE:20240518
DTSTAMP:20260422T093151
CREATED:20240517T073118Z
LAST-MODIFIED:20240517T073444Z
UID:69131-1715904000-1715990399@www.mieres.es
SUMMARY:Campeonato de España Femenino SUB17 de Hockey sobre patines (17/19MAY)
DESCRIPTION:HOCKEY SOBRE PATINES \nCAMPEONATO DE ESPAÑA FEMENINO SUB17\nPabellón Visiola Rollán\ndel 17 al 19 de mayo \n\n  \nEquipos participantes: \n\nH.C. RAXOI\nC.H. ARENYS DE MAR\nGATINAKO IUSTURI\nTRESCANTOS P.C.\nENE OPOSICIONES-LENA C.M.\nC.P. VILANOVA\nC.D. AURRERÁ BAT-GORA\nC.P. ALCALÁ\n\nCALENDARIO DE COMPETICIÓN:\n \nDomingo 19: semifinales y final \n\n 
URL:https://www.mieres.es/evento/campeonato-de-espana-femenino-sub17-de-hockey-sobre-patines-17-19may/2024-05-17/
LOCATION:Pabellón Visiola Rollán\, Calle Llanes s/n\, Mieres\, Asturias\, 33600\, España
CATEGORIES:Deportes
ATTACH;FMTTYPE=image/jpeg:https://www.mieres.es/wp-content/uploads/2024/05/CARTEL-CAMPEONATO-DE-ESPANA-SUB17-2024-AYTO.jpg
GEO:43.2576447;-5.7801748
X-APPLE-STRUCTURED-LOCATION;VALUE=URI;X-ADDRESS=Pabellón Visiola Rollán Calle Llanes s/n Mieres Asturias 33600 España;X-APPLE-RADIUS=500;X-TITLE=Calle Llanes s/n:geo:-5.7801748,43.2576447
END:VEVENT
END:VCALENDAR