BEGIN:VCALENDAR
VERSION:2.0
PRODID:-//Ayuntamiento de Mieres - ECPv5.16.1.1//NONSGML v1.0//EN
CALSCALE:GREGORIAN
METHOD:PUBLISH
X-WR-CALNAME:Ayuntamiento de Mieres
X-ORIGINAL-URL:https://www.mieres.es
X-WR-CALDESC:Eventos para Ayuntamiento de Mieres
BEGIN:VTIMEZONE
TZID:Europe/Madrid
BEGIN:DAYLIGHT
TZOFFSETFROM:+0100
TZOFFSETTO:+0200
TZNAME:CEST
DTSTART:20240331T010000
END:DAYLIGHT
BEGIN:STANDARD
TZOFFSETFROM:+0200
TZOFFSETTO:+0100
TZNAME:CET
DTSTART:20241027T010000
END:STANDARD
END:VTIMEZONE
BEGIN:VEVENT
DTSTART;VALUE=DATE:20240519
DTEND;VALUE=DATE:20240520
DTSTAMP:20260422T093314
CREATED:20240517T073118Z
LAST-MODIFIED:20240517T073510Z
UID:69136-1716076800-1716163199@www.mieres.es
SUMMARY:Campeonato de España Femenino SUB17 de Hockey sobre patines (17/19MAY)
DESCRIPTION:HOCKEY SOBRE PATINES \nCAMPEONATO DE ESPAÑA FEMENINO SUB17\nPabellón Visiola Rollán\ndel 17 al 19 de mayo \n\n  \nEquipos participantes: \n\nH.C. RAXOI\nC.H. ARENYS DE MAR\nGATINAKO IUSTURI\nTRESCANTOS P.C.\nENE OPOSICIONES-LENA C.M.\nC.P. VILANOVA\nC.D. AURRERÁ BAT-GORA\nC.P. ALCALÁ\n\nCALENDARIO DE COMPETICIÓN:\n \nDomingo 19: semifinales y final \n\n 
URL:https://www.mieres.es/evento/campeonato-de-espana-femenino-sub17-de-hockey-sobre-patines-17-19may/2024-05-19/
LOCATION:Pabellón Visiola Rollán\, Calle Llanes s/n\, Mieres\, Asturias\, 33600\, España
CATEGORIES:Deportes
ATTACH;FMTTYPE=image/jpeg:https://www.mieres.es/wp-content/uploads/2024/05/CARTEL-CAMPEONATO-DE-ESPANA-SUB17-2024-AYTO.jpg
GEO:43.2576447;-5.7801748
X-APPLE-STRUCTURED-LOCATION;VALUE=URI;X-ADDRESS=Pabellón Visiola Rollán Calle Llanes s/n Mieres Asturias 33600 España;X-APPLE-RADIUS=500;X-TITLE=Calle Llanes s/n:geo:-5.7801748,43.2576447
END:VEVENT
BEGIN:VEVENT
DTSTART;TZID=Europe/Madrid:20240519T090000
DTEND;TZID=Europe/Madrid:20240519T090000
DTSTAMP:20260422T093314
CREATED:20240514T123902Z
LAST-MODIFIED:20240514T123902Z
UID:69068-1716109200-1716109200@www.mieres.es
SUMMARY:Trail Picu Llosorio 2024
DESCRIPTION:Carrera de montaña: \n\nTrail Picu Llosorio 2024\n\n  \n\nEl próximo 19 de Mayo de 2024 se celebrará en Mieres del Camín la tercera edición de la carrera por montaña Trail Picu Llosorio. Dicha carrera dispondrá de dos distancias\, un Trail de 31 km en el que se ascenderá a la emblemática cumbre del Picu Llosorio situada a 1.004 me de altitud y un Speed Trail de 14 km.. \nTendrá salida y meta en el Parque Xovellanos\, pasando también por las calles Aller y Manuel Llaneza hasta el Puente de La Perra cogiendo luego dirección Norte y dirección Siana. Todo el recorrido estará debidamente señalizado. \n  \nInformación e inscripciones en www.trailpicullosorio.com \n\n\n\n 
URL:https://www.mieres.es/evento/trail-picu-llosorio-2024/
LOCATION:Varios espacios\, Mieres\, Asturias\, 33600 
CATEGORIES:Deportes
ATTACH;FMTTYPE=image/jpeg:https://www.mieres.es/wp-content/uploads/2024/05/trail-Picu-Llosorio-2024.jpeg
GEO:43.2491037;-5.7747551
END:VEVENT
BEGIN:VEVENT
DTSTART;TZID=Europe/Madrid:20240519T173000
DTEND;TZID=Europe/Madrid:20240519T173000
DTSTAMP:20260422T093314
CREATED:20240517T081741Z
LAST-MODIFIED:20240517T081741Z
UID:69146-1716139800-1716139800@www.mieres.es
SUMMARY:Baloncesto: Final Four 2ª división masculina 2024 (final)
DESCRIPTION:Baloncesto: \nFinal Four 2ª división masculina\n  \nLos días 18 y 19 de Mayo se pone en Juego el título de la 2ª división masculina autonómica de baloncesto y con ello el ansiado premio del ascenso a 1ª. \nLa F4 se disputará íntegramente en el Polideportivo Mieres Sur con los siguientes horarios: \n  \nSABADO 18 DE MAYO 2024 \n19:30  C.B. LA ARGAÑOSA – C.D. MARCHICA \n21:30  BVM2012 – A.C.D. VALNALÓN \nLos ganadores de ambas semifinales ascenderán a 1ª Autonómica Masculina. \n  \nDOMINGO 19 DE MAYO 2024 \n17:30  3º Y 4º PUESTO \n19:30  FINAL \n  \n\n 
URL:https://www.mieres.es/evento/baloncesto-final-four-2a-division-masculina-2024-final/
LOCATION:Polideportivo Municipal Mieres Sur\, Calle Los Llerones\, Mieres\, Asturias\, 33600
CATEGORIES:Deportes
ATTACH;FMTTYPE=image/jpeg:https://www.mieres.es/wp-content/uploads/2024/05/Final-A4-autonomica-masculina-Mieres.jpeg
GEO:43.2438486;-5.7789449
X-APPLE-STRUCTURED-LOCATION;VALUE=URI;X-ADDRESS=Polideportivo Municipal Mieres Sur Calle Los Llerones Mieres Asturias 33600;X-APPLE-RADIUS=500;X-TITLE=Calle Los Llerones:geo:-5.7789449,43.2438486
END:VEVENT
END:VCALENDAR