BEGIN:VCALENDAR
VERSION:2.0
PRODID:-//Ayuntamiento de Mieres - ECPv5.16.1.1//NONSGML v1.0//EN
CALSCALE:GREGORIAN
METHOD:PUBLISH
X-WR-CALNAME:Ayuntamiento de Mieres
X-ORIGINAL-URL:https://www.mieres.es
X-WR-CALDESC:Eventos para Ayuntamiento de Mieres
BEGIN:VTIMEZONE
TZID:Europe/Madrid
BEGIN:DAYLIGHT
TZOFFSETFROM:+0100
TZOFFSETTO:+0200
TZNAME:CEST
DTSTART:20240331T010000
END:DAYLIGHT
BEGIN:STANDARD
TZOFFSETFROM:+0200
TZOFFSETTO:+0100
TZNAME:CET
DTSTART:20241027T010000
END:STANDARD
END:VTIMEZONE
BEGIN:VEVENT
DTSTART;TZID=Europe/Madrid:20240526T120000
DTEND;TZID=Europe/Madrid:20240526T120000
DTSTAMP:20260422T093239
CREATED:20240522T125442Z
LAST-MODIFIED:20240522T125442Z
UID:69231-1716724800-1716724800@www.mieres.es
SUMMARY:Final Four Copa Principado Juvenil de Fútbol Sala 2024
DESCRIPTION:Fútbol sala \nFinal Four Copa Principado Juvenil de Fútbol Sala 2024\n  \nPolideportivo Mieres Sur \nOrganizada por el Racing de Mieres \n\nLos mejores sub18 de Asturias de fútbol sala se dan cita este sábado y domingo en Mieres para la celebración de la Final Four Copa Principado\, de la Federación Asturiana de Fútbol. Tras una fase clasificatoria\, los cuatro mejores clubes asturianos -todos ellos de División de Honor Nacional- que disputarán esta Final Four son: \n\nE.F.S Siero\nDeportivo Laviana F.S.\nGijón Perchera F.S.\nRacing de Mieres\n\n  \n\n 
URL:https://www.mieres.es/evento/final-four-copa-principado-juvenil-de-futbol-sala-2024-2/
LOCATION:Polideportivo Municipal Mieres Sur\, Calle Los Llerones\, Mieres\, Asturias\, 33600
CATEGORIES:Deportes
ATTACH;FMTTYPE=image/jpeg:https://www.mieres.es/wp-content/uploads/2024/05/copa-principado-juvenil-sala-2024.jpg
GEO:43.2438486;-5.7789449
X-APPLE-STRUCTURED-LOCATION;VALUE=URI;X-ADDRESS=Polideportivo Municipal Mieres Sur Calle Los Llerones Mieres Asturias 33600;X-APPLE-RADIUS=500;X-TITLE=Calle Los Llerones:geo:-5.7789449,43.2438486
END:VEVENT
END:VCALENDAR