BEGIN:VCALENDAR
VERSION:2.0
PRODID:-//Ayuntamiento de Mieres - ECPv5.16.1.1//NONSGML v1.0//EN
CALSCALE:GREGORIAN
METHOD:PUBLISH
X-WR-CALNAME:Ayuntamiento de Mieres
X-ORIGINAL-URL:https://www.mieres.es
X-WR-CALDESC:Eventos para Ayuntamiento de Mieres
BEGIN:VTIMEZONE
TZID:Europe/Madrid
BEGIN:DAYLIGHT
TZOFFSETFROM:+0100
TZOFFSETTO:+0200
TZNAME:CEST
DTSTART:20240331T010000
END:DAYLIGHT
BEGIN:STANDARD
TZOFFSETFROM:+0200
TZOFFSETTO:+0100
TZNAME:CET
DTSTART:20241027T010000
END:STANDARD
END:VTIMEZONE
BEGIN:VEVENT
DTSTART;VALUE=DATE:20240611
DTEND;VALUE=DATE:20240612
DTSTAMP:20260422T074951
CREATED:20240510T080301Z
LAST-MODIFIED:20240514T163110Z
UID:69027-1718064000-1718150399@www.mieres.es
SUMMARY:XI Torneo Alevín de Fútbol 8 C. D. Ujo
DESCRIPTION:Fútbol  \nXI Torneo Alevín de Fútbol 8\nC. D. Ujo\nCampo de Fútbol Las Lleras\ndel 10 al 15 de junio
URL:https://www.mieres.es/evento/torneo-alevin-de-futbol-8-c-d-ujo/2024-06-11/
LOCATION:Uxo
CATEGORIES:Deportes
ATTACH;FMTTYPE=image/jpeg:https://www.mieres.es/wp-content/uploads/2024/05/CARTEL-Torneo-alevin-UJO-scaled.jpg
END:VEVENT
END:VCALENDAR