BEGIN:VCALENDAR
VERSION:2.0
PRODID:-//Ayuntamiento de Mieres - ECPv5.16.1.1//NONSGML v1.0//EN
CALSCALE:GREGORIAN
METHOD:PUBLISH
X-WR-CALNAME:Ayuntamiento de Mieres
X-ORIGINAL-URL:https://www.mieres.es
X-WR-CALDESC:Eventos para Ayuntamiento de Mieres
BEGIN:VTIMEZONE
TZID:Europe/Madrid
BEGIN:DAYLIGHT
TZOFFSETFROM:+0100
TZOFFSETTO:+0200
TZNAME:CEST
DTSTART:20240331T010000
END:DAYLIGHT
BEGIN:STANDARD
TZOFFSETFROM:+0200
TZOFFSETTO:+0100
TZNAME:CET
DTSTART:20241027T010000
END:STANDARD
END:VTIMEZONE
BEGIN:VEVENT
DTSTART;VALUE=DATE:20240614
DTEND;VALUE=DATE:20240615
DTSTAMP:20260422T075054
CREATED:20240510T080301Z
LAST-MODIFIED:20240514T163133Z
UID:69030-1718323200-1718409599@www.mieres.es
SUMMARY:XI Torneo Alevín de Fútbol 8 C. D. Ujo
DESCRIPTION:Fútbol  \nXI Torneo Alevín de Fútbol 8\nC. D. Ujo\nCampo de Fútbol Las Lleras\ndel 10 al 15 de junio
URL:https://www.mieres.es/evento/torneo-alevin-de-futbol-8-c-d-ujo/2024-06-14/
LOCATION:Uxo
CATEGORIES:Deportes
ATTACH;FMTTYPE=image/jpeg:https://www.mieres.es/wp-content/uploads/2024/05/CARTEL-Torneo-alevin-UJO-scaled.jpg
END:VEVENT
BEGIN:VEVENT
DTSTART;VALUE=DATE:20240614
DTEND;VALUE=DATE:20240615
DTSTAMP:20260422T075054
CREATED:20240529T121145Z
LAST-MODIFIED:20240529T122200Z
UID:69321-1718323200-1718409599@www.mieres.es
SUMMARY:I Torneo de Tenis San Juan CTM -Federado individual absoluto- (14/23JUN)
DESCRIPTION:Deportes: \nI Torneo de Tenis San Juan CTM\n\nDel 14 al 23 de junio de 2024 \nInscripciones del 3 al 10 de junio en www.clubtenismieres.es \nInstalaciones deportivas de la Ciudad del Tenis (La Riquela-Turón) \n\nSEDE: CIUDAD DEL TENIS-LA RIQUELA\,CABOJAL\nORGANIZACIÓN: Club Tenis Mieres del Camín \n\nDirector del torneo: Francisco Martínez Bembibre/ e-mail:clubtenismieres@hotmail.com\nJuez Árbitro: Por determinar(FEDETEPA).\n\nINFORMACIÓN DEL TORNEO:\n● Superficie: GreenSet: 2 pistas cubiertas y 1 pista exterior\n● Pelotas: Dunlop Tour Brilliance \nFECHA: del 14 al 23 de junio\n● Fase Previa: 14\,15 y 16 de junio\n● Fase Final: 17 al 23 de junio\n● Si no hay suficientes jugadores para la previa\, se comenzará primero la fase final. Si\nla fase previa es corta se comenzará la fase final el sábado 15 de junio. \nPRUEBAS: Individual Absoluto(M-F)\n● Fase previa: se clasifican 4 jugadores\n● Fase final: de 16 jugadores\n● Formato: todos los partidos se jugarán al mejor de dos sets con “tie-break” y “match tie-break” a 10 puntos en lugar del tercer set. Se requiere licencia federativa en vigor en la fecha de celebración del torneo. \nCIERRE DE INSCRIPCIÓN: 10 de junio a las 23:59\nLISTA DE ADMITIDOS: 11 de junio\nSORTEO: miércoles 12 de junio a las 17:00 en las instalaciones del club. \nINSCRIPCIONES: las inscripciones se realizan en la página de reservas del club: http://tienda.clubtenismieres.es/torneos . Previamente es obligatorio crear una cuenta en la página de reservas y cumplimentar el formulario de preinscripción\nPRECIO INSCRIPCIÓN: 15€ socios del club\, 20€ no socios. \nHORARIOS DE JUEGO:\n● Lunes a viernes: 16:00 a 22:00\n● Sábado y domingo: 09:00 a 22:00 \nPREMIOS:\nFinalistas: Trofeo y vale de 100€ y 50€\nSemifinalistas: Trofeo y material deportivo\nCuartofinalistas: Material deportivo \nINSTALACIONES:\nLos jugadores tendrán a su disposición el gimnasio del club y la pista exterior(en caso de no haber partido) para calentar. Además tendrán una zona de descanso y wifi. Toda la información del torneo\, listas de admitidos\, orden de juego y cuadros se publicarán en la página web del club: clubtenismieres.es.
URL:https://www.mieres.es/evento/i-torneo-de-tenis-san-juan-ctm-federado-individual-absoluto-14-23jun/
LOCATION:Turón\, Calle Centro\, 9\, 33610 Mieres\, Asturias\, Turón\, Asturias\, 33610\, España
CATEGORIES:Deportes
ATTACH;FMTTYPE=image/jpeg:https://www.mieres.es/wp-content/uploads/2024/05/torneo-tenis-san-juan-2024.jpeg
GEO:43.209144;-5.7417617
X-APPLE-STRUCTURED-LOCATION;VALUE=URI;X-ADDRESS=Turón Calle Centro 9 33610 Mieres Asturias Turón Asturias 33610 España;X-APPLE-RADIUS=500;X-TITLE=Calle Centro\, 9\, 33610 Mieres\, Asturias:geo:-5.7417617,43.209144
END:VEVENT
END:VCALENDAR