BEGIN:VCALENDAR
VERSION:2.0
PRODID:-//Ayuntamiento de Mieres - ECPv5.16.1.1//NONSGML v1.0//EN
CALSCALE:GREGORIAN
METHOD:PUBLISH
X-WR-CALNAME:Ayuntamiento de Mieres
X-ORIGINAL-URL:https://www.mieres.es
X-WR-CALDESC:Eventos para Ayuntamiento de Mieres
BEGIN:VTIMEZONE
TZID:Europe/Madrid
BEGIN:DAYLIGHT
TZOFFSETFROM:+0100
TZOFFSETTO:+0200
TZNAME:CEST
DTSTART:20240331T010000
END:DAYLIGHT
BEGIN:STANDARD
TZOFFSETFROM:+0200
TZOFFSETTO:+0100
TZNAME:CET
DTSTART:20241027T010000
END:STANDARD
END:VTIMEZONE
BEGIN:VEVENT
DTSTART;TZID=Europe/Madrid:20240901T144500
DTEND;TZID=Europe/Madrid:20240901T164000
DTSTAMP:20260422T032804
CREATED:20240821T094848Z
LAST-MODIFIED:20240829T090310Z
UID:70178-1725201900-1725208800@www.mieres.es
SUMMARY:Vuelta Ciclista a España\, etapa 15. Paso por Mieres
DESCRIPTION:Vuelta Ciclista a España\nEtapa 15. Infiesto-Cuitu Negru\nPaso por Mieres\n \n  \nLa Vuelta Ciclista a España vuelve a pasar por nuestro concejo en esta edición 2024\, con la particularidad en esta ocasión de realizar dos pasos por nuestras carreteras. \nEl primero de ellos cruzará el concejo desde su entrada por el Alto de la Colladiella hasta la salida del mismo por el Alto de San Emiliano. El horario previsto de paso por La Colladiella y Urbiés será en torno a las 14:45\, Turón a las 15:05\, Mieres a las 15:15 y la salida por San Emiliano sería en torno a las 15:30h. \nLa ruta continúa por la cuenca de Langreo para volver a realizar un nuevo pase por el Alto de la Colladiella en torno a las 16:05\, Turón a las 16:20\, Figareo a las 16:30\, saliendo en esta ocasión en dirección Villayana\, para continuar por el vecino concejo de Llena hacia el Puerto de Pajares y Cuitu Negru\, cima fin de etapa. \nParada ciclista \nEn las horas previas la plaza del Ayuntamiento de Mieres acogerá la parada ciclista\, que va a estar compuesta por unos 35 vehículos\, consiste en una minifiesta con música\, actores y reparto de regalos al publico asistente totalmente gratis\, la duración de la acción es de 30 minutos y siguen ruta desalojando rápido la ubicación. \nHorarios \nLes ofrecemos a continuación los horarios de paso por el concejo previstos por la organización de La Vuelta\, el tráfico por esas carreteras y localidades  se verá afectado por los cortes necesarios para el paso de esta competición: \n  \n \n \n\n  \n  \n 
URL:https://www.mieres.es/evento/vuelta-ciclista-a-espana-etapa-15-paso-por-mieres/
LOCATION:Carreteras del concejo
CATEGORIES:Deportes
ATTACH;FMTTYPE=image/jpeg:https://www.mieres.es/wp-content/uploads/2024/08/cartel-vuelta-ciclista-espana-2024.jpg
END:VEVENT
END:VCALENDAR