BEGIN:VCALENDAR
VERSION:2.0
PRODID:-//Ayuntamiento de Mieres - ECPv5.16.1.1//NONSGML v1.0//EN
CALSCALE:GREGORIAN
METHOD:PUBLISH
X-WR-CALNAME:Ayuntamiento de Mieres
X-ORIGINAL-URL:https://www.mieres.es
X-WR-CALDESC:Eventos para Ayuntamiento de Mieres
BEGIN:VTIMEZONE
TZID:Europe/Madrid
BEGIN:DAYLIGHT
TZOFFSETFROM:+0100
TZOFFSETTO:+0200
TZNAME:CEST
DTSTART:20240331T010000
END:DAYLIGHT
BEGIN:STANDARD
TZOFFSETFROM:+0200
TZOFFSETTO:+0100
TZNAME:CET
DTSTART:20241027T010000
END:STANDARD
END:VTIMEZONE
BEGIN:VEVENT
DTSTART;TZID=Europe/Madrid:20240912T180000
DTEND;TZID=Europe/Madrid:20240912T180000
DTSTAMP:20260422T032819
CREATED:20240903T075217Z
LAST-MODIFIED:20240903T075217Z
UID:70223-1726164000-1726164000@www.mieres.es
SUMMARY:II Trofeo de Natación "Mejoras del Valle de Turón"
DESCRIPTION:Natación: \nII Trofeo de Natación “Mejoras del Valle de Turón”\n\nMemorial Arsenio Suárez y Homenaje a Aníbal Vázquez \nJueves\, 12 de septiembre. 18:00h.\nPiscina Mejoras del Valle\, Turón \nInscripciones en la propia piscina hasta el 10 de septiembre. \n  \n\n 
URL:https://www.mieres.es/evento/ii-trofeo-de-natacion-mejoras-del-valle-de-turon/
LOCATION:Piscinas de Turón\, Cuesta de Lago\, s/n\, Turón\, Mieres\, Asturias\, 33600
CATEGORIES:Deportes
ATTACH;FMTTYPE=image/jpeg:https://www.mieres.es/wp-content/uploads/2024/09/Torneo-Natacion-mejoras-valle-2024-scaled.jpg
GEO:43.21204837208;-5.7337261380786
X-APPLE-STRUCTURED-LOCATION;VALUE=URI;X-ADDRESS=Piscinas de Turón Cuesta de Lago s/n Turón Mieres Asturias 33600;X-APPLE-RADIUS=500;X-TITLE=Cuesta de Lago\, s/n:geo:-5.7337261380786,43.21204837208
END:VEVENT
END:VCALENDAR