BEGIN:VCALENDAR
VERSION:2.0
PRODID:-//Ayuntamiento de Mieres - ECPv5.16.1.1//NONSGML v1.0//EN
CALSCALE:GREGORIAN
METHOD:PUBLISH
X-WR-CALNAME:Ayuntamiento de Mieres
X-ORIGINAL-URL:https://www.mieres.es
X-WR-CALDESC:Eventos para Ayuntamiento de Mieres
BEGIN:VTIMEZONE
TZID:Europe/Madrid
BEGIN:DAYLIGHT
TZOFFSETFROM:+0100
TZOFFSETTO:+0200
TZNAME:CEST
DTSTART:20240331T010000
END:DAYLIGHT
BEGIN:STANDARD
TZOFFSETFROM:+0200
TZOFFSETTO:+0100
TZNAME:CET
DTSTART:20241027T010000
END:STANDARD
END:VTIMEZONE
BEGIN:VEVENT
DTSTART;TZID=Europe/Madrid:20240926T170000
DTEND;TZID=Europe/Madrid:20240926T190000
DTSTAMP:20260422T032819
CREATED:20240925T084926Z
LAST-MODIFIED:20240925T084926Z
UID:70566-1727370000-1727377200@www.mieres.es
SUMMARY:Pesca: Taller de montaje de Moscas
DESCRIPTION:Pesca \nTaller de montaje de Moscas\nJueves\, 26 de septiembre\, de 17 a 19 h \nParque Xovellanos\nParticipación libre \n\n\n\nDemostración de montaje de moscas artificiales para la pesca del salmón y la trucha. Observa\, pregunta y prueba a atar tus primeras moscas para la pesca con ayuda de alguno de los mejores montadores de esta especialidad. \nCon la participación de: \n\nNacho Heredero\nManuel Calvo\nJorge Rodríguez Maderal\nJuan José de la Fuente (Boti)\n\n\n 
URL:https://www.mieres.es/evento/pesca-taller-de-montaje-de-moscas/
LOCATION:Parque Xovellanos\, Parque Xovellanos\, Mieres\, Asturias\, 33600 
CATEGORIES:Deportes
ATTACH;FMTTYPE=image/jpeg:https://www.mieres.es/wp-content/uploads/2024/09/taller-montaje-pesca-2024.jpg
GEO:43.2517322;-5.7764018
X-APPLE-STRUCTURED-LOCATION;VALUE=URI;X-ADDRESS=Parque Xovellanos Parque Xovellanos Mieres Asturias 33600;X-APPLE-RADIUS=500;X-TITLE=Parque Xovellanos:geo:-5.7764018,43.2517322
END:VEVENT
END:VCALENDAR