BEGIN:VCALENDAR
VERSION:2.0
PRODID:-//Ayuntamiento de Mieres - ECPv5.16.1.1//NONSGML v1.0//EN
CALSCALE:GREGORIAN
METHOD:PUBLISH
X-WR-CALNAME:Ayuntamiento de Mieres
X-ORIGINAL-URL:https://www.mieres.es
X-WR-CALDESC:Eventos para Ayuntamiento de Mieres
BEGIN:VTIMEZONE
TZID:Europe/Madrid
BEGIN:DAYLIGHT
TZOFFSETFROM:+0100
TZOFFSETTO:+0200
TZNAME:CEST
DTSTART:20240331T010000
END:DAYLIGHT
BEGIN:STANDARD
TZOFFSETFROM:+0200
TZOFFSETTO:+0100
TZNAME:CET
DTSTART:20241027T010000
END:STANDARD
END:VTIMEZONE
BEGIN:VEVENT
DTSTART;VALUE=DATE:20240929
DTEND;VALUE=DATE:20240930
DTSTAMP:20260422T032804
CREATED:20240920T095459Z
LAST-MODIFIED:20240920T095459Z
UID:70542-1727568000-1727654399@www.mieres.es
SUMMARY:Liga de Pádel Campus de Mieres Otoño 2024 (fin del plazo de inscripciones)
DESCRIPTION:Deportes: \nLiga de Pádel Campus de Mieres\n\nDe octubre a diciembre de 2024 \nInstalaciones deportivas del Campus de Mieres \n\n  \nHORARIO DE LAS PISTAS:\nLUNES A VIERNES\n 9.00-10.00 10.00-11.00\n 11:00-12:00 12:00-13.00\n 13:00-14:00 14:00-15:00\n 15:00-16:00 16:00-17:00\n 17:00-18:00 18:00-19:00\n 19:00-20:00 20:00-20:45\n SÁBADOS\n 9.00-10:00 10:00-11:00\n 11.00-12.00 12:00-13.00 13:00-13:45\nTELÉFONO DE RESERVA:\n 985458190\nFECHAS DE LA LIGA:\n Octubre a diciembre 2024 (fechas estimadas: 7 de octubre al 15 de diciembre).\nFECHA DE INSCRIPCIÓN:\n ÚLTIMO DÍA: DOMINGO 29 DE SEPTIEMBRE\nCATEGORÍA:\n Única\, las parejas podrán ser masculinas\, femeninas\, mixtas\n Menores de 15 años deberán jugar con un adulto.\nSISTEMA DE JUEGO:\n Partidos al mejor de 2 sets. Supertai a 10 puntos en caso de empate. Bola de oro en todos los partidos.\n Semifinales y finales al mejor de tres sets+punto de oro.\n Cuadros hechos a sorteo.\n De carácter eliminatorio. A no ser que haya pocas parejas\, que se hará cuadro de consolación.\nDESARROLLO:\n Las parejas que se enfrentan deberán ponerse en contacto y fijar día y hora para jugar ese partido. Se dará\nuna semana de margen (de lunes a sábado) para disputarlo. Una vez disputado\, la pareja ganadora deberá\nenviar el resultado al correo: deportesmieres@uniovi.es en el periodo comprendido dentro de esa misma\nsemana (con copia a la pareja rival). Si no fuese así\, la pareja quedaría eliminada de la competición.\nMATERIAL:\n Cada jugador traerá su propia pala.\n Las bolas de juego se pedirán en la conserjería del polideportivo. Deberán ser devueltas por la pareja\nganadora; en caso de no ser así\, se penalizará con la eliminación de la competición de dicha pareja.\nPRECIO:\n Cada jugador pagará su parte proporcional de la pista sean universitarios o no. Pista completa por partido\n6€ (cada jugador paga 1\,5€)\nINSCRIPCIÓN DE LA PAREJA:\n deportesmieres@uniovi.es ASUNTO: LIGA DE PADEL\n Datos necesarios: nombre y apellidos\, teléfono de contacto\, correo electrónico.\n Los correos electrónicos de contacto serán publicados en los cuadros del torneo para que las parejas\npuedan contactar para disputar los partidos (los cuadros se harán públicos en el tablón de anuncios del\npolideportivo del campus de Mieres).
URL:https://www.mieres.es/evento/liga-de-padel-campus-de-mieres-otono-2024-fin-del-plazo-de-inscripciones/
LOCATION:Campus Universitario de Mieres\, Calle Gonzalo Gutiérrez Quirós\, Mieres\, Asturias\, 33600
CATEGORIES:Deportes
ATTACH;FMTTYPE=image/jpeg:https://www.mieres.es/wp-content/uploads/2024/09/2024-09-20-Liga-Padel-Mieres-BAJA.jpg
GEO:43.2415825;-5.7771595
X-APPLE-STRUCTURED-LOCATION;VALUE=URI;X-ADDRESS=Campus Universitario de Mieres Calle Gonzalo Gutiérrez Quirós Mieres Asturias 33600;X-APPLE-RADIUS=500;X-TITLE=Calle Gonzalo Gutiérrez Quirós:geo:-5.7771595,43.2415825
END:VEVENT
BEGIN:VEVENT
DTSTART;TZID=Europe/Madrid:20240929T163000
DTEND;TZID=Europe/Madrid:20240929T163000
DTSTAMP:20260422T032804
CREATED:20240918T105352Z
LAST-MODIFIED:20240918T105352Z
UID:70510-1727627400-1727627400@www.mieres.es
SUMMARY:Campeonato de Asturias de Ajedrez por equipos 2024 (Sub12 y Sub18)
DESCRIPTION:Ajedrez \nCampeonato de Asturias de Ajedrez por equipos 2024\n(Sub12 y Sub18)\n21\, 22\, 29 de septiembre y 6 de octubre. A partir de las 16.30h.\nMieres Centru Cultural \n\n\n \n1.- El torneo se disputará en el Centru Cultural Mieres (Calle Jerónimo Ibrán 8 de Mieres)\, los días 21\, 22\, 29 de septiembre y 6 de octubre a partir de las 16:30 y organizado por el Club de Ajedrez Mieres del Camino.\n2.- Se disputarán dos torneos separados\, uno por cada categoría\, que serán válidos para Elo FIDE (las partidas donde uno de los jugadores tenga más de 1800 no computarán).\n3.- Cada club podrán presentar más de un equipo en cada categoría.\n4.- Los equipos estarán formados por un mínimo de 4 jugadores y un máximo de 20. El orden de fuerza del equipo y delegado\, se enviará por correo electrónico a info@ajedrezastur.es.\n5.- En los equipos de la categoría sub 18 se podrán inscribir jugadores federados con el club nacidos en 2006 y posteriores. Podrán jugar los jugadores inscritos en la categoría sub12 pero tendrán que figurar en el orden de fuerza inicial de la categoría sub18.\n6.- En los equipos de la categoría sub 12 se podrán inscribir jugadores federados con el club nacidos en 2012 y posteriores.\n7.-Se establecerán los sistemas de juego más adecuados en función del número de equipos inscritos en cada categoría.\n8.- Se jugarán dos partidas diarias a las 16:30 horas la primera y a las 18:30 la segunda.\n9.- El ritmo de juego será de 30 minutos de tiempo total con treinta segundos de incremento por jugada efectuada\, por jugador y durante toda la partida.\n10.- El número de tableros a los que se disputarán los encuentros es de cuatro para ambas categorías.\n11.- La puntuación en todas las categorías será 2\, 1\, 0\, según se haya ganado\, empatado o perdido el encuentro al sumar los resultados individuales.\n12.- La inscripción será realizada por los clubes y el plazo de inscripción finalizará el miércoles 18 de septiembre a las 19:00. Una vez finalizado el plazo de inscripción se remitirá la lista de inscritos a los clubes\, que tendrán hasta el jueves 19 de septiembre a las 19:00 para subsanar posibles errores.\n16.- Para todo aquello no recogido en esta circular será de aplicación el capítulo 11 del reglamento general de competiciones\, “Campeonatos de Equipos”. \n  \n\n 
URL:https://www.mieres.es/evento/campeonato-de-asturias-de-ajedrez-por-equipos-2024-sub12-y-sub18-3/
LOCATION:Mieres Centru Cultural\, Calle Jerónimo Ibrán\, 10\, Mieres\, Asturias\, 33600
CATEGORIES:Deportes
ATTACH;FMTTYPE=image/jpeg:https://www.mieres.es/wp-content/uploads/2024/09/ajedrez.jpg
END:VEVENT
END:VCALENDAR