BEGIN:VCALENDAR
VERSION:2.0
PRODID:-//Ayuntamiento de Mieres - ECPv5.16.1.1//NONSGML v1.0//EN
CALSCALE:GREGORIAN
METHOD:PUBLISH
X-WR-CALNAME:Ayuntamiento de Mieres
X-ORIGINAL-URL:https://www.mieres.es
X-WR-CALDESC:Eventos para Ayuntamiento de Mieres
BEGIN:VTIMEZONE
TZID:Europe/Madrid
BEGIN:DAYLIGHT
TZOFFSETFROM:+0100
TZOFFSETTO:+0200
TZNAME:CEST
DTSTART:20240331T010000
END:DAYLIGHT
BEGIN:STANDARD
TZOFFSETFROM:+0200
TZOFFSETTO:+0100
TZNAME:CET
DTSTART:20241027T010000
END:STANDARD
END:VTIMEZONE
BEGIN:VEVENT
DTSTART;TZID=Europe/Madrid:20241016T200000
DTEND;TZID=Europe/Madrid:20241016T200000
DTSTAMP:20260422T013831
CREATED:20240926T115913Z
LAST-MODIFIED:20240926T120200Z
UID:70654-1729108800-1729108800@www.mieres.es
SUMMARY:IX Encuentro de Blogueros y RRSS de Montaña. José Antonio Jar López (Jar): “La Dama Blanca. Invierno en las montañas de Asturias"
DESCRIPTION:IX Encuentro de Blogueros y RRSS de Montaña \n\n“La Dama Blanca. Invierno en las montañas de Asturias”\npor José Antonio Jar López (Jar)\n  \nMiércoles 16 de octubre\, 20:00 h\nAuditorio Teodoro Cuesta\n \n  \nEntrada libre hasta completar aforo
URL:https://www.mieres.es/evento/ix-encuentro-de-blogueros-y-rrss-de-montana-jose-antonio-jar-lopez-jar-la-dama-blanca-invierno-en-las-montanas-de-asturias/
LOCATION:Casa de Cultura Teodoro Cuesta\, Calle Manuel Llaneza\, 8\, Mieres\, Asturias\, 33600\, España
CATEGORIES:Deportes
ATTACH;FMTTYPE=image/jpeg:https://www.mieres.es/wp-content/uploads/2024/09/jornadas-blogs-y-rrss-montana-2024.jpg
GEO:43.2502294;-5.7729571
X-APPLE-STRUCTURED-LOCATION;VALUE=URI;X-ADDRESS=Casa de Cultura Teodoro Cuesta Calle Manuel Llaneza 8 Mieres Asturias 33600 España;X-APPLE-RADIUS=500;X-TITLE=Calle Manuel Llaneza\, 8:geo:-5.7729571,43.2502294
END:VEVENT
END:VCALENDAR