BEGIN:VCALENDAR
VERSION:2.0
PRODID:-//Ayuntamiento de Mieres - ECPv5.16.1.1//NONSGML v1.0//EN
CALSCALE:GREGORIAN
METHOD:PUBLISH
X-WR-CALNAME:Ayuntamiento de Mieres
X-ORIGINAL-URL:https://www.mieres.es
X-WR-CALDESC:Eventos para Ayuntamiento de Mieres
BEGIN:VTIMEZONE
TZID:Europe/Madrid
BEGIN:DAYLIGHT
TZOFFSETFROM:+0100
TZOFFSETTO:+0200
TZNAME:CEST
DTSTART:20240331T010000
END:DAYLIGHT
BEGIN:STANDARD
TZOFFSETFROM:+0200
TZOFFSETTO:+0100
TZNAME:CET
DTSTART:20241027T010000
END:STANDARD
END:VTIMEZONE
BEGIN:VEVENT
DTSTART;VALUE=DATE:20241109
DTEND;VALUE=DATE:20241110
DTSTAMP:20260422T001544
CREATED:20241029T131803Z
LAST-MODIFIED:20241029T131803Z
UID:71468-1731110400-1731196799@www.mieres.es
SUMMARY:Automodelismo: Campeonato de España de Radiocontrol 2024
DESCRIPTION:Automodelismo \nCampeonato de España de Radiocontrol 2024\nMieres\nSábado 9 y domingo 10 de noviembre \nHorarios:\nSábado\, de 10:00 a 20:00h\nDomingo\, de 10:00 a 17:00h \nRecinto Ferial de Santuyano \n\n\n\n  \nCompetición de coches de radiocontrol eléctricos de escala 1:10\, en la categoría de Todoterreno para las modalidades de tracción trasera (2WD)y tracción total (4WD)\, puntuable para el campeonato de España y a la que asistirán más de 100 pilotos de alto nivel\, tanto del panorama nacional como internacional (Europa)\, entre los que se encuentran varios cuyo palmarés incluye victorias en campeonatos Europeos y Mundiales. \nEste año además contaremos con una exhibición de Drift Rc durante el Sábado . \nOrganizado por: Automodelismo Club Mieres \n 
URL:https://www.mieres.es/evento/automodelismo-campeonato-de-espana-de-radiocontrol-2024/
LOCATION:Recinto Ferial de Santuyano
CATEGORIES:Deportes
ATTACH;FMTTYPE=image/jpeg:https://www.mieres.es/wp-content/uploads/2024/10/cpto-espana-radiocontrol-mieres-2024-cartel.jpg
END:VEVENT
END:VCALENDAR