BEGIN:VCALENDAR
VERSION:2.0
PRODID:-//Ayuntamiento de Mieres - ECPv5.16.1.1//NONSGML v1.0//EN
CALSCALE:GREGORIAN
METHOD:PUBLISH
X-WR-CALNAME:Ayuntamiento de Mieres
X-ORIGINAL-URL:https://www.mieres.es
X-WR-CALDESC:Eventos para Ayuntamiento de Mieres
BEGIN:VTIMEZONE
TZID:Europe/Madrid
BEGIN:DAYLIGHT
TZOFFSETFROM:+0100
TZOFFSETTO:+0200
TZNAME:CEST
DTSTART:20240331T010000
END:DAYLIGHT
BEGIN:STANDARD
TZOFFSETFROM:+0200
TZOFFSETTO:+0100
TZNAME:CET
DTSTART:20241027T010000
END:STANDARD
END:VTIMEZONE
BEGIN:VEVENT
DTSTART;VALUE=DATE:20241228
DTEND;VALUE=DATE:20241229
DTSTAMP:20260421T225152
CREATED:20241223T111923Z
LAST-MODIFIED:20241223T111923Z
UID:72326-1735344000-1735430399@www.mieres.es
SUMMARY:IV Feria del Deporte. Mieres 2024
DESCRIPTION:IV Feria del Deporte \n27\, 28 y 29 de diciembre de 2024 \n  \n\nPatio de los Colegios Liceo Mierense-Aniceto Sela\nOrganiza: Asociación de Clubes Deportivos de Mieres
URL:https://www.mieres.es/evento/iv-feria-del-deporte-mieres-2024-2/
LOCATION:Patio colegio Liceo/Aniceto Sela\, Colegio Público Liceo Mierense\, Mieres\, Asturias\, 33600 
CATEGORIES:Deportes
ATTACH;FMTTYPE=image/jpeg:https://www.mieres.es/wp-content/uploads/2024/12/feria-deporte-mieres-2024.jpg
GEO:43.249719;-5.7785282
X-APPLE-STRUCTURED-LOCATION;VALUE=URI;X-ADDRESS=Patio colegio Liceo/Aniceto Sela Colegio Público Liceo Mierense Mieres Asturias 33600;X-APPLE-RADIUS=500;X-TITLE=Colegio Público Liceo Mierense:geo:-5.7785282,43.249719
END:VEVENT
BEGIN:VEVENT
DTSTART;TZID=Europe/Madrid:20241228T100000
DTEND;TZID=Europe/Madrid:20241228T100000
DTSTAMP:20260421T225152
CREATED:20241122T084629Z
LAST-MODIFIED:20250103T115747Z
UID:71781-1735380000-1735380000@www.mieres.es
SUMMARY:San Silvestre BTT. Mieres 2024
DESCRIPTION:San Silvestre\nMieres 2024\n28 de diciembre de 2024 • 10:00h.\nSalida y llegada en la Plaza del Ayuntamiento de Mieres\n \nEl recorrido transcurre por la zona del monte Llosorio y el valle de Cuna \n  \nDistancia: 21km. • Desnivel: 650m. de desnivel positivo• Dificultad: Media\nLa prueba tendrá avituallamientos en dos zonas • Prueba no competitiva \nInscripciones online a través de la plataforma  https://inscripciones.empa-t.com/ \nPrecio: 15€ (incluido seguro) \nOrganizan: Desafío Carbón y Concejalía de Deportes \n\n  \n\n\n\n 
URL:https://www.mieres.es/evento/san-silvestre-btt-mieres-2024/
LOCATION:Plaza del Ayuntamiento\, Plaza de la Constitución s/n\, Mieres\, 33600
CATEGORIES:Deportes
ATTACH;FMTTYPE=image/jpeg:https://www.mieres.es/wp-content/uploads/2024/11/san-silvestre-btt-mieres-2024.jpeg
GEO:43.2489616;-5.7726903
X-APPLE-STRUCTURED-LOCATION;VALUE=URI;X-ADDRESS=Plaza del Ayuntamiento Plaza de la Constitución s/n Mieres 33600;X-APPLE-RADIUS=500;X-TITLE=Plaza de la Constitución s/n:geo:-5.7726903,43.2489616
END:VEVENT
BEGIN:VEVENT
DTSTART;TZID=Europe/Madrid:20241228T170000
DTEND;TZID=Europe/Madrid:20241228T170000
DTSTAMP:20260421T225152
CREATED:20241213T110525Z
LAST-MODIFIED:20241231T102513Z
UID:72174-1735405200-1735405200@www.mieres.es
SUMMARY:XXX San Silvestre Villa de Mieres 2024
DESCRIPTION:Inscripciones\nA través de la plataforma www.321go.es \nInscripción gratuita para categorías de chupetines a cadetes. Resto de categorías  5€ . Incluye seguro y chip \n  \nHorario y lugar de la prueba \nC/ Ramón y Cajal\, frente al Ayuntamiento de Mieres.\nInicio: 17:00 horas para las pruebas menores. A continuación prueba adultos. Cierre meta: 20:30 horas \n(Las diferentes carreras se irán celebrando al acabar la anterior. Empezamos a las 17:00 con chupetines. La carrera de los mayores (de juveniles a veteranos)\, comenzará al finalizar la de cadetes. Antes de la misma se dejarán 10 minutos para realizar el calentamiento previo.) \n  \nRecogida de dorsal \n\n\n\n\nDía 27/12/2024 en la FERIA DEL DEPORTE DE MIERES (PATIO DEL COLEGIO LICEO DE MIERES de 17:00 a 20:00 horas.\nDía 28/12/2024 en LÍNEA DE SALIDA hasta 1 hora antes del comienzo de la prueba.\n\nCategorías \n\n\nChupetines m/f 2020-21-22-23-24\nMini-benjamín m/f 2017-2018-2019\nBenjamines m/f 2015-2016\nAlevines m/f 2013-2014\nInfantiles m/f 2011-2012\nCadetes m/f 2009-2010\nJuveniles m/f 2007-2008\nSenior m/f de 18 hasta 34 años\nVeteranos/as A 35 a 40 años\nVeteranos/as B 41 a 45 años\nVeteranos/as C 46 a 50 años\nVeteranos/as D 51 a 55 años\nVeteranos/as E 56 a 60 años\nVeteranos/as F 61 a 65 años\nVeteranos/as G más de 66 años\n\n  \nRECORRIDO  2.500 METROS (2 vueltas\, total 5.000 mts) \nSALIDA EN C/RAMON Y CAJAL FRENTE AYUNTAMIENTO (Plaza de la Constitución\, dirección Bario Bazuelo) – BARRIO BAZUELO – GIRO A LA DERECHA POR BARRIO BAZUELO PARA CONTINUAR DETRÁS DEL EDIFICIO DE LA UNIVERSIDAD HASTA CALLE RECTOR JULIO RODRÍGUEZ – GIRO IZQUIERDA EN CALLE RECTOR JULIO RODRÍGUEZ – GIRO A LA DERECHA EN CALLE GONZALO GUTIERREZ QUIRÓS – EN ROTONDA DE FRENTE POR CALLE VALERIANO MIRANDA – GIRO A LA DERECHA PARA TOMAR CALLE LEOPOLDO ALAS CLARIN-GIRO A LA DERECHA EN C/RAMON Y CAJAL LINEA DE META FRENTE A LA PLAZA DE LA CONSTITUCIÓN \n \nServicios sanitarios \n-La prueba dispondrá de servicio médico y ambulancias\, para cubrir el desarrollo de la carrera y la llegada. \nControl de bebidas \n-En la línea de meta\, los atletas dispondrán de bebidas para una buena recuperación de las reservas energéticas perdidas durante la carrera. \nCarteles indicadores \n-Cada Kilómetro estará jalonado con un cartel que indicará a los participantes la distancia recorrida. \n\nPremios\nSe establecen los siguientes premios:\n– Premio en metálico (a partir de senior inclusive) al campeón/a de la carrera (150€) y 3 primeros/as de cada categoría (60€\, 40€\, 30€). Los campeones de la general no podrán repetir el premio en metálico de su categoría.\n-Vale equivalente a los premios en metálico para l@s tres primer@s juveniles\, para comprar ropa deportiva.\n-Trofeo a la 1º y 1er clasificado de la general.\n-Trofeo a los tres primeros de cada categoría.\n-Medalla conmemorativa de chupetín a cadetes.\n-Sorteo de regalos \n\n\nDescargar Reglamento de la Carrera (PDF)
URL:https://www.mieres.es/evento/xxx-san-silvestre-villa-de-mieres-2024/
LOCATION:Plaza del Ayuntamiento\, Plaza de la Constitución s/n\, Mieres\, 33600
CATEGORIES:Deportes
ATTACH;FMTTYPE=image/jpeg:https://www.mieres.es/wp-content/uploads/2024/12/san-silvestre-2024.jpg
ORGANIZER;CN="Club%20Atletismo%20Mieres":MAILTO:atletismomieres@hotmail.com
GEO:43.2489616;-5.7726903
X-APPLE-STRUCTURED-LOCATION;VALUE=URI;X-ADDRESS=Plaza del Ayuntamiento Plaza de la Constitución s/n Mieres 33600;X-APPLE-RADIUS=500;X-TITLE=Plaza de la Constitución s/n:geo:-5.7726903,43.2489616
END:VEVENT
END:VCALENDAR