BEGIN:VCALENDAR
VERSION:2.0
PRODID:-//Ayuntamiento de Mieres - ECPv5.16.1.1//NONSGML v1.0//EN
CALSCALE:GREGORIAN
METHOD:PUBLISH
X-WR-CALNAME:Ayuntamiento de Mieres
X-ORIGINAL-URL:https://www.mieres.es
X-WR-CALDESC:Eventos para Ayuntamiento de Mieres
BEGIN:VTIMEZONE
TZID:Europe/Madrid
BEGIN:DAYLIGHT
TZOFFSETFROM:+0100
TZOFFSETTO:+0200
TZNAME:CEST
DTSTART:20250330T010000
END:DAYLIGHT
BEGIN:STANDARD
TZOFFSETFROM:+0200
TZOFFSETTO:+0100
TZNAME:CET
DTSTART:20251026T010000
END:STANDARD
END:VTIMEZONE
BEGIN:VEVENT
DTSTART;TZID=Europe/Madrid:20250224T200000
DTEND;TZID=Europe/Madrid:20250224T200000
DTSTAMP:20260421T184705
CREATED:20250207T121314Z
LAST-MODIFIED:20250207T121705Z
UID:72713-1740427200-1740427200@www.mieres.es
SUMMARY:XXXVII Xornaes de Montaña de Mieres:  "Un proyecto de cooperación en Pakistán"\, por Fundación SaraBastall
DESCRIPTION:XXXVII Xornaes de Montaña de Mieres \n  \n“Un proyecto de cooperación en Pakistán”\npor Fundación SaraBastall\n  \nAuditorio Teodoro Cuesta \nEntrada libre hasta completar aforo \n\n  \nLa Fundación Sarabastall llegó al Valle de Hushé seducido por la propuesta de Sebastián Álvaro\, creador de “Al Filo de lo Imposible”\, e inspirados por la figura de Abdul Karim\, el mejor porteador de altura. \nEl primer proyecto se realizó entre los años 2001-2011\, en Hushé\, una aldea tan hermosa como pobre. La última población habitada\, puerta de acceso a los campos base de montañas de 8.000 metros. Un lugar agreste y salvaje\, donde todo es grande\, pero en el que la vida es dura y exigente. Algo más de 1.000 habitantes que sobreviven gracias al porteo de los hombres y al compromiso con la vida de sus mujeres. \nA partir de 2011 los proyectos de cooperación forman una red solidaria que trata de entretejer a todos los pueblos del valle: Hushé\, Kande\, Tallis\, Mazigon… buscando despertar en ellos el deseo de una mayor calidad de vida y un futuro más esperanzador para sus hijos. La mejora de la educación\, la sanidad\, la agricultura y la sostenibilidad son las hebras que tejerán un mañana mejor para todos. \n  \n  \nLa montaña y el deporte vuelve un año más a su tradicional cita en Mieres con las XXXVII Jornadas de Montaña que\, en esta edición se celebrarán a lo largo de la última semana de febrero con un programa completo que incluye proyecciones\, charlas y coloquios\,  junto con nuevas actividades como un curso de iniciación a la escalada\, un curso de técnica MTB o un taller mecánico MTB. El ciclo se completa con una exposición que repasará la historia de estas Jornadas a través de su cartelería\, junto con fotografías y otros materiales recopilados de la etapa 1989-2006\, en la que el fallecido José Luis Santos (Lupas) era su principal impulsor. El acto de inauguración de la misma servirá para rendirle un sentido homenaje. \nLas Jornadas de Montaña de Mieres volverán a convertirse un año más en espacio de divulgación\, conocimiento y encuentro para montañeros y montañeras profesionales\, personas aficionadas y amantes de la naturaleza y el deporte. \nCorreo electrónico para inscripciones en las actividades: patronato@ayto-mieres.es \n 
URL:https://www.mieres.es/evento/xxxvii-xornaes-de-montana-de-mieres-un-proyecto-de-cooperacion-en-pakistan-por-fundacion-sarabastall/
LOCATION:Casa de Cultura Teodoro Cuesta\, Calle Manuel Llaneza\, 8\, Mieres\, Asturias\, 33600\, España
CATEGORIES:Deportes
ATTACH;FMTTYPE=image/jpeg:https://www.mieres.es/wp-content/uploads/2025/02/cartel-jornadas-montana-mieres-2025.jpg
GEO:43.2502294;-5.7729571
X-APPLE-STRUCTURED-LOCATION;VALUE=URI;X-ADDRESS=Casa de Cultura Teodoro Cuesta Calle Manuel Llaneza 8 Mieres Asturias 33600 España;X-APPLE-RADIUS=500;X-TITLE=Calle Manuel Llaneza\, 8:geo:-5.7729571,43.2502294
END:VEVENT
END:VCALENDAR