BEGIN:VCALENDAR
VERSION:2.0
PRODID:-//Ayuntamiento de Mieres - ECPv5.16.1.1//NONSGML v1.0//EN
CALSCALE:GREGORIAN
METHOD:PUBLISH
X-WR-CALNAME:Ayuntamiento de Mieres
X-ORIGINAL-URL:https://www.mieres.es
X-WR-CALDESC:Eventos para Ayuntamiento de Mieres
BEGIN:VTIMEZONE
TZID:Europe/Madrid
BEGIN:DAYLIGHT
TZOFFSETFROM:+0100
TZOFFSETTO:+0200
TZNAME:CEST
DTSTART:20250330T010000
END:DAYLIGHT
BEGIN:STANDARD
TZOFFSETFROM:+0200
TZOFFSETTO:+0100
TZNAME:CET
DTSTART:20251026T010000
END:STANDARD
END:VTIMEZONE
BEGIN:VEVENT
DTSTART;TZID=Europe/Madrid:20250225T200000
DTEND;TZID=Europe/Madrid:20250225T200000
DTSTAMP:20260421T184705
CREATED:20250207T123351Z
LAST-MODIFIED:20250207T123351Z
UID:72717-1740513600-1740513600@www.mieres.es
SUMMARY:XXXVII Xornaes de Montaña de Mieres:  "Alta ruta Pajares-Fuentes de Invierno"\, por Joaquín Álvarez Sánchez
DESCRIPTION:XXXVII Xornaes de Montaña de Mieres \n  \n“Alta ruta Pajares-Fuentes de Invierno”\npor Joaquín Álvarez Sánchez\n  \nAuditorio Teodoro Cuesta \nEntrada libre hasta completar aforo \n\n  \nPara los amantes de las travesías de esquí de montaña que buscan unir cumbres\, collados y extensos valles\, la travesía que va desde la Colegiata de Santa María de Arbas en la provincia de León\, hasta La Raya en Asturias\, es una opción que no defrauda a los amantes de las grandes travesías\, si la nieve lo permite. \nRealizada en dos jornadas\, con pernocta en el refugio libre del puerto de Piedrafita\, esta alta ruta nos introduce en la belleza agreste de la Cordillera Cantábrica\, con sus paisajes cambiantes y su rica biodiversidad. \nJoaquín Álvarez Sánchez “Xuacu” es Guía de Montaña Profesional titulado en las especialidades de Alta Montaña\, Escalada y Esquí alpino. \n  \n  \nLa montaña y el deporte vuelve un año más a su tradicional cita en Mieres con las XXXVII Jornadas de Montaña que\, en esta edición se celebrarán a lo largo de la última semana de febrero con un programa completo que incluye proyecciones\, charlas y coloquios\,  junto con nuevas actividades como un curso de iniciación a la escalada\, un curso de técnica MTB o un taller mecánico MTB. El ciclo se completa con una exposición que repasará la historia de estas Jornadas a través de su cartelería\, junto con fotografías y otros materiales recopilados de la etapa 1989-2006\, en la que el fallecido José Luis Santos (Lupas) era su principal impulsor. El acto de inauguración de la misma servirá para rendirle un sentido homenaje. \nLas Jornadas de Montaña de Mieres volverán a convertirse un año más en espacio de divulgación\, conocimiento y encuentro para montañeros y montañeras profesionales\, personas aficionadas y amantes de la naturaleza y el deporte. \nCorreo electrónico para inscripciones en las actividades: patronato@ayto-mieres.es \n 
URL:https://www.mieres.es/evento/xxxvii-xornaes-de-montana-de-mieres-alta-ruta-pajares-fuentes-de-invierno-por-joaquin-alvarez-sanchez/
LOCATION:Casa de Cultura Teodoro Cuesta\, Calle Manuel Llaneza\, 8\, Mieres\, Asturias\, 33600\, España
CATEGORIES:Deportes
ATTACH;FMTTYPE=image/jpeg:https://www.mieres.es/wp-content/uploads/2025/02/cartel-jornadas-montana-mieres-2025.jpg
GEO:43.2502294;-5.7729571
X-APPLE-STRUCTURED-LOCATION;VALUE=URI;X-ADDRESS=Casa de Cultura Teodoro Cuesta Calle Manuel Llaneza 8 Mieres Asturias 33600 España;X-APPLE-RADIUS=500;X-TITLE=Calle Manuel Llaneza\, 8:geo:-5.7729571,43.2502294
END:VEVENT
END:VCALENDAR