BEGIN:VCALENDAR
VERSION:2.0
PRODID:-//Ayuntamiento de Mieres - ECPv5.16.1.1//NONSGML v1.0//EN
CALSCALE:GREGORIAN
METHOD:PUBLISH
X-WR-CALNAME:Ayuntamiento de Mieres
X-ORIGINAL-URL:https://www.mieres.es
X-WR-CALDESC:Eventos para Ayuntamiento de Mieres
BEGIN:VTIMEZONE
TZID:Europe/Madrid
BEGIN:DAYLIGHT
TZOFFSETFROM:+0100
TZOFFSETTO:+0200
TZNAME:CEST
DTSTART:20250330T010000
END:DAYLIGHT
BEGIN:STANDARD
TZOFFSETFROM:+0200
TZOFFSETTO:+0100
TZNAME:CET
DTSTART:20251026T010000
END:STANDARD
END:VTIMEZONE
BEGIN:VEVENT
DTSTART;VALUE=DATE:20250315
DTEND;VALUE=DATE:20250316
DTSTAMP:20260421T184723
CREATED:20250312T124057Z
LAST-MODIFIED:20250318T105843Z
UID:73267-1741996800-1742083199@www.mieres.es
SUMMARY:Agenda deportiva fin de semana (15/16MAR2025)
DESCRIPTION:  \n \n\n\n\n15/03/2025\n18:00h.\nBOLERA DE TURON\n2º CATEGORIA\nS.B. TURONESA – V.NOREÑA\n\n\n\n  \n  \n \n\n\n\n13/03/2025\n18:00h.\nPOLIDEPORTIVO SUR\nJJDD INFANTIL MASCULINO\nCOLEGIO LASTRA B – COLEGIO LASTRA A\n\n\n14/03/2025\n20:00h.\nPOLIDEPORTIVO UJO\nJJDD CADETE MASCULINO\nMIERESALA I.E.S. SANCHEZ LASTRA – I.E.S. ASTURES- LA FRESNEDA\n\n\n\n\n\n\n\n\n\n15/03/2025\n10:15h.\nPOLIDEPORTIVO UJO\nJJDD PREBENJAMIN\nMIERESALA AZUL – C.P. TEODORO CUESTA – AMPA CABAÑAQUINTA\n\n\n15/03/2025\n10:30h.\nPOLIDEPORTIVO DE OÑON\n3º BENJAMIN\nCAUDAL DEPORTIVO B – C.D. ROMANÓN E\n\n\n15/03/2025\n10:30h.\nPOLIDEPORTIVO SUR\n3º BENJAMIN\nRACING DE MIERES B – S.D. LENENSE PROINASTUR A\n\n\n15/03/2025\n11:15h.\nPOLIDEPORTIVO UJO\nJJDD BENJAMIN MIXTO\nMIERESALA AMARILLO C.P. TEODORO CUESTA – C.P. SANTIAGO APOSTOL\n\n\n15/03/2025\n11:45h.\nPOLIDEPORTIVO SUR\n3º PREBENJAMIN\nRACING DE MIERES A – CONDAL C.F. C\n\n\n15/03/2025\n12:00h.\nPOLIDEPORTIVO DE OÑON\n1º PREBENJAMIN\nCAUDAL DEPORTIVO A – C.D.N. SRA COVANDONGA ROCES A\n\n\n15/03/2025\n12:15h.\nPOLIDEPORTIVO UJO\nJJDD BENJAMIN ALEVIN FEMENINO\nMIERESALA C.P. TEODORO CUESTA – ANICETO SELA FEMENINO\n\n\n15/03/2025\n12:50h.\nPOLIDEPORTIVO SUR\nJJDD ALEVIN MIXTO\nAMPA ANICETO B – C.D. GIJON PLAYAS B\n\n\n15/03/2025\n13:30h.\nPOLIDEPORTIVO DE OÑON\n3º PREBENJAMIN\nCAUDAL DEPORTIVO C – U.P. LANGREO C\n\n\n15/03/2025\n14:00h.\nPOLIDEPORTIVO SUR\nJJDD ALEVIN MIXTO\nAMPA ANICETO C – C.P. TEODORO CUESTA\n\n\n15/03/2025\n19:00h.\nPOLIDEPORTIVO DE OÑON\n2º ASTURFUTSAL\nMIERESALA A – RACING DE MIERES B\n\n\n\n  \n \n\n\n\n15/03/2025\n10:00h.\nPOLIDEPORTIVO DE FIGAREDO\nCADETE MASCULINO\nC.D.CREIMI – R.G.C. COVADONGA\n\n\n15/03/2025\n13:00h.\nPOLIDEPORTIVO DE FIGAREDO\nCADETE FEMENINO\nC.D. CREIMI B – C. SAN IGNACIO B\n\n\n\n  \n\n \n \n  \n \n 
URL:https://www.mieres.es/evento/agenda-deportiva-fin-de-semana-15-16mar2025/
LOCATION:Varias ubicaciones
CATEGORIES:Deportes
ATTACH;FMTTYPE=image/jpeg:https://www.mieres.es/wp-content/uploads/2025/03/agenda-deportiva-web.jpg
END:VEVENT
END:VCALENDAR