BEGIN:VCALENDAR
VERSION:2.0
PRODID:-//Ayuntamiento de Mieres - ECPv5.16.1.1//NONSGML v1.0//EN
CALSCALE:GREGORIAN
METHOD:PUBLISH
X-WR-CALNAME:Ayuntamiento de Mieres
X-ORIGINAL-URL:https://www.mieres.es
X-WR-CALDESC:Eventos para Ayuntamiento de Mieres
BEGIN:VTIMEZONE
TZID:Europe/Madrid
BEGIN:DAYLIGHT
TZOFFSETFROM:+0100
TZOFFSETTO:+0200
TZNAME:CEST
DTSTART:20250330T010000
END:DAYLIGHT
BEGIN:STANDARD
TZOFFSETFROM:+0200
TZOFFSETTO:+0100
TZNAME:CET
DTSTART:20251026T010000
END:STANDARD
END:VTIMEZONE
BEGIN:VEVENT
DTSTART;VALUE=DATE:20250418
DTEND;VALUE=DATE:20250419
DTSTAMP:20260421T172008
CREATED:20250410T114616Z
LAST-MODIFIED:20250410T114616Z
UID:73637-1744934400-1745020799@www.mieres.es
SUMMARY:Torneo Internacional de Hockey sobre patines -base-. 70 Aniversario Club Patín Mieres (17/20ABR)
DESCRIPTION:HOCKEY SOBRE PATINES \nTORNEO INTERNACIONAL HOCKEY BASE\n70 ANIVERSARIO DEL CLUB PATÍN MIERES\nPabellón Visiola Rollán\n17 al 20 de abril de 2025 \n\n 
URL:https://www.mieres.es/evento/torneo-internacional-de-hockey-sobre-patines-base-70-aniversario-club-patin-mieres-17-20abr-2/
LOCATION:Pabellón Visiola Rollán\, Calle Llanes s/n\, Mieres\, Asturias\, 33600\, España
CATEGORIES:Deportes
ATTACH;FMTTYPE=image/jpeg:https://www.mieres.es/wp-content/uploads/2025/04/torneo-70-aniversario-club-patin-mieres_cartel-web.jpg
GEO:43.2576447;-5.7801748
X-APPLE-STRUCTURED-LOCATION;VALUE=URI;X-ADDRESS=Pabellón Visiola Rollán Calle Llanes s/n Mieres Asturias 33600 España;X-APPLE-RADIUS=500;X-TITLE=Calle Llanes s/n:geo:-5.7801748,43.2576447
END:VEVENT
BEGIN:VEVENT
DTSTART;VALUE=DATE:20250418
DTEND;VALUE=DATE:20250419
DTSTAMP:20260421T172008
CREATED:20250415T100306Z
LAST-MODIFIED:20250415T100501Z
UID:73704-1744934400-1745020799@www.mieres.es
SUMMARY:Agenda deportiva fin de semana (17/20ABR2025)
DESCRIPTION:  \n\n \n  \n\n\n\n17/04/2025\n17:30h\nPABELLON VISIOLA ROLLÁN\nBENJAMIN\nF.C. PORTO – C.P. MIERES\n\n\n17/04/2025\n18:45h\nPABELLON VISIOLA ROLLÁN\nINFANTIL\nF.C. PORTO – C.P. MIERES\n\n\n17/04/2025\n19:00h\nPABELLON VISIOLA ROLLÁN\nJUVENIL\nF.C. PORTO – C.P. MIERES\n\n\n18/04/2025\n09:30h\nPABELLON VISIOLA ROLLÁN\nBENJAMIN\nC.A.O – C.E. NOIA\n\n\n18/04/2025\n10:30h\nPABELLON VISIOLA ROLLÁN\nINFANTIL\nF.C. PORTO – C.E. NOIA\n\n\n18/04/2025\n11:45h\nPABELLON VISIOLA ROLLÁN\nALEVÍN\nC.P. MIERES – C.E. NOIA A\n\n\n18/04/2025\n12:45h\nPABELLON VISIOLA ROLLÁN\nJUVENIL\nC.E. NOIA A – C.E. NOIA B\n\n\n18/04/2025\n14:00h\nPABELLON VISIOLA ROLLÁN\nINFANTIL\nSEL. ASTURIAS – F.C. PORTO\n\n\n18/04/2025\n16:00h\nPABELLON VISIOLA ROLLÁN\nBENJAMIN\nC.A.O. – F.C. PORTO\n\n\n18/04/2025\n17:00h\nPABELLON VISIOLA ROLLÁN\nJUVENIL\nC.E. NOIA A – F.C. PORTO\n\n\n18/04/2025\n18:15h\nPABELLON VISIOLA ROLLÁN\nALEVÍN\nC.E. NOIA A – C.E. NOIA B\n\n\n18/04/2025\n19:15h\nPABELLON VISIOLA ROLLÁN\nINFANTIL\nC.E. NOIA A – C.P. MIERES\n\n\n19/04/2025\n09:30h\nPABELLON VISIOLA ROLLÁN\nBENJAMIN\nC.P. MIERES – C.A.O\n\n\n19/04/2025\n10:30h\nPABELLON VISIOLA ROLLÁN\nJUVENIL\nC.E. NOIA B – F.C. PORTO\n\n\n19/04/2025\n11:45h\nPABELLON VISIOLA ROLLÁN\nBENJAMIN\nC.E. NOIA – F.C. PORTO\n\n\n19/04/2025\n12:45h\nPABELLON VISIOLA ROLLÁN\nINFANTIL\nTRES CANTOS PC – F.C. PORTO\n\n\n19/04/2025\n14:00h\nPABELLON VISIOLA ROLLÁN\nALEVÍN\nTRES CANTOS PC – C.E. NOIA A\n\n\n19/04/2025\n16:00h\nPABELLON VISIOLA ROLLÁN\nALEVÍN\nC.P. MIERES – C.E. NOIA B\n\n\n19/04/2025\n17:00h\nPABELLON VISIOLA ROLLÁN\nINFANTIL\nC.P. MIERES – TRES CANTOS PC\n\n\n19/04/2025\n18:15h\nPABELLON VISIOLA ROLLÁN\nJUVENIL\nC.P. MIERES – C.E. NOIA B\n\n\n19/04/2025\n19:30h\nPABELLON VISIOLA ROLLÁN\nALEVÍN\nC.P. MIERES – TRES CANTOS PC\n\n\n19/04/2025\n20:30h\nPABELLON VISIOLA ROLLÁN\nINFANTIL\nSEL. ASTURIAS – C.E. NOIA\n\n\n20/04/2025\n09:30h\nPABELLON VISIOLA ROLLÁN\nBENJAMIN\nC.P. MIERES – C.E. NOIA\n\n\n20/04/2025\n10:30h\nPABELLON VISIOLA ROLLÁN\nALEVÍN\nTRES CANTOS PC – C.E. NOIA B\n\n\n20/04/2025\n11:45h\nPABELLON VISIOLA ROLLÁN\nINFANTIL\nTRES CANTOS PC – C.E. NOIA\n\n\n20/04/2025\n12:45h\nPABELLON VISIOLA ROLLÁN\nJUVENIL\nC.P. MIERES – C.E. NOIA A\n\n\n20/04/2025\n14:00h\nPABELLON VISIOLA ROLLÁN\nJUVENIL\nSEL. ASTURIAS – C.E. NOIA B\n\n\n\n  \n  \n\n  \n  \n  \n \n  \n 
URL:https://www.mieres.es/evento/agenda-deportiva-fin-de-semana-17-20abr2025/2025-04-18/
LOCATION:Varias ubicaciones
CATEGORIES:Deportes
ATTACH;FMTTYPE=image/jpeg:https://www.mieres.es/wp-content/uploads/2025/03/agenda-deportiva-web.jpg
END:VEVENT
BEGIN:VEVENT
DTSTART;TZID=Europe/Madrid:20250418T110000
DTEND;TZID=Europe/Madrid:20250418T110000
DTSTAMP:20260421T172008
CREATED:20250402T112103Z
LAST-MODIFIED:20250402T112103Z
UID:73518-1744974000-1744974000@www.mieres.es
SUMMARY:I Laser Run de Mieres
DESCRIPTION:Prueba deportiva \nI LASER RUN de Mieres\n(Liga de clubs mixtos y prueba del circuito asturiano\, carrera-tiro-carrera)\n\nViernes\,  18 de abril de 2025\, a partir de las 11.00h.\nParque Aníbal Vázquez\n\n\n\n\n\nPrueba organizada por la Federación de Pentatlón Moderno del Principado de Asturias. Recibirán una medalla los 3 primeros clasificados de cada categoría\, en cuanto a las inscripciones\, para los federados asturianos serán gratuitas (resto federados a 5€).\n\nMás información: pentatlonmoderno@hotmail.com\nEl recorrido será por el Parque Aníbal Vázquez\n\n\n11:00H CALENTAMIENTO\n\n\n11:15H U9 U11 2X300 5 M APOYO\n\n\n11:30H U13 M60 3X300 5 M\n\n\n11:45H U15 3X600 5 M\n\n\n11:45H U 17 4X600 10 M\n\n\n12:00 H MASTER M40\, M50 3X600 10M\n\n\n12:30H U19 U22 SENIOR OPEN 5X600 10 M\n\n\n13:00H MIXTOS MENORES (2) 2X300 5M\n\n\n13:15H LIGA DE CLUBS (2) 3X 600 + 2 X 10 M\n\n\n\n  \n\n 
URL:https://www.mieres.es/evento/i-laser-run-de-mieres/
LOCATION:Parque Aníbal Vázquez\, Calle Hermanos González Peña s/n\, Mieres\, Asturias\, 33600\, España
CATEGORIES:Deportes
ATTACH;FMTTYPE=image/jpeg:https://www.mieres.es/wp-content/uploads/2025/04/Cartel-MIERES-25-laser-run.jpg
END:VEVENT
END:VCALENDAR