BEGIN:VCALENDAR
VERSION:2.0
PRODID:-//Ayuntamiento de Mieres - ECPv5.16.1.1//NONSGML v1.0//EN
CALSCALE:GREGORIAN
METHOD:PUBLISH
X-WR-CALNAME:Ayuntamiento de Mieres
X-ORIGINAL-URL:https://www.mieres.es
X-WR-CALDESC:Eventos para Ayuntamiento de Mieres
BEGIN:VTIMEZONE
TZID:Europe/Madrid
BEGIN:DAYLIGHT
TZOFFSETFROM:+0100
TZOFFSETTO:+0200
TZNAME:CEST
DTSTART:20250330T010000
END:DAYLIGHT
BEGIN:STANDARD
TZOFFSETFROM:+0200
TZOFFSETTO:+0100
TZNAME:CET
DTSTART:20251026T010000
END:STANDARD
END:VTIMEZONE
BEGIN:VEVENT
DTSTART;TZID=Europe/Madrid:20250429T163000
DTEND;TZID=Europe/Madrid:20250429T163000
DTSTAMP:20260421T154709
CREATED:20250402T120737Z
LAST-MODIFIED:20250402T120737Z
UID:73532-1745944200-1745944200@www.mieres.es
SUMMARY:Trofeo Internacional de Ajedrez Principado de Asturias 2025 (28ABR/4MAY)
DESCRIPTION:Ajedrez \nTrofeo Internacional de Ajedrez Principado de Asturias 2025\n28\, 29\, y 30 de abril. 1\, 2\, 3 y 4 de mayo\nA partir de las 10:00 y 16.30h. (consultar calendario de rondas) \nMieres Centru Cultural \n\nFechas: 28/04/2025 – 04/05/2025\nRitmo de juego: 90 minutes + 30 seconds per move\nNúmero de rondas: 9 \nCalendario: \n\n\nRonda 1: lunes 28 de abril a las 16:30h\n\n\nRonda 2: martes 29 de abril a las 10:00h\n\n\nRonda 3: martes 29 de abril 16:30h\n\n\nPartidas aplazadas: miércoles 30 de abril a las 10:00h\n\n\nRonda 4: miércoles 30 de abril 16:30h\n\n\nRonda 5: jueves 1 de mayo a las 10:00h\n\n\nRonda 6: jueves 1 de mayo 16:30h\n\n\nRonda 7: viernes 2 de mayo 16:30h\n\n\nRonda 8: sábado 3 de mayo a las 16:30h\n\n\nRonda 9: domingo 4 de mayo a las 10:00h\n\n\nListado alfabético de jugadores\n\n\n\nNo.\n\nNombre\nFIDE-ID\nFED\nFIDE\nClub/Ciudad\n\n\n1\nGM\nDel Rio De Angelis\, Salvador G.\n2203138\nESP\n2405\nSestao\n\n\n2\nGM\nDvirnyy\, Danyyil\n817570\nITA\n2488\nBarbera\n\n\n3\nIM\nGarrido Outon\, Alex\n24516279\nESP\n2450\nMagic\n\n\n4\nIM\nGusain\, Himal\n5033861\nIND\n2526\n\n\n\n5\n\nMiaoyi\, Lu IM\n8618020\nESP\n0\n\n\n\n6\nIM\nPrado Lobo\, Jonas\n32050666\nESP\n2353\nCiudad Naranco\n\n\n7\nFM\nSierra Vallina\, Lionel\n54559774\nESP\n2338\nCiudad Naranco\n\n\n8\nGM\nSzpar\, Milosz GM\n1184989\nESP\n2462\nCiudad Naranco\n\n\n9\nGM\nVazquez Igarza\, Renier\n3503054\nCUB\n2488\nCollado Villalba\n\n\n\nEl Reglamento del Campeonato de Asturias por Equipos se encuentra dentro del Reglamento General de Competiciones y puede consultarse en la página web: https://www.ajedrezastur.es/reglamentos/ \nActividades paralelas: \n\nCharlas con un gran maestro de ajedrez en colegios/ institutos 28 de abril\nClase magistral con un gran maestro de ajedrez 2 de mayo de 2025 10:30 a 13:30 en el Salón de Actos (acceso libre)\nExhibición de partidas simultaneas de ajedrez con un gran maestro\, 3 de mayo de 2025 10:30h en el Parque Jovellanos\n\n  \n Más información\nToda la información del torneo se publicará en la página web:\nhttps://www.ajedrezastur.es/trofeo-internacional-de-ajedrez-principado-de-asturias/ \n\n 
URL:https://www.mieres.es/evento/trofeo-internacional-de-ajedrez-principado-de-asturias-2025-28abr-4may/2025-04-29/
LOCATION:Mieres Centru Cultural\, Calle Jerónimo Ibrán\, 10\, Mieres\, Asturias\, 33600
CATEGORIES:Deportes
ATTACH;FMTTYPE=image/jpeg:https://www.mieres.es/wp-content/uploads/2025/04/CARTEL-AJEDREZ-torneo-abril-2025.jpg
END:VEVENT
END:VCALENDAR