BEGIN:VCALENDAR
VERSION:2.0
PRODID:-//Ayuntamiento de Mieres - ECPv5.16.1.1//NONSGML v1.0//EN
CALSCALE:GREGORIAN
METHOD:PUBLISH
X-WR-CALNAME:Ayuntamiento de Mieres
X-ORIGINAL-URL:https://www.mieres.es
X-WR-CALDESC:Eventos para Ayuntamiento de Mieres
BEGIN:VTIMEZONE
TZID:Europe/Madrid
BEGIN:DAYLIGHT
TZOFFSETFROM:+0100
TZOFFSETTO:+0200
TZNAME:CEST
DTSTART:20250330T010000
END:DAYLIGHT
BEGIN:STANDARD
TZOFFSETFROM:+0200
TZOFFSETTO:+0100
TZNAME:CET
DTSTART:20251026T010000
END:STANDARD
END:VTIMEZONE
BEGIN:VEVENT
DTSTART;VALUE=DATE:20250518
DTEND;VALUE=DATE:20250519
DTSTAMP:20260421T154545
CREATED:20250515T113914Z
LAST-MODIFIED:20250515T120454Z
UID:74159-1747526400-1747612799@www.mieres.es
SUMMARY:Agenda deportiva fin de semana (17/18MAY2025)
DESCRIPTION:  \n \n \n  \n\n\n\n17/05/2025\n09:30h.\nPOLIDEPORTIVO RIOTURBIO\nALEVIN MASCULINO\nB.V. MIERES IMPRENTA CERVANTES – COL. SANTA TERESA\n\n\n17/05/2025\n11:00h\nPOLIDEPORTIVO RIOTURBIO\nINFANTIL FEMENINO\nB.V. MIERES NATURCLIMA  – ADBA-SAN FER\n\n\n17/05/2025\n12:30h\nPOLIDEPORTIVO RIOTURBIO\nINFANTIL MASCULINO PLAY OFF ASCENSO A 1º\nB.V. MIERES CLINICA ORDIALES – CIRCULO GIJON A\n\n\n18/05/2025\n12:00h\nPOLIDEPORTIVO RIOTURBIO\nCOPA JUNMIOR MASCULINO\nB.V. MIERES MIANSI MODA  – CB L´ARBEYAL\n\n\n\n \n\n\n\n15/05/2025\n18:30h\nBOLERA DE TURON\n52º TORNEO DE BOLOS\nLA MUDRERA LIERES – S.B. TURONESA\n\n\n\n  \n \n\n\n\n17/05/2025\n10:15h\nELISEO GUTIERREZ ESPINA\n3º INFANTIL\nCAUDAL DEPORTIVO B – C.D. TURON A\n\n\n17/05/2025\n12:30h\nELISEO GUTIERREZ ESPINA\n2º ALEVIN\nCAUDAL DEPORTIVO C – CANICAS ATHLETIC CLUB A\n\n\n17/05/2025\n16:00h\nELISEO GUTIERREZ ESPINA\n2º CADETE LIGA AUTOMINESA ARTIME\nCAUDAL DEPORTIVO A – COLEGIO DE LA INMACULADA A\n\n\n18/05/2025\n12:30h\nELISEO GUTIERREZ ESPINA\n1 ºjuvenil\nCAUDAL DEPORTIVO A – C.D. LOS CAMPOS A\n\n\n\n  \n  \n \n\n\n\n17/05/2025\n10:15h.\nPOLIDEPORTIVO UJO\nJJDD PREBENJAMIN\nMIERESALA AMARILLO C.P TEODORO CUESTA – AMPA CABAÑAQUINTA\n\n\n17/05/2025\n10:30h.\nPOLIDEPORTIVO OÑON\n3 º BENJAMIN\nCAUDAL DEPORTIVO C – C.N. RIAÑO C.F. B\n\n\n17/05/2025\n11:00h.\nPOLIDEPORTIVO SUR\n3º PREBENJAMIN\nRACING DE MIERES A – LADA LANGREO C.F. B\n\n\n17/05/2025\n11:30h.\nPOLIDEPORTIVO UJO\nJJDD BENJAMIN ALEVIN FEMENINO\nMIERESALA C.P TEODORO CUESTA – C.D. OVIFEM\n\n\n17/05/2025\n12:00h\nPOLIDEPORTIVO OÑON\n2º BENJAMIN\nCAUDAL DEPORTIVO A – C.D. ROMANON B\n\n\n17/05/2025\n12:30h\nPOLIDEPORTIVO SUR\nFASE FINAL ALEVIN JJDD\nAMPA ANICETO B – POLA SOMIEDO F.S.\n\n\n17/05/2025\n12:45h\nPOLIDEPORTIVO UJO\nJJDD CADETE MASCULINO\nMIERESALA IES SANCHEZ LASTRA – I.E.S LA ERIA MONTEALTO\n\n\n17/05/2025\n13:30h\nPOLIDEPORTIVO OÑON\n3 º PREBENJAMIN\nCAUDAL DEPORTIVO C – U.P. LANGREO B\n\n\n17/05/2025\n18:30h\nPOLIDEPORTIVO OÑON\n2 º ASTURFUTSAL\nFUTSAL MIERES A – LUGONES RANGERS B\n\n\n\n  \n\n \n  \n 
URL:https://www.mieres.es/evento/agenda-deportiva-fin-de-semana-17-18may2025-2/
LOCATION:Varias ubicaciones
CATEGORIES:Agenda Deportiva,Deportes
ATTACH;FMTTYPE=image/jpeg:https://www.mieres.es/wp-content/uploads/2025/03/agenda-deportiva-web.jpg
END:VEVENT
BEGIN:VEVENT
DTSTART;TZID=Europe/Madrid:20250518T083000
DTEND;TZID=Europe/Madrid:20250518T083000
DTSTAMP:20260421T154545
CREATED:20250502T111316Z
LAST-MODIFIED:20250512T110602Z
UID:73942-1747557000-1747557000@www.mieres.es
SUMMARY:Trail Picu Llosorio 2025
DESCRIPTION:Carrera de montaña: \n\nTrail Picu Llosorio 2025\n\n  \n\nEl próximo 18 de Mayo de 2025 se celebrará en Mieres del Camín\, la cuarta edición de la carrera por montaña Trail Picu Llosorio. Dicha carrera dispondrá de tres distancias\, los Trail de 33 km y 23K\, en los que se ascenderá a la emblemática cumbre del Picu Llosorio situada a 1.004 m de altitud\, y un Speed Trail de 13 km. \nTendrá salida y meta en el Parque Xovellanos\, pasando también por las calles Aller y Manuel Llaneza hasta el Puente de La Perra cogiendo luego dirección Norte y dirección Siana. Todo el recorrido estará debidamente señalizado. \n  \nInformación e inscripciones en www.trailpicullosorio.com \n\n\n\n 
URL:https://www.mieres.es/evento/trail-picu-llosorio-2025/
LOCATION:Varios espacios\, Mieres\, Asturias\, 33600 
CATEGORIES:Deportes
ATTACH;FMTTYPE=image/jpeg:https://www.mieres.es/wp-content/uploads/2025/05/Cartel-trail-llosorio-2025.jpg
GEO:43.2491037;-5.7747551
END:VEVENT
END:VCALENDAR