BEGIN:VCALENDAR
VERSION:2.0
PRODID:-//Ayuntamiento de Mieres - ECPv5.16.1.1//NONSGML v1.0//EN
CALSCALE:GREGORIAN
METHOD:PUBLISH
X-WR-CALNAME:Ayuntamiento de Mieres
X-ORIGINAL-URL:https://www.mieres.es
X-WR-CALDESC:Eventos para Ayuntamiento de Mieres
BEGIN:VTIMEZONE
TZID:Europe/Madrid
BEGIN:DAYLIGHT
TZOFFSETFROM:+0100
TZOFFSETTO:+0200
TZNAME:CEST
DTSTART:20250330T010000
END:DAYLIGHT
BEGIN:STANDARD
TZOFFSETFROM:+0200
TZOFFSETTO:+0100
TZNAME:CET
DTSTART:20251026T010000
END:STANDARD
END:VTIMEZONE
BEGIN:VEVENT
DTSTART;TZID=Europe/Madrid:20250628T154500
DTEND;TZID=Europe/Madrid:20250628T154500
DTSTAMP:20260421T143224
CREATED:20250613T115806Z
LAST-MODIFIED:20250613T115925Z
UID:74715-1751125500-1751125500@www.mieres.es
SUMMARY:Reto Solidario Camino del Salvador 2025 (paso por Mieres)
DESCRIPTION:Carrera de resistencia: \n\nReto Solidario Camino del Salvador 2025\nMemorial Manuel Barros\n\n  \n\nSalida: Viernes 27 20:00h desde León (Plaza de la Catedral)\nLlegada: sábado 28 19:35h a Oviedo (Plaza de la Catedral) \nPaso por Mieres\, sábado 28\, 15:45h. \nReto promovido por la iniciativa ROBER CONRA EL CÁNCER\, a beneficio de la Fundación SEOM (Sociedad Española de Oncología Médica) \n\nEtapa / Salida\n– León 20:00\n– Carbajal 21:20\n– Cabanillas 23:00\n– La Robla 0:45\n– Beberino 2:30\n– Poladura 5:00\n– Pajares 7:30\n– Llanos de Somerón 9:15\n– Campomanes 11:30\n– Pola de Lena 13:45\n– Mieres 15:45\n– Olloniego 17:45\n– Oviedo 19:35 \n  \n\n\n\n 
URL:https://www.mieres.es/evento/reto-solidario-camino-del-salvador-2025-paso-por-mieres/
LOCATION:Varios espacios\, Mieres\, Asturias\, 33600 
CATEGORIES:Deportes
ATTACH;FMTTYPE=image/jpeg:https://www.mieres.es/wp-content/uploads/2025/06/reto-solidario-Leon-Oviedo-2025.jpg
GEO:43.2491037;-5.7747551
END:VEVENT
END:VCALENDAR